BEGIN:VCALENDAR
VERSION:2.0
PRODID:-//Universität Innsbruck//LFU:online//DE
METHOD:PUBLISH
BEGIN:VEVENT
UID:25S_845227_4723857@uibk.ac.at
ORGANIZER;CN="LFU:online Universität Innsbruck":MAILTO:Uni-Innsbruck-noreply@uibk.ac.at
SUMMARY:UE Hydraulik 1 (LV 845227-2 25S)
DESCRIPTION:Lehrveranstaltung 845227 25S, Gruppe 2\nTitel: UE Hydraulik 1\nOrt: HSB  1\n\nhttps://lfuonline.uibk.ac.at/public/lfuonline_lv.details?sem_id_in=25S&lvnr_id_in=845227\n
CLASS:PUBLIC
DTSTART:20250331T100000Z
DTEND:20250331T113000Z
DTSTAMP:20260423T111656Z
LOCATION:HSB  1
END:VEVENT
BEGIN:VEVENT
UID:25S_845227_4723858@uibk.ac.at
ORGANIZER;CN="LFU:online Universität Innsbruck":MAILTO:Uni-Innsbruck-noreply@uibk.ac.at
SUMMARY:UE Hydraulik 1 (LV 845227-2 25S)
DESCRIPTION:Lehrveranstaltung 845227 25S, Gruppe 2\nTitel: UE Hydraulik 1\nOrt: HSB  1\n\nhttps://lfuonline.uibk.ac.at/public/lfuonline_lv.details?sem_id_in=25S&lvnr_id_in=845227\n
CLASS:PUBLIC
DTSTART:20250407T100000Z
DTEND:20250407T113000Z
DTSTAMP:20260423T111656Z
LOCATION:HSB  1
END:VEVENT
BEGIN:VEVENT
UID:25S_845227_4723860@uibk.ac.at
ORGANIZER;CN="LFU:online Universität Innsbruck":MAILTO:Uni-Innsbruck-noreply@uibk.ac.at
SUMMARY:UE Hydraulik 1 (LV 845227-2 25S)
DESCRIPTION:Lehrveranstaltung 845227 25S, Gruppe 2\nTitel: UE Hydraulik 1\nOrt: HSB  1\n\nhttps://lfuonline.uibk.ac.at/public/lfuonline_lv.details?sem_id_in=25S&lvnr_id_in=845227\n
CLASS:PUBLIC
DTSTART:20250505T100000Z
DTEND:20250505T113000Z
DTSTAMP:20260423T111656Z
LOCATION:HSB  1
END:VEVENT
BEGIN:VEVENT
UID:25S_845227_4723861@uibk.ac.at
ORGANIZER;CN="LFU:online Universität Innsbruck":MAILTO:Uni-Innsbruck-noreply@uibk.ac.at
SUMMARY:UE Hydraulik 1 (LV 845227-2 25S)
DESCRIPTION:Lehrveranstaltung 845227 25S, Gruppe 2\nTitel: UE Hydraulik 1\nOrt: HSB  1\n\nhttps://lfuonline.uibk.ac.at/public/lfuonline_lv.details?sem_id_in=25S&lvnr_id_in=845227\n
CLASS:PUBLIC
DTSTART:20250512T100000Z
DTEND:20250512T113000Z
DTSTAMP:20260423T111656Z
LOCATION:HSB  1
END:VEVENT
BEGIN:VEVENT
UID:25S_845227_4723862@uibk.ac.at
ORGANIZER;CN="LFU:online Universität Innsbruck":MAILTO:Uni-Innsbruck-noreply@uibk.ac.at
SUMMARY:UE Hydraulik 1 (LV 845227-2 25S)
DESCRIPTION:Lehrveranstaltung 845227 25S, Gruppe 2\nTitel: UE Hydraulik 1\nOrt: HSB  1\n\nhttps://lfuonline.uibk.ac.at/public/lfuonline_lv.details?sem_id_in=25S&lvnr_id_in=845227\n
CLASS:PUBLIC
DTSTART:20250519T100000Z
DTEND:20250519T113000Z
DTSTAMP:20260423T111656Z
LOCATION:HSB  1
END:VEVENT
BEGIN:VEVENT
UID:25S_845227_4723863@uibk.ac.at
ORGANIZER;CN="LFU:online Universität Innsbruck":MAILTO:Uni-Innsbruck-noreply@uibk.ac.at
SUMMARY:UE Hydraulik 1 (LV 845227-2 25S)
DESCRIPTION:Lehrveranstaltung 845227 25S, Gruppe 2\nTitel: UE Hydraulik 1\nOrt: HSB  1\n\nhttps://lfuonline.uibk.ac.at/public/lfuonline_lv.details?sem_id_in=25S&lvnr_id_in=845227\n
CLASS:PUBLIC
DTSTART:20250526T100000Z
DTEND:20250526T113000Z
DTSTAMP:20260423T111656Z
LOCATION:HSB  1
END:VEVENT
BEGIN:VEVENT
UID:25S_845227_4813744@uibk.ac.at
ORGANIZER;CN="LFU:online Universität Innsbruck":MAILTO:Uni-Innsbruck-noreply@uibk.ac.at
SUMMARY:UE Hydraulik 1 (LV 845227-2 25S)
DESCRIPTION:Lehrveranstaltung 845227 25S, Gruppe 2\nTitel: UE Hydraulik 1\nOrt: HSB  1\n\nhttps://lfuonline.uibk.ac.at/public/lfuonline_lv.details?sem_id_in=25S&lvnr_id_in=845227\n
CLASS:PUBLIC
DTSTART:20250613T063000Z
DTEND:20250613T080000Z
DTSTAMP:20260423T111656Z
LOCATION:HSB  1
COMMENT:Fragestunde
END:VEVENT
BEGIN:VEVENT
UID:25S_845227_4723865@uibk.ac.at
ORGANIZER;CN="LFU:online Universität Innsbruck":MAILTO:Uni-Innsbruck-noreply@uibk.ac.at
SUMMARY:UE Hydraulik 1 (LV 845227-2 25S)
DESCRIPTION:Lehrveranstaltung 845227 25S, Gruppe 2\nTitel: UE Hydraulik 1\nOrt: HSB  1\n\nhttps://lfuonline.uibk.ac.at/public/lfuonline_lv.details?sem_id_in=25S&lvnr_id_in=845227\n
CLASS:PUBLIC
DTSTART:20250616T100000Z
DTEND:20250616T113000Z
DTSTAMP:20260423T111656Z
LOCATION:HSB  1
COMMENT:Klausur
END:VEVENT
BEGIN:VEVENT
UID:25S_845227_4806461@uibk.ac.at
ORGANIZER;CN="LFU:online Universität Innsbruck":MAILTO:Uni-Innsbruck-noreply@uibk.ac.at
SUMMARY:UE Hydraulik 1 (LV 845227-2 25S)
DESCRIPTION:Lehrveranstaltung 845227 25S, Gruppe 2\nTitel: UE Hydraulik 1\nOrt: HSB  3\n\nhttps://lfuonline.uibk.ac.at/public/lfuonline_lv.details?sem_id_in=25S&lvnr_id_in=845227\n
CLASS:PUBLIC
DTSTART:20251006T060000Z
DTEND:20251006T080000Z
DTSTAMP:20260423T111656Z
LOCATION:HSB  3
COMMENT:Prüfung
END:VEVENT
END:VCALENDAR