BEGIN:VCALENDAR
VERSION:2.0
PRODID:-//Universität Innsbruck//LFU:online//DE
METHOD:PUBLISH
BEGIN:VEVENT
UID:25S_845229_4724035@uibk.ac.at
ORGANIZER;CN="LFU:online Universität Innsbruck":MAILTO:Uni-Innsbruck-noreply@uibk.ac.at
SUMMARY:UE Wasserbau (LV 845229-2 25S)
DESCRIPTION:Lehrveranstaltung 845229 25S, Gruppe 2\nTitel: UE Wasserbau\nOrt: HSB  4\n\nhttps://lfuonline.uibk.ac.at/public/lfuonline_lv.details?sem_id_in=25S&lvnr_id_in=845229\n
CLASS:PUBLIC
DTSTART:20250304T124500Z
DTEND:20250304T141500Z
DTSTAMP:20260423T143007Z
LOCATION:HSB  4
END:VEVENT
BEGIN:VEVENT
UID:25S_845229_4724040@uibk.ac.at
ORGANIZER;CN="LFU:online Universität Innsbruck":MAILTO:Uni-Innsbruck-noreply@uibk.ac.at
SUMMARY:UE Wasserbau (LV 845229-2 25S)
DESCRIPTION:Lehrveranstaltung 845229 25S, Gruppe 2\nTitel: UE Wasserbau\nOrt: HSB  4\n\nhttps://lfuonline.uibk.ac.at/public/lfuonline_lv.details?sem_id_in=25S&lvnr_id_in=845229\n
CLASS:PUBLIC
DTSTART:20250408T114500Z
DTEND:20250408T131500Z
DTSTAMP:20260423T143007Z
LOCATION:HSB  4
END:VEVENT
BEGIN:VEVENT
UID:25S_845229_4724041@uibk.ac.at
ORGANIZER;CN="LFU:online Universität Innsbruck":MAILTO:Uni-Innsbruck-noreply@uibk.ac.at
SUMMARY:UE Wasserbau (LV 845229-2 25S)
DESCRIPTION:Lehrveranstaltung 845229 25S, Gruppe 2\nTitel: UE Wasserbau\nOrt: HSB  4\n\nhttps://lfuonline.uibk.ac.at/public/lfuonline_lv.details?sem_id_in=25S&lvnr_id_in=845229\n
CLASS:PUBLIC
DTSTART:20250429T114500Z
DTEND:20250429T131500Z
DTSTAMP:20260423T143007Z
LOCATION:HSB  4
END:VEVENT
BEGIN:VEVENT
UID:25S_845229_4724043@uibk.ac.at
ORGANIZER;CN="LFU:online Universität Innsbruck":MAILTO:Uni-Innsbruck-noreply@uibk.ac.at
SUMMARY:UE Wasserbau (LV 845229-2 25S)
DESCRIPTION:Lehrveranstaltung 845229 25S, Gruppe 2\nTitel: UE Wasserbau\nOrt: HSB  4\n\nhttps://lfuonline.uibk.ac.at/public/lfuonline_lv.details?sem_id_in=25S&lvnr_id_in=845229\n
CLASS:PUBLIC
DTSTART:20250513T114500Z
DTEND:20250513T131500Z
DTSTAMP:20260423T143007Z
LOCATION:HSB  4
END:VEVENT
BEGIN:VEVENT
UID:25S_845229_4724045@uibk.ac.at
ORGANIZER;CN="LFU:online Universität Innsbruck":MAILTO:Uni-Innsbruck-noreply@uibk.ac.at
SUMMARY:UE Wasserbau (LV 845229-2 25S)
DESCRIPTION:Lehrveranstaltung 845229 25S, Gruppe 2\nTitel: UE Wasserbau\nOrt: HSB  4\n\nhttps://lfuonline.uibk.ac.at/public/lfuonline_lv.details?sem_id_in=25S&lvnr_id_in=845229\n
CLASS:PUBLIC
DTSTART:20250527T114500Z
DTEND:20250527T131500Z
DTSTAMP:20260423T143007Z
LOCATION:HSB  4
END:VEVENT
BEGIN:VEVENT
UID:25S_845229_4724047@uibk.ac.at
ORGANIZER;CN="LFU:online Universität Innsbruck":MAILTO:Uni-Innsbruck-noreply@uibk.ac.at
SUMMARY:UE Wasserbau (LV 845229-2 25S)
DESCRIPTION:Lehrveranstaltung 845229 25S, Gruppe 2\nTitel: UE Wasserbau\nOrt: HSB  4\n\nhttps://lfuonline.uibk.ac.at/public/lfuonline_lv.details?sem_id_in=25S&lvnr_id_in=845229\n
CLASS:PUBLIC
DTSTART:20250610T114500Z
DTEND:20250610T131500Z
DTSTAMP:20260423T143007Z
LOCATION:HSB  4
END:VEVENT
BEGIN:VEVENT
UID:25S_845229_4724048@uibk.ac.at
ORGANIZER;CN="LFU:online Universität Innsbruck":MAILTO:Uni-Innsbruck-noreply@uibk.ac.at
SUMMARY:UE Wasserbau (LV 845229-2 25S)
DESCRIPTION:Lehrveranstaltung 845229 25S, Gruppe 2\nTitel: UE Wasserbau\nOrt: HSB  4\n\nhttps://lfuonline.uibk.ac.at/public/lfuonline_lv.details?sem_id_in=25S&lvnr_id_in=845229\n
CLASS:PUBLIC
DTSTART:20250617T114500Z
DTEND:20250617T131500Z
DTSTAMP:20260423T143007Z
LOCATION:HSB  4
END:VEVENT
BEGIN:VEVENT
UID:25S_845229_4808024@uibk.ac.at
ORGANIZER;CN="LFU:online Universität Innsbruck":MAILTO:Uni-Innsbruck-noreply@uibk.ac.at
SUMMARY:UE Wasserbau (LV 845229-2 25S)
DESCRIPTION:Lehrveranstaltung 845229 25S, Gruppe 2\nTitel: UE Wasserbau\nOrt: HSB  3\n\nhttps://lfuonline.uibk.ac.at/public/lfuonline_lv.details?sem_id_in=25S&lvnr_id_in=845229\n
CLASS:PUBLIC
DTSTART:20250617T133000Z
DTEND:20250617T150000Z
DTSTAMP:20260423T143007Z
LOCATION:HSB  3
COMMENT:Prüfung, für alle Gruppen findet die Prüfung im HSB 3 statt 
END:VEVENT
END:VCALENDAR