BEGIN:VCALENDAR
VERSION:2.0
PRODID:-//Universität Innsbruck//LFU:online//DE
METHOD:PUBLISH
BEGIN:VEVENT
UID:25S_845233_4915245@uibk.ac.at
ORGANIZER;CN="LFU:online Universität Innsbruck":MAILTO:Uni-Innsbruck-noreply@uibk.ac.at
SUMMARY:VU Ingenieurhydrologie (LV 845233-2 25S)
DESCRIPTION:Lehrveranstaltung 845233 25S, Gruppe 2\nTitel: VU Ingenieurhydrologie\nOrt: HSB  9\n\nhttps://lfuonline.uibk.ac.at/public/lfuonline_lv.details?sem_id_in=25S&lvnr_id_in=845233\n
CLASS:PUBLIC
DTSTART:20250303T143000Z
DTEND:20250303T160000Z
DTSTAMP:20260423T111702Z
LOCATION:HSB  9
END:VEVENT
BEGIN:VEVENT
UID:25S_845233_4915246@uibk.ac.at
ORGANIZER;CN="LFU:online Universität Innsbruck":MAILTO:Uni-Innsbruck-noreply@uibk.ac.at
SUMMARY:VU Ingenieurhydrologie (LV 845233-2 25S)
DESCRIPTION:Lehrveranstaltung 845233 25S, Gruppe 2\nTitel: VU Ingenieurhydrologie\nOrt: HSB  9\n\nhttps://lfuonline.uibk.ac.at/public/lfuonline_lv.details?sem_id_in=25S&lvnr_id_in=845233\n
CLASS:PUBLIC
DTSTART:20250310T143000Z
DTEND:20250310T160000Z
DTSTAMP:20260423T111702Z
LOCATION:HSB  9
END:VEVENT
BEGIN:VEVENT
UID:25S_845233_4915247@uibk.ac.at
ORGANIZER;CN="LFU:online Universität Innsbruck":MAILTO:Uni-Innsbruck-noreply@uibk.ac.at
SUMMARY:VU Ingenieurhydrologie (LV 845233-2 25S)
DESCRIPTION:Lehrveranstaltung 845233 25S, Gruppe 2\nTitel: VU Ingenieurhydrologie\nOrt: HSB  9\n\nhttps://lfuonline.uibk.ac.at/public/lfuonline_lv.details?sem_id_in=25S&lvnr_id_in=845233\n
CLASS:PUBLIC
DTSTART:20250317T143000Z
DTEND:20250317T160000Z
DTSTAMP:20260423T111702Z
LOCATION:HSB  9
END:VEVENT
BEGIN:VEVENT
UID:25S_845233_4915248@uibk.ac.at
ORGANIZER;CN="LFU:online Universität Innsbruck":MAILTO:Uni-Innsbruck-noreply@uibk.ac.at
SUMMARY:VU Ingenieurhydrologie (LV 845233-2 25S)
DESCRIPTION:Lehrveranstaltung 845233 25S, Gruppe 2\nTitel: VU Ingenieurhydrologie\nOrt: HSB  9\n\nhttps://lfuonline.uibk.ac.at/public/lfuonline_lv.details?sem_id_in=25S&lvnr_id_in=845233\n
CLASS:PUBLIC
DTSTART:20250324T143000Z
DTEND:20250324T160000Z
DTSTAMP:20260423T111702Z
LOCATION:HSB  9
END:VEVENT
BEGIN:VEVENT
UID:25S_845233_4915249@uibk.ac.at
ORGANIZER;CN="LFU:online Universität Innsbruck":MAILTO:Uni-Innsbruck-noreply@uibk.ac.at
SUMMARY:VU Ingenieurhydrologie (LV 845233-2 25S)
DESCRIPTION:Lehrveranstaltung 845233 25S, Gruppe 2\nTitel: VU Ingenieurhydrologie\nOrt: HSB  9\n\nhttps://lfuonline.uibk.ac.at/public/lfuonline_lv.details?sem_id_in=25S&lvnr_id_in=845233\n
CLASS:PUBLIC
DTSTART:20250331T133000Z
DTEND:20250331T150000Z
DTSTAMP:20260423T111702Z
LOCATION:HSB  9
END:VEVENT
BEGIN:VEVENT
UID:25S_845233_4915250@uibk.ac.at
ORGANIZER;CN="LFU:online Universität Innsbruck":MAILTO:Uni-Innsbruck-noreply@uibk.ac.at
SUMMARY:VU Ingenieurhydrologie (LV 845233-2 25S)
DESCRIPTION:Lehrveranstaltung 845233 25S, Gruppe 2\nTitel: VU Ingenieurhydrologie\nOrt: HSB  9\n\nhttps://lfuonline.uibk.ac.at/public/lfuonline_lv.details?sem_id_in=25S&lvnr_id_in=845233\n
CLASS:PUBLIC
DTSTART:20250407T133000Z
DTEND:20250407T150000Z
DTSTAMP:20260423T111702Z
LOCATION:HSB  9
END:VEVENT
BEGIN:VEVENT
UID:25S_845233_4915251@uibk.ac.at
ORGANIZER;CN="LFU:online Universität Innsbruck":MAILTO:Uni-Innsbruck-noreply@uibk.ac.at
SUMMARY:VU Ingenieurhydrologie (LV 845233-2 25S)
DESCRIPTION:Lehrveranstaltung 845233 25S, Gruppe 2\nTitel: VU Ingenieurhydrologie\nOrt: HSB  9\n\nhttps://lfuonline.uibk.ac.at/public/lfuonline_lv.details?sem_id_in=25S&lvnr_id_in=845233\n
CLASS:PUBLIC
DTSTART:20250428T133000Z
DTEND:20250428T150000Z
DTSTAMP:20260423T111702Z
LOCATION:HSB  9
END:VEVENT
BEGIN:VEVENT
UID:25S_845233_4915252@uibk.ac.at
ORGANIZER;CN="LFU:online Universität Innsbruck":MAILTO:Uni-Innsbruck-noreply@uibk.ac.at
SUMMARY:VU Ingenieurhydrologie (LV 845233-2 25S)
DESCRIPTION:Lehrveranstaltung 845233 25S, Gruppe 2\nTitel: VU Ingenieurhydrologie\nOrt: HSB  9\n\nhttps://lfuonline.uibk.ac.at/public/lfuonline_lv.details?sem_id_in=25S&lvnr_id_in=845233\n
CLASS:PUBLIC
DTSTART:20250505T133000Z
DTEND:20250505T150000Z
DTSTAMP:20260423T111702Z
LOCATION:HSB  9
END:VEVENT
BEGIN:VEVENT
UID:25S_845233_4915253@uibk.ac.at
ORGANIZER;CN="LFU:online Universität Innsbruck":MAILTO:Uni-Innsbruck-noreply@uibk.ac.at
SUMMARY:VU Ingenieurhydrologie (LV 845233-2 25S)
DESCRIPTION:Lehrveranstaltung 845233 25S, Gruppe 2\nTitel: VU Ingenieurhydrologie\nOrt: rr 25\n\nhttps://lfuonline.uibk.ac.at/public/lfuonline_lv.details?sem_id_in=25S&lvnr_id_in=845233\n
CLASS:PUBLIC
DTSTART:20250512T133000Z
DTEND:20250512T170000Z
DTSTAMP:20260423T111702Z
LOCATION:rr 25
END:VEVENT
BEGIN:VEVENT
UID:25S_845233_4915254@uibk.ac.at
ORGANIZER;CN="LFU:online Universität Innsbruck":MAILTO:Uni-Innsbruck-noreply@uibk.ac.at
SUMMARY:VU Ingenieurhydrologie (LV 845233-2 25S)
DESCRIPTION:Lehrveranstaltung 845233 25S, Gruppe 2\nTitel: VU Ingenieurhydrologie\nOrt: rr 25\n\nhttps://lfuonline.uibk.ac.at/public/lfuonline_lv.details?sem_id_in=25S&lvnr_id_in=845233\n
CLASS:PUBLIC
DTSTART:20250519T133000Z
DTEND:20250519T170000Z
DTSTAMP:20260423T111702Z
LOCATION:rr 25
END:VEVENT
BEGIN:VEVENT
UID:25S_845233_4915255@uibk.ac.at
ORGANIZER;CN="LFU:online Universität Innsbruck":MAILTO:Uni-Innsbruck-noreply@uibk.ac.at
SUMMARY:VU Ingenieurhydrologie (LV 845233-2 25S)
DESCRIPTION:Lehrveranstaltung 845233 25S, Gruppe 2\nTitel: VU Ingenieurhydrologie\nOrt: rr 25\n\nhttps://lfuonline.uibk.ac.at/public/lfuonline_lv.details?sem_id_in=25S&lvnr_id_in=845233\n
CLASS:PUBLIC
DTSTART:20250526T133000Z
DTEND:20250526T170000Z
DTSTAMP:20260423T111702Z
LOCATION:rr 25
END:VEVENT
BEGIN:VEVENT
UID:25S_845233_4915256@uibk.ac.at
ORGANIZER;CN="LFU:online Universität Innsbruck":MAILTO:Uni-Innsbruck-noreply@uibk.ac.at
SUMMARY:VU Ingenieurhydrologie (LV 845233-2 25S)
DESCRIPTION:Lehrveranstaltung 845233 25S, Gruppe 2\nTitel: VU Ingenieurhydrologie\nOrt: HSB  3\n\nhttps://lfuonline.uibk.ac.at/public/lfuonline_lv.details?sem_id_in=25S&lvnr_id_in=845233\n
CLASS:PUBLIC
DTSTART:20250602T133000Z
DTEND:20250602T150000Z
DTSTAMP:20260423T111702Z
LOCATION:HSB  3
COMMENT:Prüfung
END:VEVENT
BEGIN:VEVENT
UID:25S_845233_4915257@uibk.ac.at
ORGANIZER;CN="LFU:online Universität Innsbruck":MAILTO:Uni-Innsbruck-noreply@uibk.ac.at
SUMMARY:VU Ingenieurhydrologie (LV 845233-2 25S)
DESCRIPTION:Lehrveranstaltung 845233 25S, Gruppe 2\nTitel: VU Ingenieurhydrologie\nOrt: HSB  9\n\nhttps://lfuonline.uibk.ac.at/public/lfuonline_lv.details?sem_id_in=25S&lvnr_id_in=845233\n
CLASS:PUBLIC
DTSTART:20250616T133000Z
DTEND:20250616T150000Z
DTSTAMP:20260423T111702Z
LOCATION:HSB  9
END:VEVENT
BEGIN:VEVENT
UID:25S_845233_4915258@uibk.ac.at
ORGANIZER;CN="LFU:online Universität Innsbruck":MAILTO:Uni-Innsbruck-noreply@uibk.ac.at
SUMMARY:VU Ingenieurhydrologie (LV 845233-2 25S)
DESCRIPTION:Lehrveranstaltung 845233 25S, Gruppe 2\nTitel: VU Ingenieurhydrologie\nOrt: HSB  9\n\nhttps://lfuonline.uibk.ac.at/public/lfuonline_lv.details?sem_id_in=25S&lvnr_id_in=845233\n
CLASS:PUBLIC
DTSTART:20250623T133000Z
DTEND:20250623T150000Z
DTSTAMP:20260423T111702Z
LOCATION:HSB  9
END:VEVENT
END:VCALENDAR