BEGIN:VCALENDAR
VERSION:2.0
PRODID:-//Universität Innsbruck//LFU:online//DE
METHOD:PUBLISH
BEGIN:VEVENT
UID:16W_846605_2824839@uibk.ac.at
ORGANIZER;CN="LFU:online Universität Innsbruck":MAILTO:Uni-Innsbruck-noreply@uibk.ac.at
SUMMARY:Hochbau 1 (LV 846605-2 16W)
DESCRIPTION:Lehrveranstaltung 846605 16W, Gruppe 2\nTitel: Hochbau 1\nOrt: HSB  7\n\nhttps://lfuonline.uibk.ac.at/public/lfuonline_lv.details?sem_id_in=16W&lvnr_id_in=846605\n
CLASS:PUBLIC
DTSTART:20161004T131500Z
DTEND:20161004T150000Z
DTSTAMP:20260421T204258Z
LOCATION:HSB  7
END:VEVENT
BEGIN:VEVENT
UID:16W_846605_2824837@uibk.ac.at
ORGANIZER;CN="LFU:online Universität Innsbruck":MAILTO:Uni-Innsbruck-noreply@uibk.ac.at
SUMMARY:Hochbau 1 (LV 846605-2 16W)
DESCRIPTION:Lehrveranstaltung 846605 16W, Gruppe 2\nTitel: Hochbau 1\nOrt: HSB  7\n\nhttps://lfuonline.uibk.ac.at/public/lfuonline_lv.details?sem_id_in=16W&lvnr_id_in=846605\n
CLASS:PUBLIC
DTSTART:20161025T131500Z
DTEND:20161025T150000Z
DTSTAMP:20260421T204258Z
LOCATION:HSB  7
END:VEVENT
BEGIN:VEVENT
UID:16W_846605_2824832@uibk.ac.at
ORGANIZER;CN="LFU:online Universität Innsbruck":MAILTO:Uni-Innsbruck-noreply@uibk.ac.at
SUMMARY:Hochbau 1 (LV 846605-2 16W)
DESCRIPTION:Lehrveranstaltung 846605 16W, Gruppe 2\nTitel: Hochbau 1\nOrt: HSB  7\n\nhttps://lfuonline.uibk.ac.at/public/lfuonline_lv.details?sem_id_in=16W&lvnr_id_in=846605\n
CLASS:PUBLIC
DTSTART:20161115T141500Z
DTEND:20161115T160000Z
DTSTAMP:20260421T204258Z
LOCATION:HSB  7
END:VEVENT
BEGIN:VEVENT
UID:16W_846605_2824834@uibk.ac.at
ORGANIZER;CN="LFU:online Universität Innsbruck":MAILTO:Uni-Innsbruck-noreply@uibk.ac.at
SUMMARY:Hochbau 1 (LV 846605-2 16W)
DESCRIPTION:Lehrveranstaltung 846605 16W, Gruppe 2\nTitel: Hochbau 1\nOrt: HSB  7\n\nhttps://lfuonline.uibk.ac.at/public/lfuonline_lv.details?sem_id_in=16W&lvnr_id_in=846605\n
CLASS:PUBLIC
DTSTART:20161122T141500Z
DTEND:20161122T160000Z
DTSTAMP:20260421T204258Z
LOCATION:HSB  7
END:VEVENT
BEGIN:VEVENT
UID:16W_846605_2824833@uibk.ac.at
ORGANIZER;CN="LFU:online Universität Innsbruck":MAILTO:Uni-Innsbruck-noreply@uibk.ac.at
SUMMARY:Hochbau 1 (LV 846605-2 16W)
DESCRIPTION:Lehrveranstaltung 846605 16W, Gruppe 2\nTitel: Hochbau 1\nOrt: HSB  7\n\nhttps://lfuonline.uibk.ac.at/public/lfuonline_lv.details?sem_id_in=16W&lvnr_id_in=846605\n
CLASS:PUBLIC
DTSTART:20161129T141500Z
DTEND:20161129T160000Z
DTSTAMP:20260421T204258Z
LOCATION:HSB  7
END:VEVENT
BEGIN:VEVENT
UID:16W_846605_2824843@uibk.ac.at
ORGANIZER;CN="LFU:online Universität Innsbruck":MAILTO:Uni-Innsbruck-noreply@uibk.ac.at
SUMMARY:Hochbau 1 (LV 846605-2 16W)
DESCRIPTION:Lehrveranstaltung 846605 16W, Gruppe 2\nTitel: Hochbau 1\nOrt: HSB  7\n\nhttps://lfuonline.uibk.ac.at/public/lfuonline_lv.details?sem_id_in=16W&lvnr_id_in=846605\n
CLASS:PUBLIC
DTSTART:20161206T141500Z
DTEND:20161206T160000Z
DTSTAMP:20260421T204258Z
LOCATION:HSB  7
END:VEVENT
BEGIN:VEVENT
UID:16W_846605_2824840@uibk.ac.at
ORGANIZER;CN="LFU:online Universität Innsbruck":MAILTO:Uni-Innsbruck-noreply@uibk.ac.at
SUMMARY:Hochbau 1 (LV 846605-2 16W)
DESCRIPTION:Lehrveranstaltung 846605 16W, Gruppe 2\nTitel: Hochbau 1\nOrt: HSB  7\n\nhttps://lfuonline.uibk.ac.at/public/lfuonline_lv.details?sem_id_in=16W&lvnr_id_in=846605\n
CLASS:PUBLIC
DTSTART:20161213T141500Z
DTEND:20161213T160000Z
DTSTAMP:20260421T204258Z
LOCATION:HSB  7
END:VEVENT
BEGIN:VEVENT
UID:16W_846605_2824835@uibk.ac.at
ORGANIZER;CN="LFU:online Universität Innsbruck":MAILTO:Uni-Innsbruck-noreply@uibk.ac.at
SUMMARY:Hochbau 1 (LV 846605-2 16W)
DESCRIPTION:Lehrveranstaltung 846605 16W, Gruppe 2\nTitel: Hochbau 1\nOrt: HSB  7\n\nhttps://lfuonline.uibk.ac.at/public/lfuonline_lv.details?sem_id_in=16W&lvnr_id_in=846605\n
CLASS:PUBLIC
DTSTART:20170110T141500Z
DTEND:20170110T160000Z
DTSTAMP:20260421T204258Z
LOCATION:HSB  7
END:VEVENT
BEGIN:VEVENT
UID:16W_846605_2824836@uibk.ac.at
ORGANIZER;CN="LFU:online Universität Innsbruck":MAILTO:Uni-Innsbruck-noreply@uibk.ac.at
SUMMARY:Hochbau 1 (LV 846605-2 16W)
DESCRIPTION:Lehrveranstaltung 846605 16W, Gruppe 2\nTitel: Hochbau 1\nOrt: HSB  7\n\nhttps://lfuonline.uibk.ac.at/public/lfuonline_lv.details?sem_id_in=16W&lvnr_id_in=846605\n
CLASS:PUBLIC
DTSTART:20170117T141500Z
DTEND:20170117T160000Z
DTSTAMP:20260421T204258Z
LOCATION:HSB  7
END:VEVENT
END:VCALENDAR