BEGIN:VCALENDAR
VERSION:2.0
PRODID:-//Universität Innsbruck//LFU:online//DE
METHOD:PUBLISH
BEGIN:VEVENT
UID:20W_627300_3723097@uibk.ac.at
ORGANIZER;CN="LFU:online Universität Innsbruck":MAILTO:Uni-Innsbruck-noreply@uibk.ac.at
SUMMARY:VU Einführung in das Testen und Bewerten im Fremdsprachenunterricht (3 Gruppen) (LV 627300-3 20W)
DESCRIPTION:Lehrveranstaltung 627300 20W, Gruppe 3\nTitel: VU Einführung in das Testen und Bewerten im Fremdsprachenunterricht (3 Gruppen)\nOrt: eLecture - online\n\nhttps://lfuonline.uibk.ac.at/public/lfuonline_lv.details?sem_id_in=20W&lvnr_id_in=627300\n
CLASS:PUBLIC
DTSTART:20201007T170000Z
DTEND:20201007T183000Z
DTSTAMP:20260419T213523Z
LOCATION:eLecture - online
END:VEVENT
BEGIN:VEVENT
UID:20W_627300_3723111@uibk.ac.at
ORGANIZER;CN="LFU:online Universität Innsbruck":MAILTO:Uni-Innsbruck-noreply@uibk.ac.at
SUMMARY:VU Einführung in das Testen und Bewerten im Fremdsprachenunterricht (3 Gruppen) (LV 627300-3 20W)
DESCRIPTION:Lehrveranstaltung 627300 20W, Gruppe 3\nTitel: VU Einführung in das Testen und Bewerten im Fremdsprachenunterricht (3 Gruppen)\nOrt: eLecture - online\n\nhttps://lfuonline.uibk.ac.at/public/lfuonline_lv.details?sem_id_in=20W&lvnr_id_in=627300\n
CLASS:PUBLIC
DTSTART:20201010T063000Z
DTEND:20201010T094500Z
DTSTAMP:20260419T213523Z
LOCATION:eLecture - online
END:VEVENT
BEGIN:VEVENT
UID:20W_627300_3723098@uibk.ac.at
ORGANIZER;CN="LFU:online Universität Innsbruck":MAILTO:Uni-Innsbruck-noreply@uibk.ac.at
SUMMARY:VU Einführung in das Testen und Bewerten im Fremdsprachenunterricht (3 Gruppen) (LV 627300-3 20W)
DESCRIPTION:Lehrveranstaltung 627300 20W, Gruppe 3\nTitel: VU Einführung in das Testen und Bewerten im Fremdsprachenunterricht (3 Gruppen)\nOrt: eLecture - online\n\nhttps://lfuonline.uibk.ac.at/public/lfuonline_lv.details?sem_id_in=20W&lvnr_id_in=627300\n
CLASS:PUBLIC
DTSTART:20201014T170000Z
DTEND:20201014T183000Z
DTSTAMP:20260419T213523Z
LOCATION:eLecture - online
END:VEVENT
BEGIN:VEVENT
UID:20W_627300_3723099@uibk.ac.at
ORGANIZER;CN="LFU:online Universität Innsbruck":MAILTO:Uni-Innsbruck-noreply@uibk.ac.at
SUMMARY:VU Einführung in das Testen und Bewerten im Fremdsprachenunterricht (3 Gruppen) (LV 627300-3 20W)
DESCRIPTION:Lehrveranstaltung 627300 20W, Gruppe 3\nTitel: VU Einführung in das Testen und Bewerten im Fremdsprachenunterricht (3 Gruppen)\nOrt: eLecture - online\n\nhttps://lfuonline.uibk.ac.at/public/lfuonline_lv.details?sem_id_in=20W&lvnr_id_in=627300\n
CLASS:PUBLIC
DTSTART:20201021T170000Z
DTEND:20201021T183000Z
DTSTAMP:20260419T213523Z
LOCATION:eLecture - online
END:VEVENT
BEGIN:VEVENT
UID:20W_627300_3723100@uibk.ac.at
ORGANIZER;CN="LFU:online Universität Innsbruck":MAILTO:Uni-Innsbruck-noreply@uibk.ac.at
SUMMARY:VU Einführung in das Testen und Bewerten im Fremdsprachenunterricht (3 Gruppen) (LV 627300-3 20W)
DESCRIPTION:Lehrveranstaltung 627300 20W, Gruppe 3\nTitel: VU Einführung in das Testen und Bewerten im Fremdsprachenunterricht (3 Gruppen)\nOrt: eLecture - online\n\nhttps://lfuonline.uibk.ac.at/public/lfuonline_lv.details?sem_id_in=20W&lvnr_id_in=627300\n
CLASS:PUBLIC
DTSTART:20201028T180000Z
DTEND:20201028T193000Z
DTSTAMP:20260419T213523Z
LOCATION:eLecture - online
END:VEVENT
BEGIN:VEVENT
UID:20W_627300_3723101@uibk.ac.at
ORGANIZER;CN="LFU:online Universität Innsbruck":MAILTO:Uni-Innsbruck-noreply@uibk.ac.at
SUMMARY:VU Einführung in das Testen und Bewerten im Fremdsprachenunterricht (3 Gruppen) (LV 627300-3 20W)
DESCRIPTION:Lehrveranstaltung 627300 20W, Gruppe 3\nTitel: VU Einführung in das Testen und Bewerten im Fremdsprachenunterricht (3 Gruppen)\nOrt: eLecture - online\n\nhttps://lfuonline.uibk.ac.at/public/lfuonline_lv.details?sem_id_in=20W&lvnr_id_in=627300\n
CLASS:PUBLIC
DTSTART:20201104T180000Z
DTEND:20201104T193000Z
DTSTAMP:20260419T213523Z
LOCATION:eLecture - online
END:VEVENT
BEGIN:VEVENT
UID:20W_627300_3723102@uibk.ac.at
ORGANIZER;CN="LFU:online Universität Innsbruck":MAILTO:Uni-Innsbruck-noreply@uibk.ac.at
SUMMARY:VU Einführung in das Testen und Bewerten im Fremdsprachenunterricht (3 Gruppen) (LV 627300-3 20W)
DESCRIPTION:Lehrveranstaltung 627300 20W, Gruppe 3\nTitel: VU Einführung in das Testen und Bewerten im Fremdsprachenunterricht (3 Gruppen)\nOrt: eLecture - online\n\nhttps://lfuonline.uibk.ac.at/public/lfuonline_lv.details?sem_id_in=20W&lvnr_id_in=627300\n
CLASS:PUBLIC
DTSTART:20201111T180000Z
DTEND:20201111T193000Z
DTSTAMP:20260419T213523Z
LOCATION:eLecture - online
END:VEVENT
BEGIN:VEVENT
UID:20W_627300_3723103@uibk.ac.at
ORGANIZER;CN="LFU:online Universität Innsbruck":MAILTO:Uni-Innsbruck-noreply@uibk.ac.at
SUMMARY:VU Einführung in das Testen und Bewerten im Fremdsprachenunterricht (3 Gruppen) (LV 627300-3 20W)
DESCRIPTION:Lehrveranstaltung 627300 20W, Gruppe 3\nTitel: VU Einführung in das Testen und Bewerten im Fremdsprachenunterricht (3 Gruppen)\nOrt: eLecture - online\n\nhttps://lfuonline.uibk.ac.at/public/lfuonline_lv.details?sem_id_in=20W&lvnr_id_in=627300\n
CLASS:PUBLIC
DTSTART:20201118T180000Z
DTEND:20201118T193000Z
DTSTAMP:20260419T213523Z
LOCATION:eLecture - online
END:VEVENT
BEGIN:VEVENT
UID:20W_627300_3723104@uibk.ac.at
ORGANIZER;CN="LFU:online Universität Innsbruck":MAILTO:Uni-Innsbruck-noreply@uibk.ac.at
SUMMARY:VU Einführung in das Testen und Bewerten im Fremdsprachenunterricht (3 Gruppen) (LV 627300-3 20W)
DESCRIPTION:Lehrveranstaltung 627300 20W, Gruppe 3\nTitel: VU Einführung in das Testen und Bewerten im Fremdsprachenunterricht (3 Gruppen)\nOrt: eLecture - online\n\nhttps://lfuonline.uibk.ac.at/public/lfuonline_lv.details?sem_id_in=20W&lvnr_id_in=627300\n
CLASS:PUBLIC
DTSTART:20201125T180000Z
DTEND:20201125T193000Z
DTSTAMP:20260419T213523Z
LOCATION:eLecture - online
END:VEVENT
BEGIN:VEVENT
UID:20W_627300_3723105@uibk.ac.at
ORGANIZER;CN="LFU:online Universität Innsbruck":MAILTO:Uni-Innsbruck-noreply@uibk.ac.at
SUMMARY:VU Einführung in das Testen und Bewerten im Fremdsprachenunterricht (3 Gruppen) (LV 627300-3 20W)
DESCRIPTION:Lehrveranstaltung 627300 20W, Gruppe 3\nTitel: VU Einführung in das Testen und Bewerten im Fremdsprachenunterricht (3 Gruppen)\nOrt: eLecture - online\n\nhttps://lfuonline.uibk.ac.at/public/lfuonline_lv.details?sem_id_in=20W&lvnr_id_in=627300\n
CLASS:PUBLIC
DTSTART:20201202T180000Z
DTEND:20201202T193000Z
DTSTAMP:20260419T213523Z
LOCATION:eLecture - online
END:VEVENT
BEGIN:VEVENT
UID:20W_627300_3723106@uibk.ac.at
ORGANIZER;CN="LFU:online Universität Innsbruck":MAILTO:Uni-Innsbruck-noreply@uibk.ac.at
SUMMARY:VU Einführung in das Testen und Bewerten im Fremdsprachenunterricht (3 Gruppen) (LV 627300-3 20W)
DESCRIPTION:Lehrveranstaltung 627300 20W, Gruppe 3\nTitel: VU Einführung in das Testen und Bewerten im Fremdsprachenunterricht (3 Gruppen)\nOrt: eLecture - online\n\nhttps://lfuonline.uibk.ac.at/public/lfuonline_lv.details?sem_id_in=20W&lvnr_id_in=627300\n
CLASS:PUBLIC
DTSTART:20201209T180000Z
DTEND:20201209T193000Z
DTSTAMP:20260419T213523Z
LOCATION:eLecture - online
END:VEVENT
BEGIN:VEVENT
UID:20W_627300_3723107@uibk.ac.at
ORGANIZER;CN="LFU:online Universität Innsbruck":MAILTO:Uni-Innsbruck-noreply@uibk.ac.at
SUMMARY:VU Einführung in das Testen und Bewerten im Fremdsprachenunterricht (3 Gruppen) (LV 627300-3 20W)
DESCRIPTION:Lehrveranstaltung 627300 20W, Gruppe 3\nTitel: VU Einführung in das Testen und Bewerten im Fremdsprachenunterricht (3 Gruppen)\nOrt: eLecture - online\n\nhttps://lfuonline.uibk.ac.at/public/lfuonline_lv.details?sem_id_in=20W&lvnr_id_in=627300\n
CLASS:PUBLIC
DTSTART:20201216T180000Z
DTEND:20201216T193000Z
DTSTAMP:20260419T213523Z
LOCATION:eLecture - online
END:VEVENT
BEGIN:VEVENT
UID:20W_627300_3723108@uibk.ac.at
ORGANIZER;CN="LFU:online Universität Innsbruck":MAILTO:Uni-Innsbruck-noreply@uibk.ac.at
SUMMARY:VU Einführung in das Testen und Bewerten im Fremdsprachenunterricht (3 Gruppen) (LV 627300-3 20W)
DESCRIPTION:Lehrveranstaltung 627300 20W, Gruppe 3\nTitel: VU Einführung in das Testen und Bewerten im Fremdsprachenunterricht (3 Gruppen)\nOrt: eLecture - online\n\nhttps://lfuonline.uibk.ac.at/public/lfuonline_lv.details?sem_id_in=20W&lvnr_id_in=627300\n
CLASS:PUBLIC
DTSTART:20210113T180000Z
DTEND:20210113T193000Z
DTSTAMP:20260419T213523Z
LOCATION:eLecture - online
END:VEVENT
BEGIN:VEVENT
UID:20W_627300_3723109@uibk.ac.at
ORGANIZER;CN="LFU:online Universität Innsbruck":MAILTO:Uni-Innsbruck-noreply@uibk.ac.at
SUMMARY:VU Einführung in das Testen und Bewerten im Fremdsprachenunterricht (3 Gruppen) (LV 627300-3 20W)
DESCRIPTION:Lehrveranstaltung 627300 20W, Gruppe 3\nTitel: VU Einführung in das Testen und Bewerten im Fremdsprachenunterricht (3 Gruppen)\nOrt: eLecture - online\n\nhttps://lfuonline.uibk.ac.at/public/lfuonline_lv.details?sem_id_in=20W&lvnr_id_in=627300\n
CLASS:PUBLIC
DTSTART:20210120T180000Z
DTEND:20210120T193000Z
DTSTAMP:20260419T213523Z
LOCATION:eLecture - online
END:VEVENT
BEGIN:VEVENT
UID:20W_627300_3723110@uibk.ac.at
ORGANIZER;CN="LFU:online Universität Innsbruck":MAILTO:Uni-Innsbruck-noreply@uibk.ac.at
SUMMARY:VU Einführung in das Testen und Bewerten im Fremdsprachenunterricht (3 Gruppen) (LV 627300-3 20W)
DESCRIPTION:Lehrveranstaltung 627300 20W, Gruppe 3\nTitel: VU Einführung in das Testen und Bewerten im Fremdsprachenunterricht (3 Gruppen)\nOrt: eLecture - online\n\nhttps://lfuonline.uibk.ac.at/public/lfuonline_lv.details?sem_id_in=20W&lvnr_id_in=627300\n
CLASS:PUBLIC
DTSTART:20210127T161500Z
DTEND:20210127T171500Z
DTSTAMP:20260419T213523Z
LOCATION:eLecture - online
COMMENT:Test
END:VEVENT
END:VCALENDAR