BEGIN:VCALENDAR
VERSION:2.0
PRODID:-//Universität Innsbruck//LFU:online//DE
METHOD:PUBLISH
BEGIN:VEVENT
UID:10W_703002_1432405@uibk.ac.at
ORGANIZER;CN="LFU:online Universität Innsbruck":MAILTO:Uni-Innsbruck-noreply@uibk.ac.at
SUMMARY:Einführung in die Informatik (LV 703002-3 10W)
DESCRIPTION:Lehrveranstaltung 703002 10W, Gruppe 3\nTitel: Einführung in die Informatik\nOrt: SR 12\n\nhttps://lfuonline.uibk.ac.at/public/lfuonline_lv.details?sem_id_in=10W&lvnr_id_in=703002\n
CLASS:PUBLIC
DTSTART:20101011T081500Z
DTEND:20101011T100000Z
DTSTAMP:20260423T080753Z
LOCATION:SR 12
END:VEVENT
BEGIN:VEVENT
UID:10W_703002_1432406@uibk.ac.at
ORGANIZER;CN="LFU:online Universität Innsbruck":MAILTO:Uni-Innsbruck-noreply@uibk.ac.at
SUMMARY:Einführung in die Informatik (LV 703002-3 10W)
DESCRIPTION:Lehrveranstaltung 703002 10W, Gruppe 3\nTitel: Einführung in die Informatik\nOrt: SR 12\n\nhttps://lfuonline.uibk.ac.at/public/lfuonline_lv.details?sem_id_in=10W&lvnr_id_in=703002\n
CLASS:PUBLIC
DTSTART:20101018T081500Z
DTEND:20101018T100000Z
DTSTAMP:20260423T080753Z
LOCATION:SR 12
END:VEVENT
BEGIN:VEVENT
UID:10W_703002_1432407@uibk.ac.at
ORGANIZER;CN="LFU:online Universität Innsbruck":MAILTO:Uni-Innsbruck-noreply@uibk.ac.at
SUMMARY:Einführung in die Informatik (LV 703002-3 10W)
DESCRIPTION:Lehrveranstaltung 703002 10W, Gruppe 3\nTitel: Einführung in die Informatik\nOrt: SR 12\n\nhttps://lfuonline.uibk.ac.at/public/lfuonline_lv.details?sem_id_in=10W&lvnr_id_in=703002\n
CLASS:PUBLIC
DTSTART:20101025T081500Z
DTEND:20101025T100000Z
DTSTAMP:20260423T080753Z
LOCATION:SR 12
END:VEVENT
BEGIN:VEVENT
UID:10W_703002_1432408@uibk.ac.at
ORGANIZER;CN="LFU:online Universität Innsbruck":MAILTO:Uni-Innsbruck-noreply@uibk.ac.at
SUMMARY:Einführung in die Informatik (LV 703002-3 10W)
DESCRIPTION:Lehrveranstaltung 703002 10W, Gruppe 3\nTitel: Einführung in die Informatik\nOrt: SR 12\n\nhttps://lfuonline.uibk.ac.at/public/lfuonline_lv.details?sem_id_in=10W&lvnr_id_in=703002\n
CLASS:PUBLIC
DTSTART:20101108T091500Z
DTEND:20101108T110000Z
DTSTAMP:20260423T080753Z
LOCATION:SR 12
END:VEVENT
BEGIN:VEVENT
UID:10W_703002_1432409@uibk.ac.at
ORGANIZER;CN="LFU:online Universität Innsbruck":MAILTO:Uni-Innsbruck-noreply@uibk.ac.at
SUMMARY:Einführung in die Informatik (LV 703002-3 10W)
DESCRIPTION:Lehrveranstaltung 703002 10W, Gruppe 3\nTitel: Einführung in die Informatik\nOrt: SR 12\n\nhttps://lfuonline.uibk.ac.at/public/lfuonline_lv.details?sem_id_in=10W&lvnr_id_in=703002\n
CLASS:PUBLIC
DTSTART:20101115T091500Z
DTEND:20101115T110000Z
DTSTAMP:20260423T080753Z
LOCATION:SR 12
END:VEVENT
BEGIN:VEVENT
UID:10W_703002_1432410@uibk.ac.at
ORGANIZER;CN="LFU:online Universität Innsbruck":MAILTO:Uni-Innsbruck-noreply@uibk.ac.at
SUMMARY:Einführung in die Informatik (LV 703002-3 10W)
DESCRIPTION:Lehrveranstaltung 703002 10W, Gruppe 3\nTitel: Einführung in die Informatik\nOrt: SR 12\n\nhttps://lfuonline.uibk.ac.at/public/lfuonline_lv.details?sem_id_in=10W&lvnr_id_in=703002\n
CLASS:PUBLIC
DTSTART:20101122T091500Z
DTEND:20101122T110000Z
DTSTAMP:20260423T080753Z
LOCATION:SR 12
END:VEVENT
BEGIN:VEVENT
UID:10W_703002_1432411@uibk.ac.at
ORGANIZER;CN="LFU:online Universität Innsbruck":MAILTO:Uni-Innsbruck-noreply@uibk.ac.at
SUMMARY:Einführung in die Informatik (LV 703002-3 10W)
DESCRIPTION:Lehrveranstaltung 703002 10W, Gruppe 3\nTitel: Einführung in die Informatik\nOrt: SR 12\n\nhttps://lfuonline.uibk.ac.at/public/lfuonline_lv.details?sem_id_in=10W&lvnr_id_in=703002\n
CLASS:PUBLIC
DTSTART:20101129T091500Z
DTEND:20101129T110000Z
DTSTAMP:20260423T080753Z
LOCATION:SR 12
END:VEVENT
BEGIN:VEVENT
UID:10W_703002_1432412@uibk.ac.at
ORGANIZER;CN="LFU:online Universität Innsbruck":MAILTO:Uni-Innsbruck-noreply@uibk.ac.at
SUMMARY:Einführung in die Informatik (LV 703002-3 10W)
DESCRIPTION:Lehrveranstaltung 703002 10W, Gruppe 3\nTitel: Einführung in die Informatik\nOrt: SR 12\n\nhttps://lfuonline.uibk.ac.at/public/lfuonline_lv.details?sem_id_in=10W&lvnr_id_in=703002\n
CLASS:PUBLIC
DTSTART:20101206T091500Z
DTEND:20101206T110000Z
DTSTAMP:20260423T080753Z
LOCATION:SR 12
END:VEVENT
BEGIN:VEVENT
UID:10W_703002_1432413@uibk.ac.at
ORGANIZER;CN="LFU:online Universität Innsbruck":MAILTO:Uni-Innsbruck-noreply@uibk.ac.at
SUMMARY:Einführung in die Informatik (LV 703002-3 10W)
DESCRIPTION:Lehrveranstaltung 703002 10W, Gruppe 3\nTitel: Einführung in die Informatik\nOrt: SR 12\n\nhttps://lfuonline.uibk.ac.at/public/lfuonline_lv.details?sem_id_in=10W&lvnr_id_in=703002\n
CLASS:PUBLIC
DTSTART:20101213T091500Z
DTEND:20101213T110000Z
DTSTAMP:20260423T080753Z
LOCATION:SR 12
END:VEVENT
BEGIN:VEVENT
UID:10W_703002_1432414@uibk.ac.at
ORGANIZER;CN="LFU:online Universität Innsbruck":MAILTO:Uni-Innsbruck-noreply@uibk.ac.at
SUMMARY:Einführung in die Informatik (LV 703002-3 10W)
DESCRIPTION:Lehrveranstaltung 703002 10W, Gruppe 3\nTitel: Einführung in die Informatik\nOrt: SR 12\n\nhttps://lfuonline.uibk.ac.at/public/lfuonline_lv.details?sem_id_in=10W&lvnr_id_in=703002\n
CLASS:PUBLIC
DTSTART:20110110T091500Z
DTEND:20110110T110000Z
DTSTAMP:20260423T080753Z
LOCATION:SR 12
END:VEVENT
BEGIN:VEVENT
UID:10W_703002_1432415@uibk.ac.at
ORGANIZER;CN="LFU:online Universität Innsbruck":MAILTO:Uni-Innsbruck-noreply@uibk.ac.at
SUMMARY:Einführung in die Informatik (LV 703002-3 10W)
DESCRIPTION:Lehrveranstaltung 703002 10W, Gruppe 3\nTitel: Einführung in die Informatik\nOrt: SR 12\n\nhttps://lfuonline.uibk.ac.at/public/lfuonline_lv.details?sem_id_in=10W&lvnr_id_in=703002\n
CLASS:PUBLIC
DTSTART:20110117T091500Z
DTEND:20110117T110000Z
DTSTAMP:20260423T080753Z
LOCATION:SR 12
END:VEVENT
BEGIN:VEVENT
UID:10W_703002_1432416@uibk.ac.at
ORGANIZER;CN="LFU:online Universität Innsbruck":MAILTO:Uni-Innsbruck-noreply@uibk.ac.at
SUMMARY:Einführung in die Informatik (LV 703002-3 10W)
DESCRIPTION:Lehrveranstaltung 703002 10W, Gruppe 3\nTitel: Einführung in die Informatik\nOrt: SR 12\n\nhttps://lfuonline.uibk.ac.at/public/lfuonline_lv.details?sem_id_in=10W&lvnr_id_in=703002\n
CLASS:PUBLIC
DTSTART:20110124T091500Z
DTEND:20110124T110000Z
DTSTAMP:20260423T080753Z
LOCATION:SR 12
END:VEVENT
BEGIN:VEVENT
UID:10W_703002_1432417@uibk.ac.at
ORGANIZER;CN="LFU:online Universität Innsbruck":MAILTO:Uni-Innsbruck-noreply@uibk.ac.at
SUMMARY:Einführung in die Informatik (LV 703002-3 10W)
DESCRIPTION:Lehrveranstaltung 703002 10W, Gruppe 3\nTitel: Einführung in die Informatik\nOrt: SR 12\n\nhttps://lfuonline.uibk.ac.at/public/lfuonline_lv.details?sem_id_in=10W&lvnr_id_in=703002\n
CLASS:PUBLIC
DTSTART:20110131T091500Z
DTEND:20110131T110000Z
DTSTAMP:20260423T080753Z
LOCATION:SR 12
END:VEVENT
END:VCALENDAR