BEGIN:VCALENDAR
VERSION:2.0
PRODID:-//Universität Innsbruck//LFU:online//DE
METHOD:PUBLISH
BEGIN:VEVENT
UID:10W_703016_1433039@uibk.ac.at
ORGANIZER;CN="LFU:online Universität Innsbruck":MAILTO:Uni-Innsbruck-noreply@uibk.ac.at
SUMMARY:Entwurf von Softwaresystemen (LV 703016-3 10W)
DESCRIPTION:Lehrveranstaltung 703016 10W, Gruppe 3\nTitel: Entwurf von Softwaresystemen\nOrt: rr 21\n\nhttps://lfuonline.uibk.ac.at/public/lfuonline_lv.details?sem_id_in=10W&lvnr_id_in=703016\n
CLASS:PUBLIC
DTSTART:20101012T071500Z
DTEND:20101012T080000Z
DTSTAMP:20260423T102958Z
LOCATION:rr 21
END:VEVENT
BEGIN:VEVENT
UID:10W_703016_1433040@uibk.ac.at
ORGANIZER;CN="LFU:online Universität Innsbruck":MAILTO:Uni-Innsbruck-noreply@uibk.ac.at
SUMMARY:Entwurf von Softwaresystemen (LV 703016-3 10W)
DESCRIPTION:Lehrveranstaltung 703016 10W, Gruppe 3\nTitel: Entwurf von Softwaresystemen\nOrt: rr 21\n\nhttps://lfuonline.uibk.ac.at/public/lfuonline_lv.details?sem_id_in=10W&lvnr_id_in=703016\n
CLASS:PUBLIC
DTSTART:20101019T071500Z
DTEND:20101019T080000Z
DTSTAMP:20260423T102958Z
LOCATION:rr 21
END:VEVENT
BEGIN:VEVENT
UID:10W_703016_1433041@uibk.ac.at
ORGANIZER;CN="LFU:online Universität Innsbruck":MAILTO:Uni-Innsbruck-noreply@uibk.ac.at
SUMMARY:Entwurf von Softwaresystemen (LV 703016-3 10W)
DESCRIPTION:Lehrveranstaltung 703016 10W, Gruppe 3\nTitel: Entwurf von Softwaresystemen\nOrt: rr 21\n\nhttps://lfuonline.uibk.ac.at/public/lfuonline_lv.details?sem_id_in=10W&lvnr_id_in=703016\n
CLASS:PUBLIC
DTSTART:20101109T081500Z
DTEND:20101109T090000Z
DTSTAMP:20260423T102958Z
LOCATION:rr 21
END:VEVENT
BEGIN:VEVENT
UID:10W_703016_1433042@uibk.ac.at
ORGANIZER;CN="LFU:online Universität Innsbruck":MAILTO:Uni-Innsbruck-noreply@uibk.ac.at
SUMMARY:Entwurf von Softwaresystemen (LV 703016-3 10W)
DESCRIPTION:Lehrveranstaltung 703016 10W, Gruppe 3\nTitel: Entwurf von Softwaresystemen\nOrt: rr 21\n\nhttps://lfuonline.uibk.ac.at/public/lfuonline_lv.details?sem_id_in=10W&lvnr_id_in=703016\n
CLASS:PUBLIC
DTSTART:20101116T081500Z
DTEND:20101116T090000Z
DTSTAMP:20260423T102958Z
LOCATION:rr 21
END:VEVENT
BEGIN:VEVENT
UID:10W_703016_1433043@uibk.ac.at
ORGANIZER;CN="LFU:online Universität Innsbruck":MAILTO:Uni-Innsbruck-noreply@uibk.ac.at
SUMMARY:Entwurf von Softwaresystemen (LV 703016-3 10W)
DESCRIPTION:Lehrveranstaltung 703016 10W, Gruppe 3\nTitel: Entwurf von Softwaresystemen\nOrt: rr 21\n\nhttps://lfuonline.uibk.ac.at/public/lfuonline_lv.details?sem_id_in=10W&lvnr_id_in=703016\n
CLASS:PUBLIC
DTSTART:20101123T081500Z
DTEND:20101123T090000Z
DTSTAMP:20260423T102958Z
LOCATION:rr 21
END:VEVENT
BEGIN:VEVENT
UID:10W_703016_1433044@uibk.ac.at
ORGANIZER;CN="LFU:online Universität Innsbruck":MAILTO:Uni-Innsbruck-noreply@uibk.ac.at
SUMMARY:Entwurf von Softwaresystemen (LV 703016-3 10W)
DESCRIPTION:Lehrveranstaltung 703016 10W, Gruppe 3\nTitel: Entwurf von Softwaresystemen\nOrt: rr 21\n\nhttps://lfuonline.uibk.ac.at/public/lfuonline_lv.details?sem_id_in=10W&lvnr_id_in=703016\n
CLASS:PUBLIC
DTSTART:20101130T081500Z
DTEND:20101130T090000Z
DTSTAMP:20260423T102958Z
LOCATION:rr 21
END:VEVENT
BEGIN:VEVENT
UID:10W_703016_1433045@uibk.ac.at
ORGANIZER;CN="LFU:online Universität Innsbruck":MAILTO:Uni-Innsbruck-noreply@uibk.ac.at
SUMMARY:Entwurf von Softwaresystemen (LV 703016-3 10W)
DESCRIPTION:Lehrveranstaltung 703016 10W, Gruppe 3\nTitel: Entwurf von Softwaresystemen\nOrt: rr 21\n\nhttps://lfuonline.uibk.ac.at/public/lfuonline_lv.details?sem_id_in=10W&lvnr_id_in=703016\n
CLASS:PUBLIC
DTSTART:20101207T081500Z
DTEND:20101207T090000Z
DTSTAMP:20260423T102958Z
LOCATION:rr 21
END:VEVENT
BEGIN:VEVENT
UID:10W_703016_1433046@uibk.ac.at
ORGANIZER;CN="LFU:online Universität Innsbruck":MAILTO:Uni-Innsbruck-noreply@uibk.ac.at
SUMMARY:Entwurf von Softwaresystemen (LV 703016-3 10W)
DESCRIPTION:Lehrveranstaltung 703016 10W, Gruppe 3\nTitel: Entwurf von Softwaresystemen\nOrt: rr 21\n\nhttps://lfuonline.uibk.ac.at/public/lfuonline_lv.details?sem_id_in=10W&lvnr_id_in=703016\n
CLASS:PUBLIC
DTSTART:20101214T081500Z
DTEND:20101214T090000Z
DTSTAMP:20260423T102958Z
LOCATION:rr 21
END:VEVENT
BEGIN:VEVENT
UID:10W_703016_1433047@uibk.ac.at
ORGANIZER;CN="LFU:online Universität Innsbruck":MAILTO:Uni-Innsbruck-noreply@uibk.ac.at
SUMMARY:Entwurf von Softwaresystemen (LV 703016-3 10W)
DESCRIPTION:Lehrveranstaltung 703016 10W, Gruppe 3\nTitel: Entwurf von Softwaresystemen\nOrt: rr 21\n\nhttps://lfuonline.uibk.ac.at/public/lfuonline_lv.details?sem_id_in=10W&lvnr_id_in=703016\n
CLASS:PUBLIC
DTSTART:20110111T081500Z
DTEND:20110111T090000Z
DTSTAMP:20260423T102958Z
LOCATION:rr 21
END:VEVENT
BEGIN:VEVENT
UID:10W_703016_1433048@uibk.ac.at
ORGANIZER;CN="LFU:online Universität Innsbruck":MAILTO:Uni-Innsbruck-noreply@uibk.ac.at
SUMMARY:Entwurf von Softwaresystemen (LV 703016-3 10W)
DESCRIPTION:Lehrveranstaltung 703016 10W, Gruppe 3\nTitel: Entwurf von Softwaresystemen\nOrt: rr 21\n\nhttps://lfuonline.uibk.ac.at/public/lfuonline_lv.details?sem_id_in=10W&lvnr_id_in=703016\n
CLASS:PUBLIC
DTSTART:20110118T081500Z
DTEND:20110118T090000Z
DTSTAMP:20260423T102958Z
LOCATION:rr 21
END:VEVENT
BEGIN:VEVENT
UID:10W_703016_1433049@uibk.ac.at
ORGANIZER;CN="LFU:online Universität Innsbruck":MAILTO:Uni-Innsbruck-noreply@uibk.ac.at
SUMMARY:Entwurf von Softwaresystemen (LV 703016-3 10W)
DESCRIPTION:Lehrveranstaltung 703016 10W, Gruppe 3\nTitel: Entwurf von Softwaresystemen\nOrt: rr 21\n\nhttps://lfuonline.uibk.ac.at/public/lfuonline_lv.details?sem_id_in=10W&lvnr_id_in=703016\n
CLASS:PUBLIC
DTSTART:20110125T081500Z
DTEND:20110125T090000Z
DTSTAMP:20260423T102958Z
LOCATION:rr 21
END:VEVENT
BEGIN:VEVENT
UID:10W_703016_1433050@uibk.ac.at
ORGANIZER;CN="LFU:online Universität Innsbruck":MAILTO:Uni-Innsbruck-noreply@uibk.ac.at
SUMMARY:Entwurf von Softwaresystemen (LV 703016-3 10W)
DESCRIPTION:Lehrveranstaltung 703016 10W, Gruppe 3\nTitel: Entwurf von Softwaresystemen\nOrt: rr 21\n\nhttps://lfuonline.uibk.ac.at/public/lfuonline_lv.details?sem_id_in=10W&lvnr_id_in=703016\n
CLASS:PUBLIC
DTSTART:20110201T081500Z
DTEND:20110201T090000Z
DTSTAMP:20260423T102958Z
LOCATION:rr 21
END:VEVENT
END:VCALENDAR