BEGIN:VCALENDAR
VERSION:2.0
PRODID:-//Universität Innsbruck//LFU:online//DE
METHOD:PUBLISH
BEGIN:VEVENT
UID:18W_703025_3153240@uibk.ac.at
ORGANIZER;CN="LFU:online Universität Innsbruck":MAILTO:Uni-Innsbruck-noreply@uibk.ac.at
SUMMARY:PS Funktionale Programmierung (LV 703025-3 18W)
DESCRIPTION:Lehrveranstaltung 703025 18W, Gruppe 3\nTitel: PS Funktionale Programmierung\nOrt: HS 11\n\nhttps://lfuonline.uibk.ac.at/public/lfuonline_lv.details?sem_id_in=18W&lvnr_id_in=703025\n
CLASS:PUBLIC
DTSTART:20181012T081500Z
DTEND:20181012T090000Z
DTSTAMP:20260419T121611Z
LOCATION:HS 11
END:VEVENT
BEGIN:VEVENT
UID:18W_703025_3153241@uibk.ac.at
ORGANIZER;CN="LFU:online Universität Innsbruck":MAILTO:Uni-Innsbruck-noreply@uibk.ac.at
SUMMARY:PS Funktionale Programmierung (LV 703025-3 18W)
DESCRIPTION:Lehrveranstaltung 703025 18W, Gruppe 3\nTitel: PS Funktionale Programmierung\nOrt: HS 11\n\nhttps://lfuonline.uibk.ac.at/public/lfuonline_lv.details?sem_id_in=18W&lvnr_id_in=703025\n
CLASS:PUBLIC
DTSTART:20181109T091500Z
DTEND:20181109T100000Z
DTSTAMP:20260419T121611Z
LOCATION:HS 11
END:VEVENT
BEGIN:VEVENT
UID:18W_703025_3153242@uibk.ac.at
ORGANIZER;CN="LFU:online Universität Innsbruck":MAILTO:Uni-Innsbruck-noreply@uibk.ac.at
SUMMARY:PS Funktionale Programmierung (LV 703025-3 18W)
DESCRIPTION:Lehrveranstaltung 703025 18W, Gruppe 3\nTitel: PS Funktionale Programmierung\nOrt: HS 11\n\nhttps://lfuonline.uibk.ac.at/public/lfuonline_lv.details?sem_id_in=18W&lvnr_id_in=703025\n
CLASS:PUBLIC
DTSTART:20181116T091500Z
DTEND:20181116T100000Z
DTSTAMP:20260419T121611Z
LOCATION:HS 11
END:VEVENT
BEGIN:VEVENT
UID:18W_703025_3153243@uibk.ac.at
ORGANIZER;CN="LFU:online Universität Innsbruck":MAILTO:Uni-Innsbruck-noreply@uibk.ac.at
SUMMARY:PS Funktionale Programmierung (LV 703025-3 18W)
DESCRIPTION:Lehrveranstaltung 703025 18W, Gruppe 3\nTitel: PS Funktionale Programmierung\nOrt: HS 11\n\nhttps://lfuonline.uibk.ac.at/public/lfuonline_lv.details?sem_id_in=18W&lvnr_id_in=703025\n
CLASS:PUBLIC
DTSTART:20181123T091500Z
DTEND:20181123T100000Z
DTSTAMP:20260419T121611Z
LOCATION:HS 11
END:VEVENT
BEGIN:VEVENT
UID:18W_703025_3153244@uibk.ac.at
ORGANIZER;CN="LFU:online Universität Innsbruck":MAILTO:Uni-Innsbruck-noreply@uibk.ac.at
SUMMARY:PS Funktionale Programmierung (LV 703025-3 18W)
DESCRIPTION:Lehrveranstaltung 703025 18W, Gruppe 3\nTitel: PS Funktionale Programmierung\nOrt: HS 11\n\nhttps://lfuonline.uibk.ac.at/public/lfuonline_lv.details?sem_id_in=18W&lvnr_id_in=703025\n
CLASS:PUBLIC
DTSTART:20181130T091500Z
DTEND:20181130T100000Z
DTSTAMP:20260419T121611Z
LOCATION:HS 11
END:VEVENT
BEGIN:VEVENT
UID:18W_703025_3153245@uibk.ac.at
ORGANIZER;CN="LFU:online Universität Innsbruck":MAILTO:Uni-Innsbruck-noreply@uibk.ac.at
SUMMARY:PS Funktionale Programmierung (LV 703025-3 18W)
DESCRIPTION:Lehrveranstaltung 703025 18W, Gruppe 3\nTitel: PS Funktionale Programmierung\nOrt: HS 11\n\nhttps://lfuonline.uibk.ac.at/public/lfuonline_lv.details?sem_id_in=18W&lvnr_id_in=703025\n
CLASS:PUBLIC
DTSTART:20181207T091500Z
DTEND:20181207T100000Z
DTSTAMP:20260419T121611Z
LOCATION:HS 11
END:VEVENT
BEGIN:VEVENT
UID:18W_703025_3153246@uibk.ac.at
ORGANIZER;CN="LFU:online Universität Innsbruck":MAILTO:Uni-Innsbruck-noreply@uibk.ac.at
SUMMARY:PS Funktionale Programmierung (LV 703025-3 18W)
DESCRIPTION:Lehrveranstaltung 703025 18W, Gruppe 3\nTitel: PS Funktionale Programmierung\nOrt: HS 11\n\nhttps://lfuonline.uibk.ac.at/public/lfuonline_lv.details?sem_id_in=18W&lvnr_id_in=703025\n
CLASS:PUBLIC
DTSTART:20181214T091500Z
DTEND:20181214T100000Z
DTSTAMP:20260419T121611Z
LOCATION:HS 11
END:VEVENT
BEGIN:VEVENT
UID:18W_703025_3153247@uibk.ac.at
ORGANIZER;CN="LFU:online Universität Innsbruck":MAILTO:Uni-Innsbruck-noreply@uibk.ac.at
SUMMARY:PS Funktionale Programmierung (LV 703025-3 18W)
DESCRIPTION:Lehrveranstaltung 703025 18W, Gruppe 3\nTitel: PS Funktionale Programmierung\nOrt: HS 11\n\nhttps://lfuonline.uibk.ac.at/public/lfuonline_lv.details?sem_id_in=18W&lvnr_id_in=703025\n
CLASS:PUBLIC
DTSTART:20190111T091500Z
DTEND:20190111T100000Z
DTSTAMP:20260419T121611Z
LOCATION:HS 11
END:VEVENT
BEGIN:VEVENT
UID:18W_703025_3153248@uibk.ac.at
ORGANIZER;CN="LFU:online Universität Innsbruck":MAILTO:Uni-Innsbruck-noreply@uibk.ac.at
SUMMARY:PS Funktionale Programmierung (LV 703025-3 18W)
DESCRIPTION:Lehrveranstaltung 703025 18W, Gruppe 3\nTitel: PS Funktionale Programmierung\nOrt: HS 11\n\nhttps://lfuonline.uibk.ac.at/public/lfuonline_lv.details?sem_id_in=18W&lvnr_id_in=703025\n
CLASS:PUBLIC
DTSTART:20190118T091500Z
DTEND:20190118T100000Z
DTSTAMP:20260419T121611Z
LOCATION:HS 11
END:VEVENT
BEGIN:VEVENT
UID:18W_703025_3153249@uibk.ac.at
ORGANIZER;CN="LFU:online Universität Innsbruck":MAILTO:Uni-Innsbruck-noreply@uibk.ac.at
SUMMARY:PS Funktionale Programmierung (LV 703025-3 18W)
DESCRIPTION:Lehrveranstaltung 703025 18W, Gruppe 3\nTitel: PS Funktionale Programmierung\nOrt: HS 11\n\nhttps://lfuonline.uibk.ac.at/public/lfuonline_lv.details?sem_id_in=18W&lvnr_id_in=703025\n
CLASS:PUBLIC
DTSTART:20190125T091500Z
DTEND:20190125T100000Z
DTSTAMP:20260419T121611Z
LOCATION:HS 11
END:VEVENT
BEGIN:VEVENT
UID:18W_703025_3153250@uibk.ac.at
ORGANIZER;CN="LFU:online Universität Innsbruck":MAILTO:Uni-Innsbruck-noreply@uibk.ac.at
SUMMARY:PS Funktionale Programmierung (LV 703025-3 18W)
DESCRIPTION:Lehrveranstaltung 703025 18W, Gruppe 3\nTitel: PS Funktionale Programmierung\nOrt: HS 11\n\nhttps://lfuonline.uibk.ac.at/public/lfuonline_lv.details?sem_id_in=18W&lvnr_id_in=703025\n
CLASS:PUBLIC
DTSTART:20190201T091500Z
DTEND:20190201T100000Z
DTSTAMP:20260419T121611Z
LOCATION:HS 11
END:VEVENT
END:VCALENDAR