BEGIN:VCALENDAR
VERSION:2.0
PRODID:-//Universität Innsbruck//LFU:online//DE
METHOD:PUBLISH
BEGIN:VEVENT
UID:26S_703073_4993480@uibk.ac.at
ORGANIZER;CN="LFU:online Universität Innsbruck":MAILTO:Uni-Innsbruck-noreply@uibk.ac.at
SUMMARY:VU Einführung in das wissenschaftliche Arbeiten (LV 703073-3 26S)
DESCRIPTION:Lehrveranstaltung 703073 26S, Gruppe 3\nTitel: VU Einführung in das wissenschaftliche Arbeiten\nOrt: HS D (Technik)\n\nhttps://lfuonline.uibk.ac.at/public/lfuonline_lv.details?sem_id_in=26S&lvnr_id_in=703073\n
CLASS:PUBLIC
DTSTART:20260304T110000Z
DTEND:20260304T123000Z
DTSTAMP:20260423T014400Z
LOCATION:HS D (Technik)
END:VEVENT
BEGIN:VEVENT
UID:26S_703073_4993481@uibk.ac.at
ORGANIZER;CN="LFU:online Universität Innsbruck":MAILTO:Uni-Innsbruck-noreply@uibk.ac.at
SUMMARY:VU Einführung in das wissenschaftliche Arbeiten (LV 703073-3 26S)
DESCRIPTION:Lehrveranstaltung 703073 26S, Gruppe 3\nTitel: VU Einführung in das wissenschaftliche Arbeiten\nOrt: HS D (Technik)\n\nhttps://lfuonline.uibk.ac.at/public/lfuonline_lv.details?sem_id_in=26S&lvnr_id_in=703073\n
CLASS:PUBLIC
DTSTART:20260311T110000Z
DTEND:20260311T123000Z
DTSTAMP:20260423T014400Z
LOCATION:HS D (Technik)
END:VEVENT
BEGIN:VEVENT
UID:26S_703073_4993482@uibk.ac.at
ORGANIZER;CN="LFU:online Universität Innsbruck":MAILTO:Uni-Innsbruck-noreply@uibk.ac.at
SUMMARY:VU Einführung in das wissenschaftliche Arbeiten (LV 703073-3 26S)
DESCRIPTION:Lehrveranstaltung 703073 26S, Gruppe 3\nTitel: VU Einführung in das wissenschaftliche Arbeiten\nOrt: HS D (Technik)\n\nhttps://lfuonline.uibk.ac.at/public/lfuonline_lv.details?sem_id_in=26S&lvnr_id_in=703073\n
CLASS:PUBLIC
DTSTART:20260318T110000Z
DTEND:20260318T123000Z
DTSTAMP:20260423T014400Z
LOCATION:HS D (Technik)
END:VEVENT
BEGIN:VEVENT
UID:26S_703073_4993483@uibk.ac.at
ORGANIZER;CN="LFU:online Universität Innsbruck":MAILTO:Uni-Innsbruck-noreply@uibk.ac.at
SUMMARY:VU Einführung in das wissenschaftliche Arbeiten (LV 703073-3 26S)
DESCRIPTION:Lehrveranstaltung 703073 26S, Gruppe 3\nTitel: VU Einführung in das wissenschaftliche Arbeiten\nOrt: HS D (Technik)\n\nhttps://lfuonline.uibk.ac.at/public/lfuonline_lv.details?sem_id_in=26S&lvnr_id_in=703073\n
CLASS:PUBLIC
DTSTART:20260325T110000Z
DTEND:20260325T123000Z
DTSTAMP:20260423T014400Z
LOCATION:HS D (Technik)
END:VEVENT
BEGIN:VEVENT
UID:26S_703073_4993484@uibk.ac.at
ORGANIZER;CN="LFU:online Universität Innsbruck":MAILTO:Uni-Innsbruck-noreply@uibk.ac.at
SUMMARY:VU Einführung in das wissenschaftliche Arbeiten (LV 703073-3 26S)
DESCRIPTION:Lehrveranstaltung 703073 26S, Gruppe 3\nTitel: VU Einführung in das wissenschaftliche Arbeiten\nOrt: HS D (Technik)\n\nhttps://lfuonline.uibk.ac.at/public/lfuonline_lv.details?sem_id_in=26S&lvnr_id_in=703073\n
CLASS:PUBLIC
DTSTART:20260415T100000Z
DTEND:20260415T113000Z
DTSTAMP:20260423T014400Z
LOCATION:HS D (Technik)
END:VEVENT
BEGIN:VEVENT
UID:26S_703073_4993486@uibk.ac.at
ORGANIZER;CN="LFU:online Universität Innsbruck":MAILTO:Uni-Innsbruck-noreply@uibk.ac.at
SUMMARY:VU Einführung in das wissenschaftliche Arbeiten (LV 703073-3 26S)
DESCRIPTION:Lehrveranstaltung 703073 26S, Gruppe 3\nTitel: VU Einführung in das wissenschaftliche Arbeiten\nOrt: HS D (Technik)\n\nhttps://lfuonline.uibk.ac.at/public/lfuonline_lv.details?sem_id_in=26S&lvnr_id_in=703073\n
CLASS:PUBLIC
DTSTART:20260429T100000Z
DTEND:20260429T113000Z
DTSTAMP:20260423T014400Z
LOCATION:HS D (Technik)
END:VEVENT
BEGIN:VEVENT
UID:26S_703073_4993488@uibk.ac.at
ORGANIZER;CN="LFU:online Universität Innsbruck":MAILTO:Uni-Innsbruck-noreply@uibk.ac.at
SUMMARY:VU Einführung in das wissenschaftliche Arbeiten (LV 703073-3 26S)
DESCRIPTION:Lehrveranstaltung 703073 26S, Gruppe 3\nTitel: VU Einführung in das wissenschaftliche Arbeiten\nOrt: HS D (Technik)\n\nhttps://lfuonline.uibk.ac.at/public/lfuonline_lv.details?sem_id_in=26S&lvnr_id_in=703073\n
CLASS:PUBLIC
DTSTART:20260513T100000Z
DTEND:20260513T113000Z
DTSTAMP:20260423T014400Z
LOCATION:HS D (Technik)
END:VEVENT
BEGIN:VEVENT
UID:26S_703073_4993489@uibk.ac.at
ORGANIZER;CN="LFU:online Universität Innsbruck":MAILTO:Uni-Innsbruck-noreply@uibk.ac.at
SUMMARY:VU Einführung in das wissenschaftliche Arbeiten (LV 703073-3 26S)
DESCRIPTION:Lehrveranstaltung 703073 26S, Gruppe 3\nTitel: VU Einführung in das wissenschaftliche Arbeiten\nOrt: HS D (Technik)\n\nhttps://lfuonline.uibk.ac.at/public/lfuonline_lv.details?sem_id_in=26S&lvnr_id_in=703073\n
CLASS:PUBLIC
DTSTART:20260520T100000Z
DTEND:20260520T121500Z
DTSTAMP:20260423T014400Z
LOCATION:HS D (Technik)
END:VEVENT
BEGIN:VEVENT
UID:26S_703073_4993490@uibk.ac.at
ORGANIZER;CN="LFU:online Universität Innsbruck":MAILTO:Uni-Innsbruck-noreply@uibk.ac.at
SUMMARY:VU Einführung in das wissenschaftliche Arbeiten (LV 703073-3 26S)
DESCRIPTION:Lehrveranstaltung 703073 26S, Gruppe 3\nTitel: VU Einführung in das wissenschaftliche Arbeiten\nOrt: HS D (Technik)\n\nhttps://lfuonline.uibk.ac.at/public/lfuonline_lv.details?sem_id_in=26S&lvnr_id_in=703073\n
CLASS:PUBLIC
DTSTART:20260527T100000Z
DTEND:20260527T121500Z
DTSTAMP:20260423T014400Z
LOCATION:HS D (Technik)
END:VEVENT
BEGIN:VEVENT
UID:26S_703073_4993492@uibk.ac.at
ORGANIZER;CN="LFU:online Universität Innsbruck":MAILTO:Uni-Innsbruck-noreply@uibk.ac.at
SUMMARY:VU Einführung in das wissenschaftliche Arbeiten (LV 703073-3 26S)
DESCRIPTION:Lehrveranstaltung 703073 26S, Gruppe 3\nTitel: VU Einführung in das wissenschaftliche Arbeiten\nOrt: HS D (Technik)\n\nhttps://lfuonline.uibk.ac.at/public/lfuonline_lv.details?sem_id_in=26S&lvnr_id_in=703073\n
CLASS:PUBLIC
DTSTART:20260610T100000Z
DTEND:20260610T121500Z
DTSTAMP:20260423T014400Z
LOCATION:HS D (Technik)
END:VEVENT
BEGIN:VEVENT
UID:26S_703073_4993493@uibk.ac.at
ORGANIZER;CN="LFU:online Universität Innsbruck":MAILTO:Uni-Innsbruck-noreply@uibk.ac.at
SUMMARY:VU Einführung in das wissenschaftliche Arbeiten (LV 703073-3 26S)
DESCRIPTION:Lehrveranstaltung 703073 26S, Gruppe 3\nTitel: VU Einführung in das wissenschaftliche Arbeiten\nOrt: HS D (Technik)\n\nhttps://lfuonline.uibk.ac.at/public/lfuonline_lv.details?sem_id_in=26S&lvnr_id_in=703073\n
CLASS:PUBLIC
DTSTART:20260617T100000Z
DTEND:20260617T113000Z
DTSTAMP:20260423T014400Z
LOCATION:HS D (Technik)
END:VEVENT
BEGIN:VEVENT
UID:26S_703073_4993494@uibk.ac.at
ORGANIZER;CN="LFU:online Universität Innsbruck":MAILTO:Uni-Innsbruck-noreply@uibk.ac.at
SUMMARY:VU Einführung in das wissenschaftliche Arbeiten (LV 703073-3 26S)
DESCRIPTION:Lehrveranstaltung 703073 26S, Gruppe 3\nTitel: VU Einführung in das wissenschaftliche Arbeiten\nOrt: HS D (Technik)\n\nhttps://lfuonline.uibk.ac.at/public/lfuonline_lv.details?sem_id_in=26S&lvnr_id_in=703073\n
CLASS:PUBLIC
DTSTART:20260624T100000Z
DTEND:20260624T113000Z
DTSTAMP:20260423T014400Z
LOCATION:HS D (Technik)
END:VEVENT
END:VCALENDAR