BEGIN:VCALENDAR
VERSION:2.0
PRODID:-//Universität Innsbruck//LFU:online//DE
METHOD:PUBLISH
BEGIN:VEVENT
UID:20S_703076_3510188@uibk.ac.at
ORGANIZER;CN="LFU:online Universität Innsbruck":MAILTO:Uni-Innsbruck-noreply@uibk.ac.at
SUMMARY:PS Maschinelles Lernen (LV 703076-3 20S)
DESCRIPTION:Lehrveranstaltung 703076 20S, Gruppe 3\nTitel: PS Maschinelles Lernen\nOrt: HSB  5\n\nhttps://lfuonline.uibk.ac.at/public/lfuonline_lv.details?sem_id_in=20S&lvnr_id_in=703076\n
CLASS:PUBLIC
DTSTART:20200306T131500Z
DTEND:20200306T150000Z
DTSTAMP:20260419T123925Z
LOCATION:HSB  5
END:VEVENT
BEGIN:VEVENT
UID:20S_703076_3510189@uibk.ac.at
ORGANIZER;CN="LFU:online Universität Innsbruck":MAILTO:Uni-Innsbruck-noreply@uibk.ac.at
SUMMARY:PS Maschinelles Lernen (LV 703076-3 20S)
DESCRIPTION:Lehrveranstaltung 703076 20S, Gruppe 3\nTitel: PS Maschinelles Lernen\nOrt: HSB  5\n\nhttps://lfuonline.uibk.ac.at/public/lfuonline_lv.details?sem_id_in=20S&lvnr_id_in=703076\n
CLASS:PUBLIC
DTSTART:20200313T131500Z
DTEND:20200313T150000Z
DTSTAMP:20260419T123925Z
LOCATION:HSB  5
END:VEVENT
BEGIN:VEVENT
UID:20S_703076_3510190@uibk.ac.at
ORGANIZER;CN="LFU:online Universität Innsbruck":MAILTO:Uni-Innsbruck-noreply@uibk.ac.at
SUMMARY:PS Maschinelles Lernen (LV 703076-3 20S)
DESCRIPTION:Lehrveranstaltung 703076 20S, Gruppe 3\nTitel: PS Maschinelles Lernen\nOrt: HSB  5\n\nhttps://lfuonline.uibk.ac.at/public/lfuonline_lv.details?sem_id_in=20S&lvnr_id_in=703076\n
CLASS:PUBLIC
DTSTART:20200320T131500Z
DTEND:20200320T150000Z
DTSTAMP:20260419T123925Z
LOCATION:HSB  5
END:VEVENT
BEGIN:VEVENT
UID:20S_703076_3510191@uibk.ac.at
ORGANIZER;CN="LFU:online Universität Innsbruck":MAILTO:Uni-Innsbruck-noreply@uibk.ac.at
SUMMARY:PS Maschinelles Lernen (LV 703076-3 20S)
DESCRIPTION:Lehrveranstaltung 703076 20S, Gruppe 3\nTitel: PS Maschinelles Lernen\nOrt: HSB  5\n\nhttps://lfuonline.uibk.ac.at/public/lfuonline_lv.details?sem_id_in=20S&lvnr_id_in=703076\n
CLASS:PUBLIC
DTSTART:20200327T131500Z
DTEND:20200327T150000Z
DTSTAMP:20260419T123925Z
LOCATION:HSB  5
END:VEVENT
BEGIN:VEVENT
UID:20S_703076_3510192@uibk.ac.at
ORGANIZER;CN="LFU:online Universität Innsbruck":MAILTO:Uni-Innsbruck-noreply@uibk.ac.at
SUMMARY:PS Maschinelles Lernen (LV 703076-3 20S)
DESCRIPTION:Lehrveranstaltung 703076 20S, Gruppe 3\nTitel: PS Maschinelles Lernen\nOrt: HSB  5\n\nhttps://lfuonline.uibk.ac.at/public/lfuonline_lv.details?sem_id_in=20S&lvnr_id_in=703076\n
CLASS:PUBLIC
DTSTART:20200403T121500Z
DTEND:20200403T140000Z
DTSTAMP:20260419T123925Z
LOCATION:HSB  5
END:VEVENT
BEGIN:VEVENT
UID:20S_703076_3510193@uibk.ac.at
ORGANIZER;CN="LFU:online Universität Innsbruck":MAILTO:Uni-Innsbruck-noreply@uibk.ac.at
SUMMARY:PS Maschinelles Lernen (LV 703076-3 20S)
DESCRIPTION:Lehrveranstaltung 703076 20S, Gruppe 3\nTitel: PS Maschinelles Lernen\nOrt: HSB  5\n\nhttps://lfuonline.uibk.ac.at/public/lfuonline_lv.details?sem_id_in=20S&lvnr_id_in=703076\n
CLASS:PUBLIC
DTSTART:20200424T121500Z
DTEND:20200424T140000Z
DTSTAMP:20260419T123925Z
LOCATION:HSB  5
END:VEVENT
BEGIN:VEVENT
UID:20S_703076_3510194@uibk.ac.at
ORGANIZER;CN="LFU:online Universität Innsbruck":MAILTO:Uni-Innsbruck-noreply@uibk.ac.at
SUMMARY:PS Maschinelles Lernen (LV 703076-3 20S)
DESCRIPTION:Lehrveranstaltung 703076 20S, Gruppe 3\nTitel: PS Maschinelles Lernen\nOrt: HSB  5\n\nhttps://lfuonline.uibk.ac.at/public/lfuonline_lv.details?sem_id_in=20S&lvnr_id_in=703076\n
CLASS:PUBLIC
DTSTART:20200508T121500Z
DTEND:20200508T140000Z
DTSTAMP:20260419T123925Z
LOCATION:HSB  5
END:VEVENT
BEGIN:VEVENT
UID:20S_703076_3510195@uibk.ac.at
ORGANIZER;CN="LFU:online Universität Innsbruck":MAILTO:Uni-Innsbruck-noreply@uibk.ac.at
SUMMARY:PS Maschinelles Lernen (LV 703076-3 20S)
DESCRIPTION:Lehrveranstaltung 703076 20S, Gruppe 3\nTitel: PS Maschinelles Lernen\nOrt: HSB  5\n\nhttps://lfuonline.uibk.ac.at/public/lfuonline_lv.details?sem_id_in=20S&lvnr_id_in=703076\n
CLASS:PUBLIC
DTSTART:20200515T121500Z
DTEND:20200515T140000Z
DTSTAMP:20260419T123925Z
LOCATION:HSB  5
END:VEVENT
BEGIN:VEVENT
UID:20S_703076_3510196@uibk.ac.at
ORGANIZER;CN="LFU:online Universität Innsbruck":MAILTO:Uni-Innsbruck-noreply@uibk.ac.at
SUMMARY:PS Maschinelles Lernen (LV 703076-3 20S)
DESCRIPTION:Lehrveranstaltung 703076 20S, Gruppe 3\nTitel: PS Maschinelles Lernen\nOrt: HSB  5\n\nhttps://lfuonline.uibk.ac.at/public/lfuonline_lv.details?sem_id_in=20S&lvnr_id_in=703076\n
CLASS:PUBLIC
DTSTART:20200522T121500Z
DTEND:20200522T140000Z
DTSTAMP:20260419T123925Z
LOCATION:HSB  5
END:VEVENT
BEGIN:VEVENT
UID:20S_703076_3510197@uibk.ac.at
ORGANIZER;CN="LFU:online Universität Innsbruck":MAILTO:Uni-Innsbruck-noreply@uibk.ac.at
SUMMARY:PS Maschinelles Lernen (LV 703076-3 20S)
DESCRIPTION:Lehrveranstaltung 703076 20S, Gruppe 3\nTitel: PS Maschinelles Lernen\nOrt: HSB  5\n\nhttps://lfuonline.uibk.ac.at/public/lfuonline_lv.details?sem_id_in=20S&lvnr_id_in=703076\n
CLASS:PUBLIC
DTSTART:20200529T121500Z
DTEND:20200529T140000Z
DTSTAMP:20260419T123925Z
LOCATION:HSB  5
END:VEVENT
BEGIN:VEVENT
UID:20S_703076_3510198@uibk.ac.at
ORGANIZER;CN="LFU:online Universität Innsbruck":MAILTO:Uni-Innsbruck-noreply@uibk.ac.at
SUMMARY:PS Maschinelles Lernen (LV 703076-3 20S)
DESCRIPTION:Lehrveranstaltung 703076 20S, Gruppe 3\nTitel: PS Maschinelles Lernen\nOrt: HSB  5\n\nhttps://lfuonline.uibk.ac.at/public/lfuonline_lv.details?sem_id_in=20S&lvnr_id_in=703076\n
CLASS:PUBLIC
DTSTART:20200605T121500Z
DTEND:20200605T140000Z
DTSTAMP:20260419T123925Z
LOCATION:HSB  5
END:VEVENT
BEGIN:VEVENT
UID:20S_703076_3510199@uibk.ac.at
ORGANIZER;CN="LFU:online Universität Innsbruck":MAILTO:Uni-Innsbruck-noreply@uibk.ac.at
SUMMARY:PS Maschinelles Lernen (LV 703076-3 20S)
DESCRIPTION:Lehrveranstaltung 703076 20S, Gruppe 3\nTitel: PS Maschinelles Lernen\nOrt: HSB  5\n\nhttps://lfuonline.uibk.ac.at/public/lfuonline_lv.details?sem_id_in=20S&lvnr_id_in=703076\n
CLASS:PUBLIC
DTSTART:20200612T121500Z
DTEND:20200612T140000Z
DTSTAMP:20260419T123925Z
LOCATION:HSB  5
END:VEVENT
BEGIN:VEVENT
UID:20S_703076_3510200@uibk.ac.at
ORGANIZER;CN="LFU:online Universität Innsbruck":MAILTO:Uni-Innsbruck-noreply@uibk.ac.at
SUMMARY:PS Maschinelles Lernen (LV 703076-3 20S)
DESCRIPTION:Lehrveranstaltung 703076 20S, Gruppe 3\nTitel: PS Maschinelles Lernen\nOrt: HSB  5\n\nhttps://lfuonline.uibk.ac.at/public/lfuonline_lv.details?sem_id_in=20S&lvnr_id_in=703076\n
CLASS:PUBLIC
DTSTART:20200619T121500Z
DTEND:20200619T140000Z
DTSTAMP:20260419T123925Z
LOCATION:HSB  5
END:VEVENT
BEGIN:VEVENT
UID:20S_703076_3510201@uibk.ac.at
ORGANIZER;CN="LFU:online Universität Innsbruck":MAILTO:Uni-Innsbruck-noreply@uibk.ac.at
SUMMARY:PS Maschinelles Lernen (LV 703076-3 20S)
DESCRIPTION:Lehrveranstaltung 703076 20S, Gruppe 3\nTitel: PS Maschinelles Lernen\nOrt: HSB  5\n\nhttps://lfuonline.uibk.ac.at/public/lfuonline_lv.details?sem_id_in=20S&lvnr_id_in=703076\n
CLASS:PUBLIC
DTSTART:20200626T121500Z
DTEND:20200626T140000Z
DTSTAMP:20260419T123925Z
LOCATION:HSB  5
END:VEVENT
END:VCALENDAR