BEGIN:VCALENDAR
VERSION:2.0
PRODID:-//Universität Innsbruck//LFU:online//DE
METHOD:PUBLISH
BEGIN:VEVENT
UID:19S_703410_3335341@uibk.ac.at
ORGANIZER;CN="LFU:online Universität Innsbruck":MAILTO:Uni-Innsbruck-noreply@uibk.ac.at
SUMMARY:VU Introduction to Programming in Python (LV 703410-3 19S)
DESCRIPTION:Lehrveranstaltung 703410 19S, Gruppe 3\nTitel: VU Introduction to Programming in Python\nOrt: rr 20\n\nhttps://lfuonline.uibk.ac.at/public/lfuonline_lv.details?sem_id_in=19S&lvnr_id_in=703410\n
CLASS:PUBLIC
DTSTART:20190305T151500Z
DTEND:20190305T180000Z
DTSTAMP:20260421T003106Z
LOCATION:rr 20
END:VEVENT
BEGIN:VEVENT
UID:19S_703410_3335342@uibk.ac.at
ORGANIZER;CN="LFU:online Universität Innsbruck":MAILTO:Uni-Innsbruck-noreply@uibk.ac.at
SUMMARY:VU Introduction to Programming in Python (LV 703410-3 19S)
DESCRIPTION:Lehrveranstaltung 703410 19S, Gruppe 3\nTitel: VU Introduction to Programming in Python\nOrt: rr 20\n\nhttps://lfuonline.uibk.ac.at/public/lfuonline_lv.details?sem_id_in=19S&lvnr_id_in=703410\n
CLASS:PUBLIC
DTSTART:20190312T151500Z
DTEND:20190312T180000Z
DTSTAMP:20260421T003106Z
LOCATION:rr 20
END:VEVENT
BEGIN:VEVENT
UID:19S_703410_3335343@uibk.ac.at
ORGANIZER;CN="LFU:online Universität Innsbruck":MAILTO:Uni-Innsbruck-noreply@uibk.ac.at
SUMMARY:VU Introduction to Programming in Python (LV 703410-3 19S)
DESCRIPTION:Lehrveranstaltung 703410 19S, Gruppe 3\nTitel: VU Introduction to Programming in Python\nOrt: rr 20\n\nhttps://lfuonline.uibk.ac.at/public/lfuonline_lv.details?sem_id_in=19S&lvnr_id_in=703410\n
CLASS:PUBLIC
DTSTART:20190319T151500Z
DTEND:20190319T180000Z
DTSTAMP:20260421T003106Z
LOCATION:rr 20
END:VEVENT
BEGIN:VEVENT
UID:19S_703410_3335344@uibk.ac.at
ORGANIZER;CN="LFU:online Universität Innsbruck":MAILTO:Uni-Innsbruck-noreply@uibk.ac.at
SUMMARY:VU Introduction to Programming in Python (LV 703410-3 19S)
DESCRIPTION:Lehrveranstaltung 703410 19S, Gruppe 3\nTitel: VU Introduction to Programming in Python\nOrt: rr 20\n\nhttps://lfuonline.uibk.ac.at/public/lfuonline_lv.details?sem_id_in=19S&lvnr_id_in=703410\n
CLASS:PUBLIC
DTSTART:20190326T151500Z
DTEND:20190326T180000Z
DTSTAMP:20260421T003106Z
LOCATION:rr 20
END:VEVENT
BEGIN:VEVENT
UID:19S_703410_3335345@uibk.ac.at
ORGANIZER;CN="LFU:online Universität Innsbruck":MAILTO:Uni-Innsbruck-noreply@uibk.ac.at
SUMMARY:VU Introduction to Programming in Python (LV 703410-3 19S)
DESCRIPTION:Lehrveranstaltung 703410 19S, Gruppe 3\nTitel: VU Introduction to Programming in Python\nOrt: rr 20\n\nhttps://lfuonline.uibk.ac.at/public/lfuonline_lv.details?sem_id_in=19S&lvnr_id_in=703410\n
CLASS:PUBLIC
DTSTART:20190402T141500Z
DTEND:20190402T170000Z
DTSTAMP:20260421T003106Z
LOCATION:rr 20
END:VEVENT
BEGIN:VEVENT
UID:19S_703410_3335346@uibk.ac.at
ORGANIZER;CN="LFU:online Universität Innsbruck":MAILTO:Uni-Innsbruck-noreply@uibk.ac.at
SUMMARY:VU Introduction to Programming in Python (LV 703410-3 19S)
DESCRIPTION:Lehrveranstaltung 703410 19S, Gruppe 3\nTitel: VU Introduction to Programming in Python\nOrt: rr 20\n\nhttps://lfuonline.uibk.ac.at/public/lfuonline_lv.details?sem_id_in=19S&lvnr_id_in=703410\n
CLASS:PUBLIC
DTSTART:20190409T141500Z
DTEND:20190409T170000Z
DTSTAMP:20260421T003106Z
LOCATION:rr 20
END:VEVENT
BEGIN:VEVENT
UID:19S_703410_3335347@uibk.ac.at
ORGANIZER;CN="LFU:online Universität Innsbruck":MAILTO:Uni-Innsbruck-noreply@uibk.ac.at
SUMMARY:VU Introduction to Programming in Python (LV 703410-3 19S)
DESCRIPTION:Lehrveranstaltung 703410 19S, Gruppe 3\nTitel: VU Introduction to Programming in Python\nOrt: rr 20\n\nhttps://lfuonline.uibk.ac.at/public/lfuonline_lv.details?sem_id_in=19S&lvnr_id_in=703410\n
CLASS:PUBLIC
DTSTART:20190430T141500Z
DTEND:20190430T170000Z
DTSTAMP:20260421T003106Z
LOCATION:rr 20
END:VEVENT
BEGIN:VEVENT
UID:19S_703410_3335348@uibk.ac.at
ORGANIZER;CN="LFU:online Universität Innsbruck":MAILTO:Uni-Innsbruck-noreply@uibk.ac.at
SUMMARY:VU Introduction to Programming in Python (LV 703410-3 19S)
DESCRIPTION:Lehrveranstaltung 703410 19S, Gruppe 3\nTitel: VU Introduction to Programming in Python\nOrt: rr 20\n\nhttps://lfuonline.uibk.ac.at/public/lfuonline_lv.details?sem_id_in=19S&lvnr_id_in=703410\n
CLASS:PUBLIC
DTSTART:20190507T141500Z
DTEND:20190507T170000Z
DTSTAMP:20260421T003106Z
LOCATION:rr 20
END:VEVENT
BEGIN:VEVENT
UID:19S_703410_3335349@uibk.ac.at
ORGANIZER;CN="LFU:online Universität Innsbruck":MAILTO:Uni-Innsbruck-noreply@uibk.ac.at
SUMMARY:VU Introduction to Programming in Python (LV 703410-3 19S)
DESCRIPTION:Lehrveranstaltung 703410 19S, Gruppe 3\nTitel: VU Introduction to Programming in Python\nOrt: rr 20\n\nhttps://lfuonline.uibk.ac.at/public/lfuonline_lv.details?sem_id_in=19S&lvnr_id_in=703410\n
CLASS:PUBLIC
DTSTART:20190514T141500Z
DTEND:20190514T170000Z
DTSTAMP:20260421T003106Z
LOCATION:rr 20
END:VEVENT
BEGIN:VEVENT
UID:19S_703410_3335350@uibk.ac.at
ORGANIZER;CN="LFU:online Universität Innsbruck":MAILTO:Uni-Innsbruck-noreply@uibk.ac.at
SUMMARY:VU Introduction to Programming in Python (LV 703410-3 19S)
DESCRIPTION:Lehrveranstaltung 703410 19S, Gruppe 3\nTitel: VU Introduction to Programming in Python\nOrt: rr 20\n\nhttps://lfuonline.uibk.ac.at/public/lfuonline_lv.details?sem_id_in=19S&lvnr_id_in=703410\n
CLASS:PUBLIC
DTSTART:20190521T141500Z
DTEND:20190521T170000Z
DTSTAMP:20260421T003106Z
LOCATION:rr 20
END:VEVENT
BEGIN:VEVENT
UID:19S_703410_3335351@uibk.ac.at
ORGANIZER;CN="LFU:online Universität Innsbruck":MAILTO:Uni-Innsbruck-noreply@uibk.ac.at
SUMMARY:VU Introduction to Programming in Python (LV 703410-3 19S)
DESCRIPTION:Lehrveranstaltung 703410 19S, Gruppe 3\nTitel: VU Introduction to Programming in Python\nOrt: rr 20\n\nhttps://lfuonline.uibk.ac.at/public/lfuonline_lv.details?sem_id_in=19S&lvnr_id_in=703410\n
CLASS:PUBLIC
DTSTART:20190528T141500Z
DTEND:20190528T170000Z
DTSTAMP:20260421T003106Z
LOCATION:rr 20
END:VEVENT
BEGIN:VEVENT
UID:19S_703410_3335352@uibk.ac.at
ORGANIZER;CN="LFU:online Universität Innsbruck":MAILTO:Uni-Innsbruck-noreply@uibk.ac.at
SUMMARY:VU Introduction to Programming in Python (LV 703410-3 19S)
DESCRIPTION:Lehrveranstaltung 703410 19S, Gruppe 3\nTitel: VU Introduction to Programming in Python\nOrt: rr 20\n\nhttps://lfuonline.uibk.ac.at/public/lfuonline_lv.details?sem_id_in=19S&lvnr_id_in=703410\n
CLASS:PUBLIC
DTSTART:20190604T141500Z
DTEND:20190604T170000Z
DTSTAMP:20260421T003106Z
LOCATION:rr 20
END:VEVENT
BEGIN:VEVENT
UID:19S_703410_3335353@uibk.ac.at
ORGANIZER;CN="LFU:online Universität Innsbruck":MAILTO:Uni-Innsbruck-noreply@uibk.ac.at
SUMMARY:VU Introduction to Programming in Python (LV 703410-3 19S)
DESCRIPTION:Lehrveranstaltung 703410 19S, Gruppe 3\nTitel: VU Introduction to Programming in Python\nOrt: rr 20\n\nhttps://lfuonline.uibk.ac.at/public/lfuonline_lv.details?sem_id_in=19S&lvnr_id_in=703410\n
CLASS:PUBLIC
DTSTART:20190611T141500Z
DTEND:20190611T170000Z
DTSTAMP:20260421T003106Z
LOCATION:rr 20
END:VEVENT
BEGIN:VEVENT
UID:19S_703410_3335354@uibk.ac.at
ORGANIZER;CN="LFU:online Universität Innsbruck":MAILTO:Uni-Innsbruck-noreply@uibk.ac.at
SUMMARY:VU Introduction to Programming in Python (LV 703410-3 19S)
DESCRIPTION:Lehrveranstaltung 703410 19S, Gruppe 3\nTitel: VU Introduction to Programming in Python\nOrt: rr 20\n\nhttps://lfuonline.uibk.ac.at/public/lfuonline_lv.details?sem_id_in=19S&lvnr_id_in=703410\n
CLASS:PUBLIC
DTSTART:20190618T141500Z
DTEND:20190618T170000Z
DTSTAMP:20260421T003106Z
LOCATION:rr 20
END:VEVENT
BEGIN:VEVENT
UID:19S_703410_3335355@uibk.ac.at
ORGANIZER;CN="LFU:online Universität Innsbruck":MAILTO:Uni-Innsbruck-noreply@uibk.ac.at
SUMMARY:VU Introduction to Programming in Python (LV 703410-3 19S)
DESCRIPTION:Lehrveranstaltung 703410 19S, Gruppe 3\nTitel: VU Introduction to Programming in Python\nOrt: rr 20\n\nhttps://lfuonline.uibk.ac.at/public/lfuonline_lv.details?sem_id_in=19S&lvnr_id_in=703410\n
CLASS:PUBLIC
DTSTART:20190625T141500Z
DTEND:20190625T170000Z
DTSTAMP:20260421T003106Z
LOCATION:rr 20
END:VEVENT
END:VCALENDAR