BEGIN:VCALENDAR
VERSION:2.0
PRODID:-//Universität Innsbruck//LFU:online//DE
METHOD:PUBLISH
BEGIN:VEVENT
UID:26S_705321_4972110@uibk.ac.at
ORGANIZER;CN="LFU:online Universität Innsbruck":MAILTO:Uni-Innsbruck-noreply@uibk.ac.at
SUMMARY:UE Theoretische Physik 1 (Mechanik) (LV 705321-3 26S)
DESCRIPTION:Lehrveranstaltung 705321 26S, Gruppe 3\nTitel: UE Theoretische Physik 1 (Mechanik)\nOrt: HSB  2\n\nhttps://lfuonline.uibk.ac.at/public/lfuonline_lv.details?sem_id_in=26S&lvnr_id_in=705321\n
CLASS:PUBLIC
DTSTART:20260309T124500Z
DTEND:20260309T141500Z
DTSTAMP:20260421T144440Z
LOCATION:HSB  2
END:VEVENT
BEGIN:VEVENT
UID:26S_705321_4972111@uibk.ac.at
ORGANIZER;CN="LFU:online Universität Innsbruck":MAILTO:Uni-Innsbruck-noreply@uibk.ac.at
SUMMARY:UE Theoretische Physik 1 (Mechanik) (LV 705321-3 26S)
DESCRIPTION:Lehrveranstaltung 705321 26S, Gruppe 3\nTitel: UE Theoretische Physik 1 (Mechanik)\nOrt: HSB  2\n\nhttps://lfuonline.uibk.ac.at/public/lfuonline_lv.details?sem_id_in=26S&lvnr_id_in=705321\n
CLASS:PUBLIC
DTSTART:20260316T124500Z
DTEND:20260316T141500Z
DTSTAMP:20260421T144440Z
LOCATION:HSB  2
END:VEVENT
BEGIN:VEVENT
UID:26S_705321_4972112@uibk.ac.at
ORGANIZER;CN="LFU:online Universität Innsbruck":MAILTO:Uni-Innsbruck-noreply@uibk.ac.at
SUMMARY:UE Theoretische Physik 1 (Mechanik) (LV 705321-3 26S)
DESCRIPTION:Lehrveranstaltung 705321 26S, Gruppe 3\nTitel: UE Theoretische Physik 1 (Mechanik)\nOrt: HSB  2\n\nhttps://lfuonline.uibk.ac.at/public/lfuonline_lv.details?sem_id_in=26S&lvnr_id_in=705321\n
CLASS:PUBLIC
DTSTART:20260323T124500Z
DTEND:20260323T141500Z
DTSTAMP:20260421T144440Z
LOCATION:HSB  2
END:VEVENT
BEGIN:VEVENT
UID:26S_705321_4972113@uibk.ac.at
ORGANIZER;CN="LFU:online Universität Innsbruck":MAILTO:Uni-Innsbruck-noreply@uibk.ac.at
SUMMARY:UE Theoretische Physik 1 (Mechanik) (LV 705321-3 26S)
DESCRIPTION:Lehrveranstaltung 705321 26S, Gruppe 3\nTitel: UE Theoretische Physik 1 (Mechanik)\nOrt: HSB  2\n\nhttps://lfuonline.uibk.ac.at/public/lfuonline_lv.details?sem_id_in=26S&lvnr_id_in=705321\n
CLASS:PUBLIC
DTSTART:20260413T114500Z
DTEND:20260413T131500Z
DTSTAMP:20260421T144440Z
LOCATION:HSB  2
END:VEVENT
BEGIN:VEVENT
UID:26S_705321_4972114@uibk.ac.at
ORGANIZER;CN="LFU:online Universität Innsbruck":MAILTO:Uni-Innsbruck-noreply@uibk.ac.at
SUMMARY:UE Theoretische Physik 1 (Mechanik) (LV 705321-3 26S)
DESCRIPTION:Lehrveranstaltung 705321 26S, Gruppe 3\nTitel: UE Theoretische Physik 1 (Mechanik)\nOrt: HSB  2\n\nhttps://lfuonline.uibk.ac.at/public/lfuonline_lv.details?sem_id_in=26S&lvnr_id_in=705321\n
CLASS:PUBLIC
DTSTART:20260420T114500Z
DTEND:20260420T131500Z
DTSTAMP:20260421T144440Z
LOCATION:HSB  2
END:VEVENT
BEGIN:VEVENT
UID:26S_705321_4972115@uibk.ac.at
ORGANIZER;CN="LFU:online Universität Innsbruck":MAILTO:Uni-Innsbruck-noreply@uibk.ac.at
SUMMARY:UE Theoretische Physik 1 (Mechanik) (LV 705321-3 26S)
DESCRIPTION:Lehrveranstaltung 705321 26S, Gruppe 3\nTitel: UE Theoretische Physik 1 (Mechanik)\nOrt: HSB  2\n\nhttps://lfuonline.uibk.ac.at/public/lfuonline_lv.details?sem_id_in=26S&lvnr_id_in=705321\n
CLASS:PUBLIC
DTSTART:20260427T114500Z
DTEND:20260427T131500Z
DTSTAMP:20260421T144440Z
LOCATION:HSB  2
END:VEVENT
BEGIN:VEVENT
UID:26S_705321_4972116@uibk.ac.at
ORGANIZER;CN="LFU:online Universität Innsbruck":MAILTO:Uni-Innsbruck-noreply@uibk.ac.at
SUMMARY:UE Theoretische Physik 1 (Mechanik) (LV 705321-3 26S)
DESCRIPTION:Lehrveranstaltung 705321 26S, Gruppe 3\nTitel: UE Theoretische Physik 1 (Mechanik)\nOrt: HSB  2\n\nhttps://lfuonline.uibk.ac.at/public/lfuonline_lv.details?sem_id_in=26S&lvnr_id_in=705321\n
CLASS:PUBLIC
DTSTART:20260504T114500Z
DTEND:20260504T131500Z
DTSTAMP:20260421T144440Z
LOCATION:HSB  2
END:VEVENT
BEGIN:VEVENT
UID:26S_705321_4972117@uibk.ac.at
ORGANIZER;CN="LFU:online Universität Innsbruck":MAILTO:Uni-Innsbruck-noreply@uibk.ac.at
SUMMARY:UE Theoretische Physik 1 (Mechanik) (LV 705321-3 26S)
DESCRIPTION:Lehrveranstaltung 705321 26S, Gruppe 3\nTitel: UE Theoretische Physik 1 (Mechanik)\nOrt: HSB  2\n\nhttps://lfuonline.uibk.ac.at/public/lfuonline_lv.details?sem_id_in=26S&lvnr_id_in=705321\n
CLASS:PUBLIC
DTSTART:20260511T114500Z
DTEND:20260511T131500Z
DTSTAMP:20260421T144440Z
LOCATION:HSB  2
END:VEVENT
BEGIN:VEVENT
UID:26S_705321_4972118@uibk.ac.at
ORGANIZER;CN="LFU:online Universität Innsbruck":MAILTO:Uni-Innsbruck-noreply@uibk.ac.at
SUMMARY:UE Theoretische Physik 1 (Mechanik) (LV 705321-3 26S)
DESCRIPTION:Lehrveranstaltung 705321 26S, Gruppe 3\nTitel: UE Theoretische Physik 1 (Mechanik)\nOrt: HSB  2\n\nhttps://lfuonline.uibk.ac.at/public/lfuonline_lv.details?sem_id_in=26S&lvnr_id_in=705321\n
CLASS:PUBLIC
DTSTART:20260518T114500Z
DTEND:20260518T131500Z
DTSTAMP:20260421T144440Z
LOCATION:HSB  2
END:VEVENT
BEGIN:VEVENT
UID:26S_705321_4972119@uibk.ac.at
ORGANIZER;CN="LFU:online Universität Innsbruck":MAILTO:Uni-Innsbruck-noreply@uibk.ac.at
SUMMARY:UE Theoretische Physik 1 (Mechanik) (LV 705321-3 26S)
DESCRIPTION:Lehrveranstaltung 705321 26S, Gruppe 3\nTitel: UE Theoretische Physik 1 (Mechanik)\nOrt: HSB  2\n\nhttps://lfuonline.uibk.ac.at/public/lfuonline_lv.details?sem_id_in=26S&lvnr_id_in=705321\n
CLASS:PUBLIC
DTSTART:20260601T114500Z
DTEND:20260601T131500Z
DTSTAMP:20260421T144440Z
LOCATION:HSB  2
END:VEVENT
BEGIN:VEVENT
UID:26S_705321_4972120@uibk.ac.at
ORGANIZER;CN="LFU:online Universität Innsbruck":MAILTO:Uni-Innsbruck-noreply@uibk.ac.at
SUMMARY:UE Theoretische Physik 1 (Mechanik) (LV 705321-3 26S)
DESCRIPTION:Lehrveranstaltung 705321 26S, Gruppe 3\nTitel: UE Theoretische Physik 1 (Mechanik)\nOrt: HSB  2\n\nhttps://lfuonline.uibk.ac.at/public/lfuonline_lv.details?sem_id_in=26S&lvnr_id_in=705321\n
CLASS:PUBLIC
DTSTART:20260608T114500Z
DTEND:20260608T131500Z
DTSTAMP:20260421T144440Z
LOCATION:HSB  2
END:VEVENT
BEGIN:VEVENT
UID:26S_705321_4972121@uibk.ac.at
ORGANIZER;CN="LFU:online Universität Innsbruck":MAILTO:Uni-Innsbruck-noreply@uibk.ac.at
SUMMARY:UE Theoretische Physik 1 (Mechanik) (LV 705321-3 26S)
DESCRIPTION:Lehrveranstaltung 705321 26S, Gruppe 3\nTitel: UE Theoretische Physik 1 (Mechanik)\nOrt: HSB  2\n\nhttps://lfuonline.uibk.ac.at/public/lfuonline_lv.details?sem_id_in=26S&lvnr_id_in=705321\n
CLASS:PUBLIC
DTSTART:20260615T114500Z
DTEND:20260615T131500Z
DTSTAMP:20260421T144440Z
LOCATION:HSB  2
END:VEVENT
BEGIN:VEVENT
UID:26S_705321_4972122@uibk.ac.at
ORGANIZER;CN="LFU:online Universität Innsbruck":MAILTO:Uni-Innsbruck-noreply@uibk.ac.at
SUMMARY:UE Theoretische Physik 1 (Mechanik) (LV 705321-3 26S)
DESCRIPTION:Lehrveranstaltung 705321 26S, Gruppe 3\nTitel: UE Theoretische Physik 1 (Mechanik)\nOrt: HSB  2\n\nhttps://lfuonline.uibk.ac.at/public/lfuonline_lv.details?sem_id_in=26S&lvnr_id_in=705321\n
CLASS:PUBLIC
DTSTART:20260622T114500Z
DTEND:20260622T131500Z
DTSTAMP:20260421T144440Z
LOCATION:HSB  2
END:VEVENT
END:VCALENDAR