BEGIN:VCALENDAR
VERSION:2.0
PRODID:-//Universität Innsbruck//LFU:online//DE
METHOD:PUBLISH
BEGIN:VEVENT
UID:18W_705513_3142391@uibk.ac.at
ORGANIZER;CN="LFU:online Universität Innsbruck":MAILTO:Uni-Innsbruck-noreply@uibk.ac.at
SUMMARY:PS Theoretische Physik 3 (Elektrodynamik) (LV 705513-3 18W)
DESCRIPTION:Lehrveranstaltung 705513 18W, Gruppe 3\nTitel: PS Theoretische Physik 3 (Elektrodynamik)\nOrt: HSB  8\n\nhttps://lfuonline.uibk.ac.at/public/lfuonline_lv.details?sem_id_in=18W&lvnr_id_in=705513\n
CLASS:PUBLIC
DTSTART:20181005T081500Z
DTEND:20181005T100000Z
DTSTAMP:20260421T154956Z
LOCATION:HSB  8
END:VEVENT
BEGIN:VEVENT
UID:18W_705513_3142392@uibk.ac.at
ORGANIZER;CN="LFU:online Universität Innsbruck":MAILTO:Uni-Innsbruck-noreply@uibk.ac.at
SUMMARY:PS Theoretische Physik 3 (Elektrodynamik) (LV 705513-3 18W)
DESCRIPTION:Lehrveranstaltung 705513 18W, Gruppe 3\nTitel: PS Theoretische Physik 3 (Elektrodynamik)\nOrt: HSB  8\n\nhttps://lfuonline.uibk.ac.at/public/lfuonline_lv.details?sem_id_in=18W&lvnr_id_in=705513\n
CLASS:PUBLIC
DTSTART:20181012T081500Z
DTEND:20181012T100000Z
DTSTAMP:20260421T154956Z
LOCATION:HSB  8
END:VEVENT
BEGIN:VEVENT
UID:18W_705513_3225873@uibk.ac.at
ORGANIZER;CN="LFU:online Universität Innsbruck":MAILTO:Uni-Innsbruck-noreply@uibk.ac.at
SUMMARY:PS Theoretische Physik 3 (Elektrodynamik) (LV 705513-3 18W)
DESCRIPTION:Lehrveranstaltung 705513 18W, Gruppe 3\nTitel: PS Theoretische Physik 3 (Elektrodynamik)\nOrt: HS A (Technik)\n\nhttps://lfuonline.uibk.ac.at/public/lfuonline_lv.details?sem_id_in=18W&lvnr_id_in=705513\n
CLASS:PUBLIC
DTSTART:20181017T150000Z
DTEND:20181017T163000Z
DTSTAMP:20260421T154956Z
LOCATION:HS A (Technik)
COMMENT:1. Zentralübung
END:VEVENT
BEGIN:VEVENT
UID:18W_705513_3225874@uibk.ac.at
ORGANIZER;CN="LFU:online Universität Innsbruck":MAILTO:Uni-Innsbruck-noreply@uibk.ac.at
SUMMARY:PS Theoretische Physik 3 (Elektrodynamik) (LV 705513-3 18W)
DESCRIPTION:Lehrveranstaltung 705513 18W, Gruppe 3\nTitel: PS Theoretische Physik 3 (Elektrodynamik)\nOrt: HS A (Technik)\n\nhttps://lfuonline.uibk.ac.at/public/lfuonline_lv.details?sem_id_in=18W&lvnr_id_in=705513\n
CLASS:PUBLIC
DTSTART:20181024T150000Z
DTEND:20181024T163000Z
DTSTAMP:20260421T154956Z
LOCATION:HS A (Technik)
COMMENT:2. Zentralübung
END:VEVENT
BEGIN:VEVENT
UID:18W_705513_3142393@uibk.ac.at
ORGANIZER;CN="LFU:online Universität Innsbruck":MAILTO:Uni-Innsbruck-noreply@uibk.ac.at
SUMMARY:PS Theoretische Physik 3 (Elektrodynamik) (LV 705513-3 18W)
DESCRIPTION:Lehrveranstaltung 705513 18W, Gruppe 3\nTitel: PS Theoretische Physik 3 (Elektrodynamik)\nOrt: HSB  8\n\nhttps://lfuonline.uibk.ac.at/public/lfuonline_lv.details?sem_id_in=18W&lvnr_id_in=705513\n
CLASS:PUBLIC
DTSTART:20181109T091500Z
DTEND:20181109T110000Z
DTSTAMP:20260421T154956Z
LOCATION:HSB  8
END:VEVENT
BEGIN:VEVENT
UID:18W_705513_3142394@uibk.ac.at
ORGANIZER;CN="LFU:online Universität Innsbruck":MAILTO:Uni-Innsbruck-noreply@uibk.ac.at
SUMMARY:PS Theoretische Physik 3 (Elektrodynamik) (LV 705513-3 18W)
DESCRIPTION:Lehrveranstaltung 705513 18W, Gruppe 3\nTitel: PS Theoretische Physik 3 (Elektrodynamik)\nOrt: HSB  8\n\nhttps://lfuonline.uibk.ac.at/public/lfuonline_lv.details?sem_id_in=18W&lvnr_id_in=705513\n
CLASS:PUBLIC
DTSTART:20181116T091500Z
DTEND:20181116T110000Z
DTSTAMP:20260421T154956Z
LOCATION:HSB  8
END:VEVENT
BEGIN:VEVENT
UID:18W_705513_3142395@uibk.ac.at
ORGANIZER;CN="LFU:online Universität Innsbruck":MAILTO:Uni-Innsbruck-noreply@uibk.ac.at
SUMMARY:PS Theoretische Physik 3 (Elektrodynamik) (LV 705513-3 18W)
DESCRIPTION:Lehrveranstaltung 705513 18W, Gruppe 3\nTitel: PS Theoretische Physik 3 (Elektrodynamik)\nOrt: HSB  8\n\nhttps://lfuonline.uibk.ac.at/public/lfuonline_lv.details?sem_id_in=18W&lvnr_id_in=705513\n
CLASS:PUBLIC
DTSTART:20181123T091500Z
DTEND:20181123T110000Z
DTSTAMP:20260421T154956Z
LOCATION:HSB  8
END:VEVENT
BEGIN:VEVENT
UID:18W_705513_3142396@uibk.ac.at
ORGANIZER;CN="LFU:online Universität Innsbruck":MAILTO:Uni-Innsbruck-noreply@uibk.ac.at
SUMMARY:PS Theoretische Physik 3 (Elektrodynamik) (LV 705513-3 18W)
DESCRIPTION:Lehrveranstaltung 705513 18W, Gruppe 3\nTitel: PS Theoretische Physik 3 (Elektrodynamik)\nOrt: HSB  8\n\nhttps://lfuonline.uibk.ac.at/public/lfuonline_lv.details?sem_id_in=18W&lvnr_id_in=705513\n
CLASS:PUBLIC
DTSTART:20181130T091500Z
DTEND:20181130T110000Z
DTSTAMP:20260421T154956Z
LOCATION:HSB  8
END:VEVENT
BEGIN:VEVENT
UID:18W_705513_3225879@uibk.ac.at
ORGANIZER;CN="LFU:online Universität Innsbruck":MAILTO:Uni-Innsbruck-noreply@uibk.ac.at
SUMMARY:PS Theoretische Physik 3 (Elektrodynamik) (LV 705513-3 18W)
DESCRIPTION:Lehrveranstaltung 705513 18W, Gruppe 3\nTitel: PS Theoretische Physik 3 (Elektrodynamik)\nOrt: HS A (Technik)\n\nhttps://lfuonline.uibk.ac.at/public/lfuonline_lv.details?sem_id_in=18W&lvnr_id_in=705513\n
CLASS:PUBLIC
DTSTART:20181130T113000Z
DTEND:20181130T153000Z
DTSTAMP:20260421T154956Z
LOCATION:HS A (Technik)
COMMENT:1. Klausur für alle Gruppen
END:VEVENT
BEGIN:VEVENT
UID:18W_705513_3142397@uibk.ac.at
ORGANIZER;CN="LFU:online Universität Innsbruck":MAILTO:Uni-Innsbruck-noreply@uibk.ac.at
SUMMARY:PS Theoretische Physik 3 (Elektrodynamik) (LV 705513-3 18W)
DESCRIPTION:Lehrveranstaltung 705513 18W, Gruppe 3\nTitel: PS Theoretische Physik 3 (Elektrodynamik)\nOrt: HSB  8\n\nhttps://lfuonline.uibk.ac.at/public/lfuonline_lv.details?sem_id_in=18W&lvnr_id_in=705513\n
CLASS:PUBLIC
DTSTART:20181207T091500Z
DTEND:20181207T110000Z
DTSTAMP:20260421T154956Z
LOCATION:HSB  8
END:VEVENT
BEGIN:VEVENT
UID:18W_705513_3142398@uibk.ac.at
ORGANIZER;CN="LFU:online Universität Innsbruck":MAILTO:Uni-Innsbruck-noreply@uibk.ac.at
SUMMARY:PS Theoretische Physik 3 (Elektrodynamik) (LV 705513-3 18W)
DESCRIPTION:Lehrveranstaltung 705513 18W, Gruppe 3\nTitel: PS Theoretische Physik 3 (Elektrodynamik)\nOrt: HSB  8\n\nhttps://lfuonline.uibk.ac.at/public/lfuonline_lv.details?sem_id_in=18W&lvnr_id_in=705513\n
CLASS:PUBLIC
DTSTART:20181214T091500Z
DTEND:20181214T110000Z
DTSTAMP:20260421T154956Z
LOCATION:HSB  8
END:VEVENT
BEGIN:VEVENT
UID:18W_705513_3142399@uibk.ac.at
ORGANIZER;CN="LFU:online Universität Innsbruck":MAILTO:Uni-Innsbruck-noreply@uibk.ac.at
SUMMARY:PS Theoretische Physik 3 (Elektrodynamik) (LV 705513-3 18W)
DESCRIPTION:Lehrveranstaltung 705513 18W, Gruppe 3\nTitel: PS Theoretische Physik 3 (Elektrodynamik)\nOrt: HSB  8\n\nhttps://lfuonline.uibk.ac.at/public/lfuonline_lv.details?sem_id_in=18W&lvnr_id_in=705513\n
CLASS:PUBLIC
DTSTART:20190111T091500Z
DTEND:20190111T110000Z
DTSTAMP:20260421T154956Z
LOCATION:HSB  8
END:VEVENT
BEGIN:VEVENT
UID:18W_705513_3142400@uibk.ac.at
ORGANIZER;CN="LFU:online Universität Innsbruck":MAILTO:Uni-Innsbruck-noreply@uibk.ac.at
SUMMARY:PS Theoretische Physik 3 (Elektrodynamik) (LV 705513-3 18W)
DESCRIPTION:Lehrveranstaltung 705513 18W, Gruppe 3\nTitel: PS Theoretische Physik 3 (Elektrodynamik)\nOrt: HSB  8\n\nhttps://lfuonline.uibk.ac.at/public/lfuonline_lv.details?sem_id_in=18W&lvnr_id_in=705513\n
CLASS:PUBLIC
DTSTART:20190118T091500Z
DTEND:20190118T110000Z
DTSTAMP:20260421T154956Z
LOCATION:HSB  8
END:VEVENT
BEGIN:VEVENT
UID:18W_705513_3142401@uibk.ac.at
ORGANIZER;CN="LFU:online Universität Innsbruck":MAILTO:Uni-Innsbruck-noreply@uibk.ac.at
SUMMARY:PS Theoretische Physik 3 (Elektrodynamik) (LV 705513-3 18W)
DESCRIPTION:Lehrveranstaltung 705513 18W, Gruppe 3\nTitel: PS Theoretische Physik 3 (Elektrodynamik)\nOrt: HSB  8\n\nhttps://lfuonline.uibk.ac.at/public/lfuonline_lv.details?sem_id_in=18W&lvnr_id_in=705513\n
CLASS:PUBLIC
DTSTART:20190125T091500Z
DTEND:20190125T110000Z
DTSTAMP:20260421T154956Z
LOCATION:HSB  8
END:VEVENT
BEGIN:VEVENT
UID:18W_705513_3142402@uibk.ac.at
ORGANIZER;CN="LFU:online Universität Innsbruck":MAILTO:Uni-Innsbruck-noreply@uibk.ac.at
SUMMARY:PS Theoretische Physik 3 (Elektrodynamik) (LV 705513-3 18W)
DESCRIPTION:Lehrveranstaltung 705513 18W, Gruppe 3\nTitel: PS Theoretische Physik 3 (Elektrodynamik)\nOrt: HSB  8\n\nhttps://lfuonline.uibk.ac.at/public/lfuonline_lv.details?sem_id_in=18W&lvnr_id_in=705513\n
CLASS:PUBLIC
DTSTART:20190201T091500Z
DTEND:20190201T110000Z
DTSTAMP:20260421T154956Z
LOCATION:HSB  8
END:VEVENT
BEGIN:VEVENT
UID:18W_705513_3225880@uibk.ac.at
ORGANIZER;CN="LFU:online Universität Innsbruck":MAILTO:Uni-Innsbruck-noreply@uibk.ac.at
SUMMARY:PS Theoretische Physik 3 (Elektrodynamik) (LV 705513-3 18W)
DESCRIPTION:Lehrveranstaltung 705513 18W, Gruppe 3\nTitel: PS Theoretische Physik 3 (Elektrodynamik)\nOrt: HS A (Technik)\n\nhttps://lfuonline.uibk.ac.at/public/lfuonline_lv.details?sem_id_in=18W&lvnr_id_in=705513\n
CLASS:PUBLIC
DTSTART:20190201T113000Z
DTEND:20190201T153000Z
DTSTAMP:20260421T154956Z
LOCATION:HS A (Technik)
COMMENT:2. Klausur für alle Gruppen
END:VEVENT
END:VCALENDAR