BEGIN:VCALENDAR
VERSION:2.0
PRODID:-//Universität Innsbruck//LFU:online//DE
METHOD:PUBLISH
BEGIN:VEVENT
UID:25W_718293_5017307@uibk.ac.at
ORGANIZER;CN="LFU:online Universität Innsbruck":MAILTO:Uni-Innsbruck-noreply@uibk.ac.at
SUMMARY:UE Berufsrelevante Arbeitstechniken in der Mikrobiologie (LV 718293-3 25W)
DESCRIPTION:Lehrveranstaltung 718293 25W, Gruppe 3\nTitel: UE Berufsrelevante Arbeitstechniken in der Mikrobiologie\nOrt: Labor Biologie 0/406\n\nhttps://lfuonline.uibk.ac.at/public/lfuonline_lv.details?sem_id_in=25W&lvnr_id_in=718293\n
CLASS:PUBLIC
DTSTART:20260218T073000Z
DTEND:20260218T170000Z
DTSTAMP:20260419T182544Z
LOCATION:Labor Biologie 0/406
END:VEVENT
BEGIN:VEVENT
UID:25W_718293_5017308@uibk.ac.at
ORGANIZER;CN="LFU:online Universität Innsbruck":MAILTO:Uni-Innsbruck-noreply@uibk.ac.at
SUMMARY:UE Berufsrelevante Arbeitstechniken in der Mikrobiologie (LV 718293-3 25W)
DESCRIPTION:Lehrveranstaltung 718293 25W, Gruppe 3\nTitel: UE Berufsrelevante Arbeitstechniken in der Mikrobiologie\nOrt: Labor Biologie 0/406\n\nhttps://lfuonline.uibk.ac.at/public/lfuonline_lv.details?sem_id_in=25W&lvnr_id_in=718293\n
CLASS:PUBLIC
DTSTART:20260219T073000Z
DTEND:20260219T170000Z
DTSTAMP:20260419T182544Z
LOCATION:Labor Biologie 0/406
END:VEVENT
BEGIN:VEVENT
UID:25W_718293_5017309@uibk.ac.at
ORGANIZER;CN="LFU:online Universität Innsbruck":MAILTO:Uni-Innsbruck-noreply@uibk.ac.at
SUMMARY:UE Berufsrelevante Arbeitstechniken in der Mikrobiologie (LV 718293-3 25W)
DESCRIPTION:Lehrveranstaltung 718293 25W, Gruppe 3\nTitel: UE Berufsrelevante Arbeitstechniken in der Mikrobiologie\nOrt: Labor Biologie 0/406\n\nhttps://lfuonline.uibk.ac.at/public/lfuonline_lv.details?sem_id_in=25W&lvnr_id_in=718293\n
CLASS:PUBLIC
DTSTART:20260220T073000Z
DTEND:20260220T170000Z
DTSTAMP:20260419T182544Z
LOCATION:Labor Biologie 0/406
END:VEVENT
BEGIN:VEVENT
UID:25W_718293_5017310@uibk.ac.at
ORGANIZER;CN="LFU:online Universität Innsbruck":MAILTO:Uni-Innsbruck-noreply@uibk.ac.at
SUMMARY:UE Berufsrelevante Arbeitstechniken in der Mikrobiologie (LV 718293-3 25W)
DESCRIPTION:Lehrveranstaltung 718293 25W, Gruppe 3\nTitel: UE Berufsrelevante Arbeitstechniken in der Mikrobiologie\nOrt: Labor Biologie 0/406\n\nhttps://lfuonline.uibk.ac.at/public/lfuonline_lv.details?sem_id_in=25W&lvnr_id_in=718293\n
CLASS:PUBLIC
DTSTART:20260223T073000Z
DTEND:20260223T170000Z
DTSTAMP:20260419T182544Z
LOCATION:Labor Biologie 0/406
END:VEVENT
BEGIN:VEVENT
UID:25W_718293_5017311@uibk.ac.at
ORGANIZER;CN="LFU:online Universität Innsbruck":MAILTO:Uni-Innsbruck-noreply@uibk.ac.at
SUMMARY:UE Berufsrelevante Arbeitstechniken in der Mikrobiologie (LV 718293-3 25W)
DESCRIPTION:Lehrveranstaltung 718293 25W, Gruppe 3\nTitel: UE Berufsrelevante Arbeitstechniken in der Mikrobiologie\nOrt: Labor Biologie 0/406\n\nhttps://lfuonline.uibk.ac.at/public/lfuonline_lv.details?sem_id_in=25W&lvnr_id_in=718293\n
CLASS:PUBLIC
DTSTART:20260224T073000Z
DTEND:20260224T170000Z
DTSTAMP:20260419T182544Z
LOCATION:Labor Biologie 0/406
END:VEVENT
BEGIN:VEVENT
UID:25W_718293_5017312@uibk.ac.at
ORGANIZER;CN="LFU:online Universität Innsbruck":MAILTO:Uni-Innsbruck-noreply@uibk.ac.at
SUMMARY:UE Berufsrelevante Arbeitstechniken in der Mikrobiologie (LV 718293-3 25W)
DESCRIPTION:Lehrveranstaltung 718293 25W, Gruppe 3\nTitel: UE Berufsrelevante Arbeitstechniken in der Mikrobiologie\nOrt: Labor Biologie 0/406\n\nhttps://lfuonline.uibk.ac.at/public/lfuonline_lv.details?sem_id_in=25W&lvnr_id_in=718293\n
CLASS:PUBLIC
DTSTART:20260225T073000Z
DTEND:20260225T170000Z
DTSTAMP:20260419T182544Z
LOCATION:Labor Biologie 0/406
END:VEVENT
BEGIN:VEVENT
UID:25W_718293_5017313@uibk.ac.at
ORGANIZER;CN="LFU:online Universität Innsbruck":MAILTO:Uni-Innsbruck-noreply@uibk.ac.at
SUMMARY:UE Berufsrelevante Arbeitstechniken in der Mikrobiologie (LV 718293-3 25W)
DESCRIPTION:Lehrveranstaltung 718293 25W, Gruppe 3\nTitel: UE Berufsrelevante Arbeitstechniken in der Mikrobiologie\nOrt: Labor Biologie 0/406\n\nhttps://lfuonline.uibk.ac.at/public/lfuonline_lv.details?sem_id_in=25W&lvnr_id_in=718293\n
CLASS:PUBLIC
DTSTART:20260226T073000Z
DTEND:20260226T170000Z
DTSTAMP:20260419T182544Z
LOCATION:Labor Biologie 0/406
END:VEVENT
END:VCALENDAR