BEGIN:VCALENDAR
VERSION:2.0
PRODID:-//Universität Innsbruck//LFU:online//DE
METHOD:PUBLISH
BEGIN:VEVENT
UID:26S_740550_5045172@uibk.ac.at
ORGANIZER;CN="LFU:online Universität Innsbruck":MAILTO:Uni-Innsbruck-noreply@uibk.ac.at
SUMMARY:VU Biochemische und molekularbiologische Übungen (3 Gruppen) (LV 740550-3 26S)
DESCRIPTION:Lehrveranstaltung 740550 26S, Gruppe 3\nTitel: VU Biochemische und molekularbiologische Übungen (3 Gruppen)\nOrt: L.01.220\n\nhttps://lfuonline.uibk.ac.at/public/lfuonline_lv.details?sem_id_in=26S&lvnr_id_in=740550\n
CLASS:PUBLIC
DTSTART:20260302T083000Z
DTEND:20260302T090000Z
DTSTAMP:20260422T053603Z
LOCATION:L.01.220
COMMENT:Vorbesprechung
END:VEVENT
BEGIN:VEVENT
UID:26S_740550_5068158@uibk.ac.at
ORGANIZER;CN="LFU:online Universität Innsbruck":MAILTO:Uni-Innsbruck-noreply@uibk.ac.at
SUMMARY:VU Biochemische und molekularbiologische Übungen (3 Gruppen) (LV 740550-3 26S)
DESCRIPTION:Lehrveranstaltung 740550 26S, Gruppe 3\nTitel: VU Biochemische und molekularbiologische Übungen (3 Gruppen)\nOrt: L.03.070\n\nhttps://lfuonline.uibk.ac.at/public/lfuonline_lv.details?sem_id_in=26S&lvnr_id_in=740550\n
CLASS:PUBLIC
DTSTART:20260622T110000Z
DTEND:20260622T160000Z
DTSTAMP:20260422T053603Z
LOCATION:L.03.070
END:VEVENT
BEGIN:VEVENT
UID:26S_740550_5068159@uibk.ac.at
ORGANIZER;CN="LFU:online Universität Innsbruck":MAILTO:Uni-Innsbruck-noreply@uibk.ac.at
SUMMARY:VU Biochemische und molekularbiologische Übungen (3 Gruppen) (LV 740550-3 26S)
DESCRIPTION:Lehrveranstaltung 740550 26S, Gruppe 3\nTitel: VU Biochemische und molekularbiologische Übungen (3 Gruppen)\nOrt: L.03.070\n\nhttps://lfuonline.uibk.ac.at/public/lfuonline_lv.details?sem_id_in=26S&lvnr_id_in=740550\n
CLASS:PUBLIC
DTSTART:20260623T110000Z
DTEND:20260623T160000Z
DTSTAMP:20260422T053603Z
LOCATION:L.03.070
END:VEVENT
BEGIN:VEVENT
UID:26S_740550_5068160@uibk.ac.at
ORGANIZER;CN="LFU:online Universität Innsbruck":MAILTO:Uni-Innsbruck-noreply@uibk.ac.at
SUMMARY:VU Biochemische und molekularbiologische Übungen (3 Gruppen) (LV 740550-3 26S)
DESCRIPTION:Lehrveranstaltung 740550 26S, Gruppe 3\nTitel: VU Biochemische und molekularbiologische Übungen (3 Gruppen)\nOrt: L.03.070\n\nhttps://lfuonline.uibk.ac.at/public/lfuonline_lv.details?sem_id_in=26S&lvnr_id_in=740550\n
CLASS:PUBLIC
DTSTART:20260624T110000Z
DTEND:20260624T160000Z
DTSTAMP:20260422T053603Z
LOCATION:L.03.070
END:VEVENT
BEGIN:VEVENT
UID:26S_740550_5068161@uibk.ac.at
ORGANIZER;CN="LFU:online Universität Innsbruck":MAILTO:Uni-Innsbruck-noreply@uibk.ac.at
SUMMARY:VU Biochemische und molekularbiologische Übungen (3 Gruppen) (LV 740550-3 26S)
DESCRIPTION:Lehrveranstaltung 740550 26S, Gruppe 3\nTitel: VU Biochemische und molekularbiologische Übungen (3 Gruppen)\nOrt: L.03.070\n\nhttps://lfuonline.uibk.ac.at/public/lfuonline_lv.details?sem_id_in=26S&lvnr_id_in=740550\n
CLASS:PUBLIC
DTSTART:20260625T110000Z
DTEND:20260625T160000Z
DTSTAMP:20260422T053603Z
LOCATION:L.03.070
END:VEVENT
BEGIN:VEVENT
UID:26S_740550_5068162@uibk.ac.at
ORGANIZER;CN="LFU:online Universität Innsbruck":MAILTO:Uni-Innsbruck-noreply@uibk.ac.at
SUMMARY:VU Biochemische und molekularbiologische Übungen (3 Gruppen) (LV 740550-3 26S)
DESCRIPTION:Lehrveranstaltung 740550 26S, Gruppe 3\nTitel: VU Biochemische und molekularbiologische Übungen (3 Gruppen)\nOrt: L.03.070\n\nhttps://lfuonline.uibk.ac.at/public/lfuonline_lv.details?sem_id_in=26S&lvnr_id_in=740550\n
CLASS:PUBLIC
DTSTART:20260626T110000Z
DTEND:20260626T160000Z
DTSTAMP:20260422T053603Z
LOCATION:L.03.070
END:VEVENT
END:VCALENDAR