BEGIN:VCALENDAR
VERSION:2.0
PRODID:-//Universität Innsbruck//LFU:online//DE
METHOD:PUBLISH
BEGIN:VEVENT
UID:25S_845229_4724050@uibk.ac.at
ORGANIZER;CN="LFU:online Universität Innsbruck":MAILTO:Uni-Innsbruck-noreply@uibk.ac.at
SUMMARY:UE Wasserbau (LV 845229-3 25S)
DESCRIPTION:Lehrveranstaltung 845229 25S, Gruppe 3\nTitel: UE Wasserbau\nOrt: HS 11\n\nhttps://lfuonline.uibk.ac.at/public/lfuonline_lv.details?sem_id_in=25S&lvnr_id_in=845229\n
CLASS:PUBLIC
DTSTART:20250304T143000Z
DTEND:20250304T160000Z
DTSTAMP:20260423T155135Z
LOCATION:HS 11
COMMENT:BA-Gruppe
END:VEVENT
BEGIN:VEVENT
UID:25S_845229_4724055@uibk.ac.at
ORGANIZER;CN="LFU:online Universität Innsbruck":MAILTO:Uni-Innsbruck-noreply@uibk.ac.at
SUMMARY:UE Wasserbau (LV 845229-3 25S)
DESCRIPTION:Lehrveranstaltung 845229 25S, Gruppe 3\nTitel: UE Wasserbau\nOrt: HS 11\n\nhttps://lfuonline.uibk.ac.at/public/lfuonline_lv.details?sem_id_in=25S&lvnr_id_in=845229\n
CLASS:PUBLIC
DTSTART:20250408T133000Z
DTEND:20250408T150000Z
DTSTAMP:20260423T155135Z
LOCATION:HS 11
COMMENT:BA-Gruppe
END:VEVENT
BEGIN:VEVENT
UID:25S_845229_4724056@uibk.ac.at
ORGANIZER;CN="LFU:online Universität Innsbruck":MAILTO:Uni-Innsbruck-noreply@uibk.ac.at
SUMMARY:UE Wasserbau (LV 845229-3 25S)
DESCRIPTION:Lehrveranstaltung 845229 25S, Gruppe 3\nTitel: UE Wasserbau\nOrt: HS 11\n\nhttps://lfuonline.uibk.ac.at/public/lfuonline_lv.details?sem_id_in=25S&lvnr_id_in=845229\n
CLASS:PUBLIC
DTSTART:20250429T133000Z
DTEND:20250429T150000Z
DTSTAMP:20260423T155135Z
LOCATION:HS 11
COMMENT:BA-Gruppe
END:VEVENT
BEGIN:VEVENT
UID:25S_845229_4724058@uibk.ac.at
ORGANIZER;CN="LFU:online Universität Innsbruck":MAILTO:Uni-Innsbruck-noreply@uibk.ac.at
SUMMARY:UE Wasserbau (LV 845229-3 25S)
DESCRIPTION:Lehrveranstaltung 845229 25S, Gruppe 3\nTitel: UE Wasserbau\nOrt: HS 11\n\nhttps://lfuonline.uibk.ac.at/public/lfuonline_lv.details?sem_id_in=25S&lvnr_id_in=845229\n
CLASS:PUBLIC
DTSTART:20250513T133000Z
DTEND:20250513T150000Z
DTSTAMP:20260423T155135Z
LOCATION:HS 11
COMMENT:BA-Gruppe
END:VEVENT
BEGIN:VEVENT
UID:25S_845229_4724060@uibk.ac.at
ORGANIZER;CN="LFU:online Universität Innsbruck":MAILTO:Uni-Innsbruck-noreply@uibk.ac.at
SUMMARY:UE Wasserbau (LV 845229-3 25S)
DESCRIPTION:Lehrveranstaltung 845229 25S, Gruppe 3\nTitel: UE Wasserbau\nOrt: HS 11\n\nhttps://lfuonline.uibk.ac.at/public/lfuonline_lv.details?sem_id_in=25S&lvnr_id_in=845229\n
CLASS:PUBLIC
DTSTART:20250527T133000Z
DTEND:20250527T150000Z
DTSTAMP:20260423T155135Z
LOCATION:HS 11
COMMENT:BA-Gruppe
END:VEVENT
BEGIN:VEVENT
UID:25S_845229_4724062@uibk.ac.at
ORGANIZER;CN="LFU:online Universität Innsbruck":MAILTO:Uni-Innsbruck-noreply@uibk.ac.at
SUMMARY:UE Wasserbau (LV 845229-3 25S)
DESCRIPTION:Lehrveranstaltung 845229 25S, Gruppe 3\nTitel: UE Wasserbau\nOrt: HS 11\n\nhttps://lfuonline.uibk.ac.at/public/lfuonline_lv.details?sem_id_in=25S&lvnr_id_in=845229\n
CLASS:PUBLIC
DTSTART:20250610T133000Z
DTEND:20250610T150000Z
DTSTAMP:20260423T155135Z
LOCATION:HS 11
COMMENT:BA-Gruppe
END:VEVENT
BEGIN:VEVENT
UID:25S_845229_4724063@uibk.ac.at
ORGANIZER;CN="LFU:online Universität Innsbruck":MAILTO:Uni-Innsbruck-noreply@uibk.ac.at
SUMMARY:UE Wasserbau (LV 845229-3 25S)
DESCRIPTION:Lehrveranstaltung 845229 25S, Gruppe 3\nTitel: UE Wasserbau\nOrt: HS 11\n\nhttps://lfuonline.uibk.ac.at/public/lfuonline_lv.details?sem_id_in=25S&lvnr_id_in=845229\n
CLASS:PUBLIC
DTSTART:20250617T133000Z
DTEND:20250617T150000Z
DTSTAMP:20260423T155135Z
LOCATION:HS 11
COMMENT:BA-Gruppe
END:VEVENT
BEGIN:VEVENT
UID:25S_845229_4808025@uibk.ac.at
ORGANIZER;CN="LFU:online Universität Innsbruck":MAILTO:Uni-Innsbruck-noreply@uibk.ac.at
SUMMARY:UE Wasserbau (LV 845229-3 25S)
DESCRIPTION:Lehrveranstaltung 845229 25S, Gruppe 3\nTitel: UE Wasserbau\nOrt: HSB  3\n\nhttps://lfuonline.uibk.ac.at/public/lfuonline_lv.details?sem_id_in=25S&lvnr_id_in=845229\n
CLASS:PUBLIC
DTSTART:20250617T133000Z
DTEND:20250617T150000Z
DTSTAMP:20260423T155135Z
LOCATION:HSB  3
COMMENT:Prüfung, für alle Gruppen findet die Prüfung im HSB 3 statt 
END:VEVENT
END:VCALENDAR