BEGIN:VCALENDAR
VERSION:2.0
PRODID:-//Universität Innsbruck//LFU:online//DE
METHOD:PUBLISH
BEGIN:VEVENT
UID:16W_846605_2826918@uibk.ac.at
ORGANIZER;CN="LFU:online Universität Innsbruck":MAILTO:Uni-Innsbruck-noreply@uibk.ac.at
SUMMARY:Hochbau 1 (LV 846605-3 16W)
DESCRIPTION:Lehrveranstaltung 846605 16W, Gruppe 3\nTitel: Hochbau 1\nOrt: HS 10\n\nhttps://lfuonline.uibk.ac.at/public/lfuonline_lv.details?sem_id_in=16W&lvnr_id_in=846605\n
CLASS:PUBLIC
DTSTART:20161006T151500Z
DTEND:20161006T170000Z
DTSTAMP:20260421T204258Z
LOCATION:HS 10
END:VEVENT
BEGIN:VEVENT
UID:16W_846605_2826916@uibk.ac.at
ORGANIZER;CN="LFU:online Universität Innsbruck":MAILTO:Uni-Innsbruck-noreply@uibk.ac.at
SUMMARY:Hochbau 1 (LV 846605-3 16W)
DESCRIPTION:Lehrveranstaltung 846605 16W, Gruppe 3\nTitel: Hochbau 1\nOrt: HS 10\n\nhttps://lfuonline.uibk.ac.at/public/lfuonline_lv.details?sem_id_in=16W&lvnr_id_in=846605\n
CLASS:PUBLIC
DTSTART:20161027T151500Z
DTEND:20161027T170000Z
DTSTAMP:20260421T204258Z
LOCATION:HS 10
END:VEVENT
BEGIN:VEVENT
UID:16W_846605_2826910@uibk.ac.at
ORGANIZER;CN="LFU:online Universität Innsbruck":MAILTO:Uni-Innsbruck-noreply@uibk.ac.at
SUMMARY:Hochbau 1 (LV 846605-3 16W)
DESCRIPTION:Lehrveranstaltung 846605 16W, Gruppe 3\nTitel: Hochbau 1\nOrt: HS 10\n\nhttps://lfuonline.uibk.ac.at/public/lfuonline_lv.details?sem_id_in=16W&lvnr_id_in=846605\n
CLASS:PUBLIC
DTSTART:20161103T161500Z
DTEND:20161103T180000Z
DTSTAMP:20260421T204258Z
LOCATION:HS 10
END:VEVENT
BEGIN:VEVENT
UID:16W_846605_2826911@uibk.ac.at
ORGANIZER;CN="LFU:online Universität Innsbruck":MAILTO:Uni-Innsbruck-noreply@uibk.ac.at
SUMMARY:Hochbau 1 (LV 846605-3 16W)
DESCRIPTION:Lehrveranstaltung 846605 16W, Gruppe 3\nTitel: Hochbau 1\nOrt: Seminarraum 219\n\nhttps://lfuonline.uibk.ac.at/public/lfuonline_lv.details?sem_id_in=16W&lvnr_id_in=846605\n
CLASS:PUBLIC
DTSTART:20161118T161500Z
DTEND:20161118T180000Z
DTSTAMP:20260421T204258Z
LOCATION:Seminarraum 219
END:VEVENT
BEGIN:VEVENT
UID:16W_846605_2826913@uibk.ac.at
ORGANIZER;CN="LFU:online Universität Innsbruck":MAILTO:Uni-Innsbruck-noreply@uibk.ac.at
SUMMARY:Hochbau 1 (LV 846605-3 16W)
DESCRIPTION:Lehrveranstaltung 846605 16W, Gruppe 3\nTitel: Hochbau 1\nOrt: Seminarraum 219\n\nhttps://lfuonline.uibk.ac.at/public/lfuonline_lv.details?sem_id_in=16W&lvnr_id_in=846605\n
CLASS:PUBLIC
DTSTART:20161124T161500Z
DTEND:20161124T180000Z
DTSTAMP:20260421T204258Z
LOCATION:Seminarraum 219
END:VEVENT
BEGIN:VEVENT
UID:16W_846605_2826912@uibk.ac.at
ORGANIZER;CN="LFU:online Universität Innsbruck":MAILTO:Uni-Innsbruck-noreply@uibk.ac.at
SUMMARY:Hochbau 1 (LV 846605-3 16W)
DESCRIPTION:Lehrveranstaltung 846605 16W, Gruppe 3\nTitel: Hochbau 1\nOrt: Seminarraum 219\n\nhttps://lfuonline.uibk.ac.at/public/lfuonline_lv.details?sem_id_in=16W&lvnr_id_in=846605\n
CLASS:PUBLIC
DTSTART:20161201T161500Z
DTEND:20161201T180000Z
DTSTAMP:20260421T204258Z
LOCATION:Seminarraum 219
END:VEVENT
BEGIN:VEVENT
UID:16W_846605_2826919@uibk.ac.at
ORGANIZER;CN="LFU:online Universität Innsbruck":MAILTO:Uni-Innsbruck-noreply@uibk.ac.at
SUMMARY:Hochbau 1 (LV 846605-3 16W)
DESCRIPTION:Lehrveranstaltung 846605 16W, Gruppe 3\nTitel: Hochbau 1\nOrt: Seminarraum 219\n\nhttps://lfuonline.uibk.ac.at/public/lfuonline_lv.details?sem_id_in=16W&lvnr_id_in=846605\n
CLASS:PUBLIC
DTSTART:20161215T161500Z
DTEND:20161215T180000Z
DTSTAMP:20260421T204258Z
LOCATION:Seminarraum 219
END:VEVENT
BEGIN:VEVENT
UID:16W_846605_2826915@uibk.ac.at
ORGANIZER;CN="LFU:online Universität Innsbruck":MAILTO:Uni-Innsbruck-noreply@uibk.ac.at
SUMMARY:Hochbau 1 (LV 846605-3 16W)
DESCRIPTION:Lehrveranstaltung 846605 16W, Gruppe 3\nTitel: Hochbau 1\nOrt: Seminarraum 219\n\nhttps://lfuonline.uibk.ac.at/public/lfuonline_lv.details?sem_id_in=16W&lvnr_id_in=846605\n
CLASS:PUBLIC
DTSTART:20170119T161500Z
DTEND:20170119T180000Z
DTSTAMP:20260421T204258Z
LOCATION:Seminarraum 219
END:VEVENT
BEGIN:VEVENT
UID:16W_846605_2826917@uibk.ac.at
ORGANIZER;CN="LFU:online Universität Innsbruck":MAILTO:Uni-Innsbruck-noreply@uibk.ac.at
SUMMARY:Hochbau 1 (LV 846605-3 16W)
DESCRIPTION:Lehrveranstaltung 846605 16W, Gruppe 3\nTitel: Hochbau 1\nOrt: Seminarraum 219\n\nhttps://lfuonline.uibk.ac.at/public/lfuonline_lv.details?sem_id_in=16W&lvnr_id_in=846605\n
CLASS:PUBLIC
DTSTART:20170202T161500Z
DTEND:20170202T180000Z
DTSTAMP:20260421T204258Z
LOCATION:Seminarraum 219
END:VEVENT
END:VCALENDAR