BEGIN:VCALENDAR
VERSION:2.0
PRODID:-//Universität Innsbruck//LFU:online//DE
METHOD:PUBLISH
BEGIN:VEVENT
UID:18W_703025_3153251@uibk.ac.at
ORGANIZER;CN="LFU:online Universität Innsbruck":MAILTO:Uni-Innsbruck-noreply@uibk.ac.at
SUMMARY:PS Funktionale Programmierung (LV 703025-4 18W)
DESCRIPTION:Lehrveranstaltung 703025 18W, Gruppe 4\nTitel: PS Funktionale Programmierung\nOrt: HSB  7\n\nhttps://lfuonline.uibk.ac.at/public/lfuonline_lv.details?sem_id_in=18W&lvnr_id_in=703025\n
CLASS:PUBLIC
DTSTART:20181012T091500Z
DTEND:20181012T100000Z
DTSTAMP:20260420T001236Z
LOCATION:HSB  7
END:VEVENT
BEGIN:VEVENT
UID:18W_703025_3153252@uibk.ac.at
ORGANIZER;CN="LFU:online Universität Innsbruck":MAILTO:Uni-Innsbruck-noreply@uibk.ac.at
SUMMARY:PS Funktionale Programmierung (LV 703025-4 18W)
DESCRIPTION:Lehrveranstaltung 703025 18W, Gruppe 4\nTitel: PS Funktionale Programmierung\nOrt: HSB  7\n\nhttps://lfuonline.uibk.ac.at/public/lfuonline_lv.details?sem_id_in=18W&lvnr_id_in=703025\n
CLASS:PUBLIC
DTSTART:20181109T101500Z
DTEND:20181109T110000Z
DTSTAMP:20260420T001236Z
LOCATION:HSB  7
END:VEVENT
BEGIN:VEVENT
UID:18W_703025_3153253@uibk.ac.at
ORGANIZER;CN="LFU:online Universität Innsbruck":MAILTO:Uni-Innsbruck-noreply@uibk.ac.at
SUMMARY:PS Funktionale Programmierung (LV 703025-4 18W)
DESCRIPTION:Lehrveranstaltung 703025 18W, Gruppe 4\nTitel: PS Funktionale Programmierung\nOrt: HSB  7\n\nhttps://lfuonline.uibk.ac.at/public/lfuonline_lv.details?sem_id_in=18W&lvnr_id_in=703025\n
CLASS:PUBLIC
DTSTART:20181116T101500Z
DTEND:20181116T110000Z
DTSTAMP:20260420T001236Z
LOCATION:HSB  7
END:VEVENT
BEGIN:VEVENT
UID:18W_703025_3153254@uibk.ac.at
ORGANIZER;CN="LFU:online Universität Innsbruck":MAILTO:Uni-Innsbruck-noreply@uibk.ac.at
SUMMARY:PS Funktionale Programmierung (LV 703025-4 18W)
DESCRIPTION:Lehrveranstaltung 703025 18W, Gruppe 4\nTitel: PS Funktionale Programmierung\nOrt: HSB  6\n\nhttps://lfuonline.uibk.ac.at/public/lfuonline_lv.details?sem_id_in=18W&lvnr_id_in=703025\n
CLASS:PUBLIC
DTSTART:20181123T101500Z
DTEND:20181123T110000Z
DTSTAMP:20260420T001236Z
LOCATION:HSB  6
END:VEVENT
BEGIN:VEVENT
UID:18W_703025_3153255@uibk.ac.at
ORGANIZER;CN="LFU:online Universität Innsbruck":MAILTO:Uni-Innsbruck-noreply@uibk.ac.at
SUMMARY:PS Funktionale Programmierung (LV 703025-4 18W)
DESCRIPTION:Lehrveranstaltung 703025 18W, Gruppe 4\nTitel: PS Funktionale Programmierung\nOrt: HSB  7\n\nhttps://lfuonline.uibk.ac.at/public/lfuonline_lv.details?sem_id_in=18W&lvnr_id_in=703025\n
CLASS:PUBLIC
DTSTART:20181130T101500Z
DTEND:20181130T110000Z
DTSTAMP:20260420T001236Z
LOCATION:HSB  7
END:VEVENT
BEGIN:VEVENT
UID:18W_703025_3153256@uibk.ac.at
ORGANIZER;CN="LFU:online Universität Innsbruck":MAILTO:Uni-Innsbruck-noreply@uibk.ac.at
SUMMARY:PS Funktionale Programmierung (LV 703025-4 18W)
DESCRIPTION:Lehrveranstaltung 703025 18W, Gruppe 4\nTitel: PS Funktionale Programmierung\nOrt: HSB  7\n\nhttps://lfuonline.uibk.ac.at/public/lfuonline_lv.details?sem_id_in=18W&lvnr_id_in=703025\n
CLASS:PUBLIC
DTSTART:20181207T101500Z
DTEND:20181207T110000Z
DTSTAMP:20260420T001236Z
LOCATION:HSB  7
END:VEVENT
BEGIN:VEVENT
UID:18W_703025_3153257@uibk.ac.at
ORGANIZER;CN="LFU:online Universität Innsbruck":MAILTO:Uni-Innsbruck-noreply@uibk.ac.at
SUMMARY:PS Funktionale Programmierung (LV 703025-4 18W)
DESCRIPTION:Lehrveranstaltung 703025 18W, Gruppe 4\nTitel: PS Funktionale Programmierung\nOrt: HSB  7\n\nhttps://lfuonline.uibk.ac.at/public/lfuonline_lv.details?sem_id_in=18W&lvnr_id_in=703025\n
CLASS:PUBLIC
DTSTART:20181214T101500Z
DTEND:20181214T110000Z
DTSTAMP:20260420T001236Z
LOCATION:HSB  7
END:VEVENT
BEGIN:VEVENT
UID:18W_703025_3153258@uibk.ac.at
ORGANIZER;CN="LFU:online Universität Innsbruck":MAILTO:Uni-Innsbruck-noreply@uibk.ac.at
SUMMARY:PS Funktionale Programmierung (LV 703025-4 18W)
DESCRIPTION:Lehrveranstaltung 703025 18W, Gruppe 4\nTitel: PS Funktionale Programmierung\nOrt: HSB  7\n\nhttps://lfuonline.uibk.ac.at/public/lfuonline_lv.details?sem_id_in=18W&lvnr_id_in=703025\n
CLASS:PUBLIC
DTSTART:20190111T101500Z
DTEND:20190111T110000Z
DTSTAMP:20260420T001236Z
LOCATION:HSB  7
END:VEVENT
BEGIN:VEVENT
UID:18W_703025_3153259@uibk.ac.at
ORGANIZER;CN="LFU:online Universität Innsbruck":MAILTO:Uni-Innsbruck-noreply@uibk.ac.at
SUMMARY:PS Funktionale Programmierung (LV 703025-4 18W)
DESCRIPTION:Lehrveranstaltung 703025 18W, Gruppe 4\nTitel: PS Funktionale Programmierung\nOrt: HSB  7\n\nhttps://lfuonline.uibk.ac.at/public/lfuonline_lv.details?sem_id_in=18W&lvnr_id_in=703025\n
CLASS:PUBLIC
DTSTART:20190118T101500Z
DTEND:20190118T110000Z
DTSTAMP:20260420T001236Z
LOCATION:HSB  7
END:VEVENT
BEGIN:VEVENT
UID:18W_703025_3153260@uibk.ac.at
ORGANIZER;CN="LFU:online Universität Innsbruck":MAILTO:Uni-Innsbruck-noreply@uibk.ac.at
SUMMARY:PS Funktionale Programmierung (LV 703025-4 18W)
DESCRIPTION:Lehrveranstaltung 703025 18W, Gruppe 4\nTitel: PS Funktionale Programmierung\nOrt: HSB  7\n\nhttps://lfuonline.uibk.ac.at/public/lfuonline_lv.details?sem_id_in=18W&lvnr_id_in=703025\n
CLASS:PUBLIC
DTSTART:20190125T101500Z
DTEND:20190125T110000Z
DTSTAMP:20260420T001236Z
LOCATION:HSB  7
END:VEVENT
BEGIN:VEVENT
UID:18W_703025_3153261@uibk.ac.at
ORGANIZER;CN="LFU:online Universität Innsbruck":MAILTO:Uni-Innsbruck-noreply@uibk.ac.at
SUMMARY:PS Funktionale Programmierung (LV 703025-4 18W)
DESCRIPTION:Lehrveranstaltung 703025 18W, Gruppe 4\nTitel: PS Funktionale Programmierung\nOrt: HSB  7\n\nhttps://lfuonline.uibk.ac.at/public/lfuonline_lv.details?sem_id_in=18W&lvnr_id_in=703025\n
CLASS:PUBLIC
DTSTART:20190201T101500Z
DTEND:20190201T110000Z
DTSTAMP:20260420T001236Z
LOCATION:HSB  7
END:VEVENT
END:VCALENDAR