BEGIN:VCALENDAR
VERSION:2.0
PRODID:-//Universität Innsbruck//LFU:online//DE
METHOD:PUBLISH
BEGIN:VEVENT
UID:26S_703073_5066068@uibk.ac.at
ORGANIZER;CN="LFU:online Universität Innsbruck":MAILTO:Uni-Innsbruck-noreply@uibk.ac.at
SUMMARY:VU Einführung in das wissenschaftliche Arbeiten (LV 703073-4 26S)
DESCRIPTION:Lehrveranstaltung 703073 26S, Gruppe 4\nTitel: VU Einführung in das wissenschaftliche Arbeiten\nOrt: 3W04\n\nhttps://lfuonline.uibk.ac.at/public/lfuonline_lv.details?sem_id_in=26S&lvnr_id_in=703073\n
CLASS:PUBLIC
DTSTART:20260305T073000Z
DTEND:20260305T090000Z
DTSTAMP:20260423T014359Z
LOCATION:3W04
END:VEVENT
BEGIN:VEVENT
UID:26S_703073_5066069@uibk.ac.at
ORGANIZER;CN="LFU:online Universität Innsbruck":MAILTO:Uni-Innsbruck-noreply@uibk.ac.at
SUMMARY:VU Einführung in das wissenschaftliche Arbeiten (LV 703073-4 26S)
DESCRIPTION:Lehrveranstaltung 703073 26S, Gruppe 4\nTitel: VU Einführung in das wissenschaftliche Arbeiten\nOrt: 3W04\n\nhttps://lfuonline.uibk.ac.at/public/lfuonline_lv.details?sem_id_in=26S&lvnr_id_in=703073\n
CLASS:PUBLIC
DTSTART:20260312T073000Z
DTEND:20260312T090000Z
DTSTAMP:20260423T014359Z
LOCATION:3W04
END:VEVENT
BEGIN:VEVENT
UID:26S_703073_5066070@uibk.ac.at
ORGANIZER;CN="LFU:online Universität Innsbruck":MAILTO:Uni-Innsbruck-noreply@uibk.ac.at
SUMMARY:VU Einführung in das wissenschaftliche Arbeiten (LV 703073-4 26S)
DESCRIPTION:Lehrveranstaltung 703073 26S, Gruppe 4\nTitel: VU Einführung in das wissenschaftliche Arbeiten\nOrt: 3W04\n\nhttps://lfuonline.uibk.ac.at/public/lfuonline_lv.details?sem_id_in=26S&lvnr_id_in=703073\n
CLASS:PUBLIC
DTSTART:20260319T073000Z
DTEND:20260319T090000Z
DTSTAMP:20260423T014359Z
LOCATION:3W04
END:VEVENT
BEGIN:VEVENT
UID:26S_703073_5066071@uibk.ac.at
ORGANIZER;CN="LFU:online Universität Innsbruck":MAILTO:Uni-Innsbruck-noreply@uibk.ac.at
SUMMARY:VU Einführung in das wissenschaftliche Arbeiten (LV 703073-4 26S)
DESCRIPTION:Lehrveranstaltung 703073 26S, Gruppe 4\nTitel: VU Einführung in das wissenschaftliche Arbeiten\nOrt: 3W04\n\nhttps://lfuonline.uibk.ac.at/public/lfuonline_lv.details?sem_id_in=26S&lvnr_id_in=703073\n
CLASS:PUBLIC
DTSTART:20260326T073000Z
DTEND:20260326T090000Z
DTSTAMP:20260423T014359Z
LOCATION:3W04
END:VEVENT
BEGIN:VEVENT
UID:26S_703073_5066072@uibk.ac.at
ORGANIZER;CN="LFU:online Universität Innsbruck":MAILTO:Uni-Innsbruck-noreply@uibk.ac.at
SUMMARY:VU Einführung in das wissenschaftliche Arbeiten (LV 703073-4 26S)
DESCRIPTION:Lehrveranstaltung 703073 26S, Gruppe 4\nTitel: VU Einführung in das wissenschaftliche Arbeiten\nOrt: 3W04\n\nhttps://lfuonline.uibk.ac.at/public/lfuonline_lv.details?sem_id_in=26S&lvnr_id_in=703073\n
CLASS:PUBLIC
DTSTART:20260416T063000Z
DTEND:20260416T080000Z
DTSTAMP:20260423T014359Z
LOCATION:3W04
END:VEVENT
BEGIN:VEVENT
UID:26S_703073_5066073@uibk.ac.at
ORGANIZER;CN="LFU:online Universität Innsbruck":MAILTO:Uni-Innsbruck-noreply@uibk.ac.at
SUMMARY:VU Einführung in das wissenschaftliche Arbeiten (LV 703073-4 26S)
DESCRIPTION:Lehrveranstaltung 703073 26S, Gruppe 4\nTitel: VU Einführung in das wissenschaftliche Arbeiten\nOrt: 3W04\n\nhttps://lfuonline.uibk.ac.at/public/lfuonline_lv.details?sem_id_in=26S&lvnr_id_in=703073\n
CLASS:PUBLIC
DTSTART:20260423T063000Z
DTEND:20260423T080000Z
DTSTAMP:20260423T014359Z
LOCATION:3W04
END:VEVENT
BEGIN:VEVENT
UID:26S_703073_5066074@uibk.ac.at
ORGANIZER;CN="LFU:online Universität Innsbruck":MAILTO:Uni-Innsbruck-noreply@uibk.ac.at
SUMMARY:VU Einführung in das wissenschaftliche Arbeiten (LV 703073-4 26S)
DESCRIPTION:Lehrveranstaltung 703073 26S, Gruppe 4\nTitel: VU Einführung in das wissenschaftliche Arbeiten\nOrt: 3W04\n\nhttps://lfuonline.uibk.ac.at/public/lfuonline_lv.details?sem_id_in=26S&lvnr_id_in=703073\n
CLASS:PUBLIC
DTSTART:20260430T063000Z
DTEND:20260430T080000Z
DTSTAMP:20260423T014359Z
LOCATION:3W04
END:VEVENT
BEGIN:VEVENT
UID:26S_703073_5066075@uibk.ac.at
ORGANIZER;CN="LFU:online Universität Innsbruck":MAILTO:Uni-Innsbruck-noreply@uibk.ac.at
SUMMARY:VU Einführung in das wissenschaftliche Arbeiten (LV 703073-4 26S)
DESCRIPTION:Lehrveranstaltung 703073 26S, Gruppe 4\nTitel: VU Einführung in das wissenschaftliche Arbeiten\nOrt: 3W04\n\nhttps://lfuonline.uibk.ac.at/public/lfuonline_lv.details?sem_id_in=26S&lvnr_id_in=703073\n
CLASS:PUBLIC
DTSTART:20260507T063000Z
DTEND:20260507T080000Z
DTSTAMP:20260423T014359Z
LOCATION:3W04
END:VEVENT
BEGIN:VEVENT
UID:26S_703073_5066076@uibk.ac.at
ORGANIZER;CN="LFU:online Universität Innsbruck":MAILTO:Uni-Innsbruck-noreply@uibk.ac.at
SUMMARY:VU Einführung in das wissenschaftliche Arbeiten (LV 703073-4 26S)
DESCRIPTION:Lehrveranstaltung 703073 26S, Gruppe 4\nTitel: VU Einführung in das wissenschaftliche Arbeiten\nOrt: 3W04\n\nhttps://lfuonline.uibk.ac.at/public/lfuonline_lv.details?sem_id_in=26S&lvnr_id_in=703073\n
CLASS:PUBLIC
DTSTART:20260521T063000Z
DTEND:20260521T080000Z
DTSTAMP:20260423T014359Z
LOCATION:3W04
END:VEVENT
BEGIN:VEVENT
UID:26S_703073_5066077@uibk.ac.at
ORGANIZER;CN="LFU:online Universität Innsbruck":MAILTO:Uni-Innsbruck-noreply@uibk.ac.at
SUMMARY:VU Einführung in das wissenschaftliche Arbeiten (LV 703073-4 26S)
DESCRIPTION:Lehrveranstaltung 703073 26S, Gruppe 4\nTitel: VU Einführung in das wissenschaftliche Arbeiten\nOrt: 3W04\n\nhttps://lfuonline.uibk.ac.at/public/lfuonline_lv.details?sem_id_in=26S&lvnr_id_in=703073\n
CLASS:PUBLIC
DTSTART:20260528T063000Z
DTEND:20260528T080000Z
DTSTAMP:20260423T014359Z
LOCATION:3W04
END:VEVENT
BEGIN:VEVENT
UID:26S_703073_5066078@uibk.ac.at
ORGANIZER;CN="LFU:online Universität Innsbruck":MAILTO:Uni-Innsbruck-noreply@uibk.ac.at
SUMMARY:VU Einführung in das wissenschaftliche Arbeiten (LV 703073-4 26S)
DESCRIPTION:Lehrveranstaltung 703073 26S, Gruppe 4\nTitel: VU Einführung in das wissenschaftliche Arbeiten\nOrt: 3W04\n\nhttps://lfuonline.uibk.ac.at/public/lfuonline_lv.details?sem_id_in=26S&lvnr_id_in=703073\n
CLASS:PUBLIC
DTSTART:20260611T063000Z
DTEND:20260611T080000Z
DTSTAMP:20260423T014359Z
LOCATION:3W04
END:VEVENT
BEGIN:VEVENT
UID:26S_703073_5066079@uibk.ac.at
ORGANIZER;CN="LFU:online Universität Innsbruck":MAILTO:Uni-Innsbruck-noreply@uibk.ac.at
SUMMARY:VU Einführung in das wissenschaftliche Arbeiten (LV 703073-4 26S)
DESCRIPTION:Lehrveranstaltung 703073 26S, Gruppe 4\nTitel: VU Einführung in das wissenschaftliche Arbeiten\nOrt: 3W04\n\nhttps://lfuonline.uibk.ac.at/public/lfuonline_lv.details?sem_id_in=26S&lvnr_id_in=703073\n
CLASS:PUBLIC
DTSTART:20260618T063000Z
DTEND:20260618T080000Z
DTSTAMP:20260423T014359Z
LOCATION:3W04
END:VEVENT
BEGIN:VEVENT
UID:26S_703073_5066080@uibk.ac.at
ORGANIZER;CN="LFU:online Universität Innsbruck":MAILTO:Uni-Innsbruck-noreply@uibk.ac.at
SUMMARY:VU Einführung in das wissenschaftliche Arbeiten (LV 703073-4 26S)
DESCRIPTION:Lehrveranstaltung 703073 26S, Gruppe 4\nTitel: VU Einführung in das wissenschaftliche Arbeiten\nOrt: 3W04\n\nhttps://lfuonline.uibk.ac.at/public/lfuonline_lv.details?sem_id_in=26S&lvnr_id_in=703073\n
CLASS:PUBLIC
DTSTART:20260625T063000Z
DTEND:20260625T080000Z
DTSTAMP:20260423T014359Z
LOCATION:3W04
END:VEVENT
END:VCALENDAR