BEGIN:VCALENDAR
VERSION:2.0
PRODID:-//Universität Innsbruck//LFU:online//DE
METHOD:PUBLISH
BEGIN:VEVENT
UID:20S_703076_3568720@uibk.ac.at
ORGANIZER;CN="LFU:online Universität Innsbruck":MAILTO:Uni-Innsbruck-noreply@uibk.ac.at
SUMMARY:PS Maschinelles Lernen (LV 703076-4 20S)
DESCRIPTION:Lehrveranstaltung 703076 20S, Gruppe 4\nTitel: PS Maschinelles Lernen\nOrt: rr 20\n\nhttps://lfuonline.uibk.ac.at/public/lfuonline_lv.details?sem_id_in=20S&lvnr_id_in=703076\n
CLASS:PUBLIC
DTSTART:20200304T071500Z
DTEND:20200304T090000Z
DTSTAMP:20260419T123858Z
LOCATION:rr 20
END:VEVENT
BEGIN:VEVENT
UID:20S_703076_3568721@uibk.ac.at
ORGANIZER;CN="LFU:online Universität Innsbruck":MAILTO:Uni-Innsbruck-noreply@uibk.ac.at
SUMMARY:PS Maschinelles Lernen (LV 703076-4 20S)
DESCRIPTION:Lehrveranstaltung 703076 20S, Gruppe 4\nTitel: PS Maschinelles Lernen\nOrt: rr 20\n\nhttps://lfuonline.uibk.ac.at/public/lfuonline_lv.details?sem_id_in=20S&lvnr_id_in=703076\n
CLASS:PUBLIC
DTSTART:20200311T071500Z
DTEND:20200311T090000Z
DTSTAMP:20260419T123858Z
LOCATION:rr 20
END:VEVENT
BEGIN:VEVENT
UID:20S_703076_3568722@uibk.ac.at
ORGANIZER;CN="LFU:online Universität Innsbruck":MAILTO:Uni-Innsbruck-noreply@uibk.ac.at
SUMMARY:PS Maschinelles Lernen (LV 703076-4 20S)
DESCRIPTION:Lehrveranstaltung 703076 20S, Gruppe 4\nTitel: PS Maschinelles Lernen\nOrt: rr 20\n\nhttps://lfuonline.uibk.ac.at/public/lfuonline_lv.details?sem_id_in=20S&lvnr_id_in=703076\n
CLASS:PUBLIC
DTSTART:20200318T071500Z
DTEND:20200318T090000Z
DTSTAMP:20260419T123858Z
LOCATION:rr 20
END:VEVENT
BEGIN:VEVENT
UID:20S_703076_3568723@uibk.ac.at
ORGANIZER;CN="LFU:online Universität Innsbruck":MAILTO:Uni-Innsbruck-noreply@uibk.ac.at
SUMMARY:PS Maschinelles Lernen (LV 703076-4 20S)
DESCRIPTION:Lehrveranstaltung 703076 20S, Gruppe 4\nTitel: PS Maschinelles Lernen\nOrt: rr 20\n\nhttps://lfuonline.uibk.ac.at/public/lfuonline_lv.details?sem_id_in=20S&lvnr_id_in=703076\n
CLASS:PUBLIC
DTSTART:20200325T071500Z
DTEND:20200325T090000Z
DTSTAMP:20260419T123858Z
LOCATION:rr 20
END:VEVENT
BEGIN:VEVENT
UID:20S_703076_3568724@uibk.ac.at
ORGANIZER;CN="LFU:online Universität Innsbruck":MAILTO:Uni-Innsbruck-noreply@uibk.ac.at
SUMMARY:PS Maschinelles Lernen (LV 703076-4 20S)
DESCRIPTION:Lehrveranstaltung 703076 20S, Gruppe 4\nTitel: PS Maschinelles Lernen\nOrt: rr 20\n\nhttps://lfuonline.uibk.ac.at/public/lfuonline_lv.details?sem_id_in=20S&lvnr_id_in=703076\n
CLASS:PUBLIC
DTSTART:20200401T061500Z
DTEND:20200401T080000Z
DTSTAMP:20260419T123858Z
LOCATION:rr 20
END:VEVENT
BEGIN:VEVENT
UID:20S_703076_3568725@uibk.ac.at
ORGANIZER;CN="LFU:online Universität Innsbruck":MAILTO:Uni-Innsbruck-noreply@uibk.ac.at
SUMMARY:PS Maschinelles Lernen (LV 703076-4 20S)
DESCRIPTION:Lehrveranstaltung 703076 20S, Gruppe 4\nTitel: PS Maschinelles Lernen\nOrt: rr 20\n\nhttps://lfuonline.uibk.ac.at/public/lfuonline_lv.details?sem_id_in=20S&lvnr_id_in=703076\n
CLASS:PUBLIC
DTSTART:20200422T061500Z
DTEND:20200422T080000Z
DTSTAMP:20260419T123858Z
LOCATION:rr 20
END:VEVENT
BEGIN:VEVENT
UID:20S_703076_3568726@uibk.ac.at
ORGANIZER;CN="LFU:online Universität Innsbruck":MAILTO:Uni-Innsbruck-noreply@uibk.ac.at
SUMMARY:PS Maschinelles Lernen (LV 703076-4 20S)
DESCRIPTION:Lehrveranstaltung 703076 20S, Gruppe 4\nTitel: PS Maschinelles Lernen\nOrt: rr 20\n\nhttps://lfuonline.uibk.ac.at/public/lfuonline_lv.details?sem_id_in=20S&lvnr_id_in=703076\n
CLASS:PUBLIC
DTSTART:20200429T061500Z
DTEND:20200429T080000Z
DTSTAMP:20260419T123858Z
LOCATION:rr 20
END:VEVENT
BEGIN:VEVENT
UID:20S_703076_3568727@uibk.ac.at
ORGANIZER;CN="LFU:online Universität Innsbruck":MAILTO:Uni-Innsbruck-noreply@uibk.ac.at
SUMMARY:PS Maschinelles Lernen (LV 703076-4 20S)
DESCRIPTION:Lehrveranstaltung 703076 20S, Gruppe 4\nTitel: PS Maschinelles Lernen\nOrt: rr 20\n\nhttps://lfuonline.uibk.ac.at/public/lfuonline_lv.details?sem_id_in=20S&lvnr_id_in=703076\n
CLASS:PUBLIC
DTSTART:20200506T061500Z
DTEND:20200506T080000Z
DTSTAMP:20260419T123858Z
LOCATION:rr 20
END:VEVENT
BEGIN:VEVENT
UID:20S_703076_3568728@uibk.ac.at
ORGANIZER;CN="LFU:online Universität Innsbruck":MAILTO:Uni-Innsbruck-noreply@uibk.ac.at
SUMMARY:PS Maschinelles Lernen (LV 703076-4 20S)
DESCRIPTION:Lehrveranstaltung 703076 20S, Gruppe 4\nTitel: PS Maschinelles Lernen\nOrt: rr 20\n\nhttps://lfuonline.uibk.ac.at/public/lfuonline_lv.details?sem_id_in=20S&lvnr_id_in=703076\n
CLASS:PUBLIC
DTSTART:20200513T061500Z
DTEND:20200513T080000Z
DTSTAMP:20260419T123858Z
LOCATION:rr 20
END:VEVENT
BEGIN:VEVENT
UID:20S_703076_3568729@uibk.ac.at
ORGANIZER;CN="LFU:online Universität Innsbruck":MAILTO:Uni-Innsbruck-noreply@uibk.ac.at
SUMMARY:PS Maschinelles Lernen (LV 703076-4 20S)
DESCRIPTION:Lehrveranstaltung 703076 20S, Gruppe 4\nTitel: PS Maschinelles Lernen\nOrt: rr 20\n\nhttps://lfuonline.uibk.ac.at/public/lfuonline_lv.details?sem_id_in=20S&lvnr_id_in=703076\n
CLASS:PUBLIC
DTSTART:20200520T061500Z
DTEND:20200520T080000Z
DTSTAMP:20260419T123858Z
LOCATION:rr 20
END:VEVENT
BEGIN:VEVENT
UID:20S_703076_3568730@uibk.ac.at
ORGANIZER;CN="LFU:online Universität Innsbruck":MAILTO:Uni-Innsbruck-noreply@uibk.ac.at
SUMMARY:PS Maschinelles Lernen (LV 703076-4 20S)
DESCRIPTION:Lehrveranstaltung 703076 20S, Gruppe 4\nTitel: PS Maschinelles Lernen\nOrt: rr 20\n\nhttps://lfuonline.uibk.ac.at/public/lfuonline_lv.details?sem_id_in=20S&lvnr_id_in=703076\n
CLASS:PUBLIC
DTSTART:20200527T061500Z
DTEND:20200527T080000Z
DTSTAMP:20260419T123858Z
LOCATION:rr 20
END:VEVENT
BEGIN:VEVENT
UID:20S_703076_3568731@uibk.ac.at
ORGANIZER;CN="LFU:online Universität Innsbruck":MAILTO:Uni-Innsbruck-noreply@uibk.ac.at
SUMMARY:PS Maschinelles Lernen (LV 703076-4 20S)
DESCRIPTION:Lehrveranstaltung 703076 20S, Gruppe 4\nTitel: PS Maschinelles Lernen\nOrt: rr 20\n\nhttps://lfuonline.uibk.ac.at/public/lfuonline_lv.details?sem_id_in=20S&lvnr_id_in=703076\n
CLASS:PUBLIC
DTSTART:20200603T061500Z
DTEND:20200603T080000Z
DTSTAMP:20260419T123858Z
LOCATION:rr 20
END:VEVENT
BEGIN:VEVENT
UID:20S_703076_3568732@uibk.ac.at
ORGANIZER;CN="LFU:online Universität Innsbruck":MAILTO:Uni-Innsbruck-noreply@uibk.ac.at
SUMMARY:PS Maschinelles Lernen (LV 703076-4 20S)
DESCRIPTION:Lehrveranstaltung 703076 20S, Gruppe 4\nTitel: PS Maschinelles Lernen\nOrt: rr 20\n\nhttps://lfuonline.uibk.ac.at/public/lfuonline_lv.details?sem_id_in=20S&lvnr_id_in=703076\n
CLASS:PUBLIC
DTSTART:20200610T061500Z
DTEND:20200610T080000Z
DTSTAMP:20260419T123858Z
LOCATION:rr 20
END:VEVENT
BEGIN:VEVENT
UID:20S_703076_3568733@uibk.ac.at
ORGANIZER;CN="LFU:online Universität Innsbruck":MAILTO:Uni-Innsbruck-noreply@uibk.ac.at
SUMMARY:PS Maschinelles Lernen (LV 703076-4 20S)
DESCRIPTION:Lehrveranstaltung 703076 20S, Gruppe 4\nTitel: PS Maschinelles Lernen\nOrt: rr 20\n\nhttps://lfuonline.uibk.ac.at/public/lfuonline_lv.details?sem_id_in=20S&lvnr_id_in=703076\n
CLASS:PUBLIC
DTSTART:20200617T061500Z
DTEND:20200617T080000Z
DTSTAMP:20260419T123858Z
LOCATION:rr 20
END:VEVENT
BEGIN:VEVENT
UID:20S_703076_3568734@uibk.ac.at
ORGANIZER;CN="LFU:online Universität Innsbruck":MAILTO:Uni-Innsbruck-noreply@uibk.ac.at
SUMMARY:PS Maschinelles Lernen (LV 703076-4 20S)
DESCRIPTION:Lehrveranstaltung 703076 20S, Gruppe 4\nTitel: PS Maschinelles Lernen\nOrt: rr 20\n\nhttps://lfuonline.uibk.ac.at/public/lfuonline_lv.details?sem_id_in=20S&lvnr_id_in=703076\n
CLASS:PUBLIC
DTSTART:20200624T061500Z
DTEND:20200624T080000Z
DTSTAMP:20260419T123858Z
LOCATION:rr 20
END:VEVENT
END:VCALENDAR