BEGIN:VCALENDAR
VERSION:2.0
PRODID:-//Universität Innsbruck//LFU:online//DE
METHOD:PUBLISH
BEGIN:VEVENT
UID:26S_705321_4972126@uibk.ac.at
ORGANIZER;CN="LFU:online Universität Innsbruck":MAILTO:Uni-Innsbruck-noreply@uibk.ac.at
SUMMARY:UE Theoretische Physik 1 (Mechanik) (LV 705321-4 26S)
DESCRIPTION:Lehrveranstaltung 705321 26S, Gruppe 4\nTitel: UE Theoretische Physik 1 (Mechanik)\nOrt: HS G (Technik)\n\nhttps://lfuonline.uibk.ac.at/public/lfuonline_lv.details?sem_id_in=26S&lvnr_id_in=705321\n
CLASS:PUBLIC
DTSTART:20260309T161500Z
DTEND:20260309T174500Z
DTSTAMP:20260421T144439Z
LOCATION:HS G (Technik)
END:VEVENT
BEGIN:VEVENT
UID:26S_705321_4972127@uibk.ac.at
ORGANIZER;CN="LFU:online Universität Innsbruck":MAILTO:Uni-Innsbruck-noreply@uibk.ac.at
SUMMARY:UE Theoretische Physik 1 (Mechanik) (LV 705321-4 26S)
DESCRIPTION:Lehrveranstaltung 705321 26S, Gruppe 4\nTitel: UE Theoretische Physik 1 (Mechanik)\nOrt: HS G (Technik)\n\nhttps://lfuonline.uibk.ac.at/public/lfuonline_lv.details?sem_id_in=26S&lvnr_id_in=705321\n
CLASS:PUBLIC
DTSTART:20260316T161500Z
DTEND:20260316T174500Z
DTSTAMP:20260421T144439Z
LOCATION:HS G (Technik)
END:VEVENT
BEGIN:VEVENT
UID:26S_705321_4972128@uibk.ac.at
ORGANIZER;CN="LFU:online Universität Innsbruck":MAILTO:Uni-Innsbruck-noreply@uibk.ac.at
SUMMARY:UE Theoretische Physik 1 (Mechanik) (LV 705321-4 26S)
DESCRIPTION:Lehrveranstaltung 705321 26S, Gruppe 4\nTitel: UE Theoretische Physik 1 (Mechanik)\nOrt: HS G (Technik)\n\nhttps://lfuonline.uibk.ac.at/public/lfuonline_lv.details?sem_id_in=26S&lvnr_id_in=705321\n
CLASS:PUBLIC
DTSTART:20260323T161500Z
DTEND:20260323T174500Z
DTSTAMP:20260421T144439Z
LOCATION:HS G (Technik)
END:VEVENT
BEGIN:VEVENT
UID:26S_705321_4972129@uibk.ac.at
ORGANIZER;CN="LFU:online Universität Innsbruck":MAILTO:Uni-Innsbruck-noreply@uibk.ac.at
SUMMARY:UE Theoretische Physik 1 (Mechanik) (LV 705321-4 26S)
DESCRIPTION:Lehrveranstaltung 705321 26S, Gruppe 4\nTitel: UE Theoretische Physik 1 (Mechanik)\nOrt: HS G (Technik)\n\nhttps://lfuonline.uibk.ac.at/public/lfuonline_lv.details?sem_id_in=26S&lvnr_id_in=705321\n
CLASS:PUBLIC
DTSTART:20260413T151500Z
DTEND:20260413T164500Z
DTSTAMP:20260421T144439Z
LOCATION:HS G (Technik)
END:VEVENT
BEGIN:VEVENT
UID:26S_705321_4972130@uibk.ac.at
ORGANIZER;CN="LFU:online Universität Innsbruck":MAILTO:Uni-Innsbruck-noreply@uibk.ac.at
SUMMARY:UE Theoretische Physik 1 (Mechanik) (LV 705321-4 26S)
DESCRIPTION:Lehrveranstaltung 705321 26S, Gruppe 4\nTitel: UE Theoretische Physik 1 (Mechanik)\nOrt: HS G (Technik)\n\nhttps://lfuonline.uibk.ac.at/public/lfuonline_lv.details?sem_id_in=26S&lvnr_id_in=705321\n
CLASS:PUBLIC
DTSTART:20260420T151500Z
DTEND:20260420T164500Z
DTSTAMP:20260421T144439Z
LOCATION:HS G (Technik)
END:VEVENT
BEGIN:VEVENT
UID:26S_705321_4972131@uibk.ac.at
ORGANIZER;CN="LFU:online Universität Innsbruck":MAILTO:Uni-Innsbruck-noreply@uibk.ac.at
SUMMARY:UE Theoretische Physik 1 (Mechanik) (LV 705321-4 26S)
DESCRIPTION:Lehrveranstaltung 705321 26S, Gruppe 4\nTitel: UE Theoretische Physik 1 (Mechanik)\nOrt: HS G (Technik)\n\nhttps://lfuonline.uibk.ac.at/public/lfuonline_lv.details?sem_id_in=26S&lvnr_id_in=705321\n
CLASS:PUBLIC
DTSTART:20260427T151500Z
DTEND:20260427T164500Z
DTSTAMP:20260421T144439Z
LOCATION:HS G (Technik)
END:VEVENT
BEGIN:VEVENT
UID:26S_705321_4972132@uibk.ac.at
ORGANIZER;CN="LFU:online Universität Innsbruck":MAILTO:Uni-Innsbruck-noreply@uibk.ac.at
SUMMARY:UE Theoretische Physik 1 (Mechanik) (LV 705321-4 26S)
DESCRIPTION:Lehrveranstaltung 705321 26S, Gruppe 4\nTitel: UE Theoretische Physik 1 (Mechanik)\nOrt: HS G (Technik)\n\nhttps://lfuonline.uibk.ac.at/public/lfuonline_lv.details?sem_id_in=26S&lvnr_id_in=705321\n
CLASS:PUBLIC
DTSTART:20260504T151500Z
DTEND:20260504T164500Z
DTSTAMP:20260421T144439Z
LOCATION:HS G (Technik)
END:VEVENT
BEGIN:VEVENT
UID:26S_705321_4972133@uibk.ac.at
ORGANIZER;CN="LFU:online Universität Innsbruck":MAILTO:Uni-Innsbruck-noreply@uibk.ac.at
SUMMARY:UE Theoretische Physik 1 (Mechanik) (LV 705321-4 26S)
DESCRIPTION:Lehrveranstaltung 705321 26S, Gruppe 4\nTitel: UE Theoretische Physik 1 (Mechanik)\nOrt: HS G (Technik)\n\nhttps://lfuonline.uibk.ac.at/public/lfuonline_lv.details?sem_id_in=26S&lvnr_id_in=705321\n
CLASS:PUBLIC
DTSTART:20260511T151500Z
DTEND:20260511T164500Z
DTSTAMP:20260421T144439Z
LOCATION:HS G (Technik)
END:VEVENT
BEGIN:VEVENT
UID:26S_705321_4972134@uibk.ac.at
ORGANIZER;CN="LFU:online Universität Innsbruck":MAILTO:Uni-Innsbruck-noreply@uibk.ac.at
SUMMARY:UE Theoretische Physik 1 (Mechanik) (LV 705321-4 26S)
DESCRIPTION:Lehrveranstaltung 705321 26S, Gruppe 4\nTitel: UE Theoretische Physik 1 (Mechanik)\nOrt: HS G (Technik)\n\nhttps://lfuonline.uibk.ac.at/public/lfuonline_lv.details?sem_id_in=26S&lvnr_id_in=705321\n
CLASS:PUBLIC
DTSTART:20260518T151500Z
DTEND:20260518T164500Z
DTSTAMP:20260421T144439Z
LOCATION:HS G (Technik)
END:VEVENT
BEGIN:VEVENT
UID:26S_705321_4972135@uibk.ac.at
ORGANIZER;CN="LFU:online Universität Innsbruck":MAILTO:Uni-Innsbruck-noreply@uibk.ac.at
SUMMARY:UE Theoretische Physik 1 (Mechanik) (LV 705321-4 26S)
DESCRIPTION:Lehrveranstaltung 705321 26S, Gruppe 4\nTitel: UE Theoretische Physik 1 (Mechanik)\nOrt: HS G (Technik)\n\nhttps://lfuonline.uibk.ac.at/public/lfuonline_lv.details?sem_id_in=26S&lvnr_id_in=705321\n
CLASS:PUBLIC
DTSTART:20260601T151500Z
DTEND:20260601T164500Z
DTSTAMP:20260421T144439Z
LOCATION:HS G (Technik)
END:VEVENT
BEGIN:VEVENT
UID:26S_705321_4972136@uibk.ac.at
ORGANIZER;CN="LFU:online Universität Innsbruck":MAILTO:Uni-Innsbruck-noreply@uibk.ac.at
SUMMARY:UE Theoretische Physik 1 (Mechanik) (LV 705321-4 26S)
DESCRIPTION:Lehrveranstaltung 705321 26S, Gruppe 4\nTitel: UE Theoretische Physik 1 (Mechanik)\nOrt: HS G (Technik)\n\nhttps://lfuonline.uibk.ac.at/public/lfuonline_lv.details?sem_id_in=26S&lvnr_id_in=705321\n
CLASS:PUBLIC
DTSTART:20260608T151500Z
DTEND:20260608T164500Z
DTSTAMP:20260421T144439Z
LOCATION:HS G (Technik)
END:VEVENT
BEGIN:VEVENT
UID:26S_705321_4972137@uibk.ac.at
ORGANIZER;CN="LFU:online Universität Innsbruck":MAILTO:Uni-Innsbruck-noreply@uibk.ac.at
SUMMARY:UE Theoretische Physik 1 (Mechanik) (LV 705321-4 26S)
DESCRIPTION:Lehrveranstaltung 705321 26S, Gruppe 4\nTitel: UE Theoretische Physik 1 (Mechanik)\nOrt: HS G (Technik)\n\nhttps://lfuonline.uibk.ac.at/public/lfuonline_lv.details?sem_id_in=26S&lvnr_id_in=705321\n
CLASS:PUBLIC
DTSTART:20260615T151500Z
DTEND:20260615T164500Z
DTSTAMP:20260421T144439Z
LOCATION:HS G (Technik)
END:VEVENT
BEGIN:VEVENT
UID:26S_705321_4972138@uibk.ac.at
ORGANIZER;CN="LFU:online Universität Innsbruck":MAILTO:Uni-Innsbruck-noreply@uibk.ac.at
SUMMARY:UE Theoretische Physik 1 (Mechanik) (LV 705321-4 26S)
DESCRIPTION:Lehrveranstaltung 705321 26S, Gruppe 4\nTitel: UE Theoretische Physik 1 (Mechanik)\nOrt: HS G (Technik)\n\nhttps://lfuonline.uibk.ac.at/public/lfuonline_lv.details?sem_id_in=26S&lvnr_id_in=705321\n
CLASS:PUBLIC
DTSTART:20260622T151500Z
DTEND:20260622T164500Z
DTSTAMP:20260421T144439Z
LOCATION:HS G (Technik)
END:VEVENT
END:VCALENDAR