BEGIN:VCALENDAR
VERSION:2.0
PRODID:-//Universität Innsbruck//LFU:online//DE
METHOD:PUBLISH
BEGIN:VEVENT
UID:18W_705513_3248776@uibk.ac.at
ORGANIZER;CN="LFU:online Universität Innsbruck":MAILTO:Uni-Innsbruck-noreply@uibk.ac.at
SUMMARY:PS Theoretische Physik 3 (Elektrodynamik) (LV 705513-4 18W)
DESCRIPTION:Lehrveranstaltung 705513 18W, Gruppe 4\nTitel: PS Theoretische Physik 3 (Elektrodynamik)\nOrt: Seminarraum Nr. 2S17\n\nhttps://lfuonline.uibk.ac.at/public/lfuonline_lv.details?sem_id_in=18W&lvnr_id_in=705513\n
CLASS:PUBLIC
DTSTART:20181005T070000Z
DTEND:20181005T090000Z
DTSTAMP:20260421T184509Z
LOCATION:Seminarraum Nr. 2S17
END:VEVENT
BEGIN:VEVENT
UID:18W_705513_3248777@uibk.ac.at
ORGANIZER;CN="LFU:online Universität Innsbruck":MAILTO:Uni-Innsbruck-noreply@uibk.ac.at
SUMMARY:PS Theoretische Physik 3 (Elektrodynamik) (LV 705513-4 18W)
DESCRIPTION:Lehrveranstaltung 705513 18W, Gruppe 4\nTitel: PS Theoretische Physik 3 (Elektrodynamik)\nOrt: Seminarraum Nr. 2S17\n\nhttps://lfuonline.uibk.ac.at/public/lfuonline_lv.details?sem_id_in=18W&lvnr_id_in=705513\n
CLASS:PUBLIC
DTSTART:20181012T070000Z
DTEND:20181012T090000Z
DTSTAMP:20260421T184509Z
LOCATION:Seminarraum Nr. 2S17
END:VEVENT
BEGIN:VEVENT
UID:18W_705513_3225875@uibk.ac.at
ORGANIZER;CN="LFU:online Universität Innsbruck":MAILTO:Uni-Innsbruck-noreply@uibk.ac.at
SUMMARY:PS Theoretische Physik 3 (Elektrodynamik) (LV 705513-4 18W)
DESCRIPTION:Lehrveranstaltung 705513 18W, Gruppe 4\nTitel: PS Theoretische Physik 3 (Elektrodynamik)\nOrt: HS A (Technik)\n\nhttps://lfuonline.uibk.ac.at/public/lfuonline_lv.details?sem_id_in=18W&lvnr_id_in=705513\n
CLASS:PUBLIC
DTSTART:20181017T150000Z
DTEND:20181017T163000Z
DTSTAMP:20260421T184509Z
LOCATION:HS A (Technik)
COMMENT:1. Zentralübung
END:VEVENT
BEGIN:VEVENT
UID:18W_705513_3225876@uibk.ac.at
ORGANIZER;CN="LFU:online Universität Innsbruck":MAILTO:Uni-Innsbruck-noreply@uibk.ac.at
SUMMARY:PS Theoretische Physik 3 (Elektrodynamik) (LV 705513-4 18W)
DESCRIPTION:Lehrveranstaltung 705513 18W, Gruppe 4\nTitel: PS Theoretische Physik 3 (Elektrodynamik)\nOrt: HS A (Technik)\n\nhttps://lfuonline.uibk.ac.at/public/lfuonline_lv.details?sem_id_in=18W&lvnr_id_in=705513\n
CLASS:PUBLIC
DTSTART:20181024T150000Z
DTEND:20181024T163000Z
DTSTAMP:20260421T184509Z
LOCATION:HS A (Technik)
COMMENT:2. Zentralübung
END:VEVENT
BEGIN:VEVENT
UID:18W_705513_3248778@uibk.ac.at
ORGANIZER;CN="LFU:online Universität Innsbruck":MAILTO:Uni-Innsbruck-noreply@uibk.ac.at
SUMMARY:PS Theoretische Physik 3 (Elektrodynamik) (LV 705513-4 18W)
DESCRIPTION:Lehrveranstaltung 705513 18W, Gruppe 4\nTitel: PS Theoretische Physik 3 (Elektrodynamik)\nOrt: Seminarraum Nr. 2S17\n\nhttps://lfuonline.uibk.ac.at/public/lfuonline_lv.details?sem_id_in=18W&lvnr_id_in=705513\n
CLASS:PUBLIC
DTSTART:20181109T080000Z
DTEND:20181109T100000Z
DTSTAMP:20260421T184509Z
LOCATION:Seminarraum Nr. 2S17
END:VEVENT
BEGIN:VEVENT
UID:18W_705513_3248779@uibk.ac.at
ORGANIZER;CN="LFU:online Universität Innsbruck":MAILTO:Uni-Innsbruck-noreply@uibk.ac.at
SUMMARY:PS Theoretische Physik 3 (Elektrodynamik) (LV 705513-4 18W)
DESCRIPTION:Lehrveranstaltung 705513 18W, Gruppe 4\nTitel: PS Theoretische Physik 3 (Elektrodynamik)\nOrt: Seminarraum Nr. 2S17\n\nhttps://lfuonline.uibk.ac.at/public/lfuonline_lv.details?sem_id_in=18W&lvnr_id_in=705513\n
CLASS:PUBLIC
DTSTART:20181116T080000Z
DTEND:20181116T100000Z
DTSTAMP:20260421T184509Z
LOCATION:Seminarraum Nr. 2S17
END:VEVENT
BEGIN:VEVENT
UID:18W_705513_3248780@uibk.ac.at
ORGANIZER;CN="LFU:online Universität Innsbruck":MAILTO:Uni-Innsbruck-noreply@uibk.ac.at
SUMMARY:PS Theoretische Physik 3 (Elektrodynamik) (LV 705513-4 18W)
DESCRIPTION:Lehrveranstaltung 705513 18W, Gruppe 4\nTitel: PS Theoretische Physik 3 (Elektrodynamik)\nOrt: Seminarraum Nr. 2S17\n\nhttps://lfuonline.uibk.ac.at/public/lfuonline_lv.details?sem_id_in=18W&lvnr_id_in=705513\n
CLASS:PUBLIC
DTSTART:20181123T080000Z
DTEND:20181123T100000Z
DTSTAMP:20260421T184509Z
LOCATION:Seminarraum Nr. 2S17
END:VEVENT
BEGIN:VEVENT
UID:18W_705513_3248781@uibk.ac.at
ORGANIZER;CN="LFU:online Universität Innsbruck":MAILTO:Uni-Innsbruck-noreply@uibk.ac.at
SUMMARY:PS Theoretische Physik 3 (Elektrodynamik) (LV 705513-4 18W)
DESCRIPTION:Lehrveranstaltung 705513 18W, Gruppe 4\nTitel: PS Theoretische Physik 3 (Elektrodynamik)\nOrt: Seminarraum Nr. 2S17\n\nhttps://lfuonline.uibk.ac.at/public/lfuonline_lv.details?sem_id_in=18W&lvnr_id_in=705513\n
CLASS:PUBLIC
DTSTART:20181130T080000Z
DTEND:20181130T100000Z
DTSTAMP:20260421T184509Z
LOCATION:Seminarraum Nr. 2S17
END:VEVENT
BEGIN:VEVENT
UID:18W_705513_3225881@uibk.ac.at
ORGANIZER;CN="LFU:online Universität Innsbruck":MAILTO:Uni-Innsbruck-noreply@uibk.ac.at
SUMMARY:PS Theoretische Physik 3 (Elektrodynamik) (LV 705513-4 18W)
DESCRIPTION:Lehrveranstaltung 705513 18W, Gruppe 4\nTitel: PS Theoretische Physik 3 (Elektrodynamik)\nOrt: HS A (Technik)\n\nhttps://lfuonline.uibk.ac.at/public/lfuonline_lv.details?sem_id_in=18W&lvnr_id_in=705513\n
CLASS:PUBLIC
DTSTART:20181130T113000Z
DTEND:20181130T153000Z
DTSTAMP:20260421T184509Z
LOCATION:HS A (Technik)
COMMENT:1. Klausur für alle Gruppen
END:VEVENT
BEGIN:VEVENT
UID:18W_705513_3248782@uibk.ac.at
ORGANIZER;CN="LFU:online Universität Innsbruck":MAILTO:Uni-Innsbruck-noreply@uibk.ac.at
SUMMARY:PS Theoretische Physik 3 (Elektrodynamik) (LV 705513-4 18W)
DESCRIPTION:Lehrveranstaltung 705513 18W, Gruppe 4\nTitel: PS Theoretische Physik 3 (Elektrodynamik)\nOrt: Seminarraum Nr. 2S17\n\nhttps://lfuonline.uibk.ac.at/public/lfuonline_lv.details?sem_id_in=18W&lvnr_id_in=705513\n
CLASS:PUBLIC
DTSTART:20181207T080000Z
DTEND:20181207T100000Z
DTSTAMP:20260421T184509Z
LOCATION:Seminarraum Nr. 2S17
END:VEVENT
BEGIN:VEVENT
UID:18W_705513_3248783@uibk.ac.at
ORGANIZER;CN="LFU:online Universität Innsbruck":MAILTO:Uni-Innsbruck-noreply@uibk.ac.at
SUMMARY:PS Theoretische Physik 3 (Elektrodynamik) (LV 705513-4 18W)
DESCRIPTION:Lehrveranstaltung 705513 18W, Gruppe 4\nTitel: PS Theoretische Physik 3 (Elektrodynamik)\nOrt: Seminarraum Nr. 2S17\n\nhttps://lfuonline.uibk.ac.at/public/lfuonline_lv.details?sem_id_in=18W&lvnr_id_in=705513\n
CLASS:PUBLIC
DTSTART:20181214T080000Z
DTEND:20181214T100000Z
DTSTAMP:20260421T184509Z
LOCATION:Seminarraum Nr. 2S17
END:VEVENT
BEGIN:VEVENT
UID:18W_705513_3248784@uibk.ac.at
ORGANIZER;CN="LFU:online Universität Innsbruck":MAILTO:Uni-Innsbruck-noreply@uibk.ac.at
SUMMARY:PS Theoretische Physik 3 (Elektrodynamik) (LV 705513-4 18W)
DESCRIPTION:Lehrveranstaltung 705513 18W, Gruppe 4\nTitel: PS Theoretische Physik 3 (Elektrodynamik)\nOrt: Seminarraum Nr. 2S17\n\nhttps://lfuonline.uibk.ac.at/public/lfuonline_lv.details?sem_id_in=18W&lvnr_id_in=705513\n
CLASS:PUBLIC
DTSTART:20190111T080000Z
DTEND:20190111T100000Z
DTSTAMP:20260421T184509Z
LOCATION:Seminarraum Nr. 2S17
END:VEVENT
BEGIN:VEVENT
UID:18W_705513_3248785@uibk.ac.at
ORGANIZER;CN="LFU:online Universität Innsbruck":MAILTO:Uni-Innsbruck-noreply@uibk.ac.at
SUMMARY:PS Theoretische Physik 3 (Elektrodynamik) (LV 705513-4 18W)
DESCRIPTION:Lehrveranstaltung 705513 18W, Gruppe 4\nTitel: PS Theoretische Physik 3 (Elektrodynamik)\nOrt: Seminarraum Nr. 2S17\n\nhttps://lfuonline.uibk.ac.at/public/lfuonline_lv.details?sem_id_in=18W&lvnr_id_in=705513\n
CLASS:PUBLIC
DTSTART:20190118T080000Z
DTEND:20190118T100000Z
DTSTAMP:20260421T184509Z
LOCATION:Seminarraum Nr. 2S17
END:VEVENT
BEGIN:VEVENT
UID:18W_705513_3248786@uibk.ac.at
ORGANIZER;CN="LFU:online Universität Innsbruck":MAILTO:Uni-Innsbruck-noreply@uibk.ac.at
SUMMARY:PS Theoretische Physik 3 (Elektrodynamik) (LV 705513-4 18W)
DESCRIPTION:Lehrveranstaltung 705513 18W, Gruppe 4\nTitel: PS Theoretische Physik 3 (Elektrodynamik)\nOrt: Seminarraum Nr. 2S17\n\nhttps://lfuonline.uibk.ac.at/public/lfuonline_lv.details?sem_id_in=18W&lvnr_id_in=705513\n
CLASS:PUBLIC
DTSTART:20190125T080000Z
DTEND:20190125T100000Z
DTSTAMP:20260421T184509Z
LOCATION:Seminarraum Nr. 2S17
END:VEVENT
BEGIN:VEVENT
UID:18W_705513_3248787@uibk.ac.at
ORGANIZER;CN="LFU:online Universität Innsbruck":MAILTO:Uni-Innsbruck-noreply@uibk.ac.at
SUMMARY:PS Theoretische Physik 3 (Elektrodynamik) (LV 705513-4 18W)
DESCRIPTION:Lehrveranstaltung 705513 18W, Gruppe 4\nTitel: PS Theoretische Physik 3 (Elektrodynamik)\nOrt: Seminarraum Nr. 2S17\n\nhttps://lfuonline.uibk.ac.at/public/lfuonline_lv.details?sem_id_in=18W&lvnr_id_in=705513\n
CLASS:PUBLIC
DTSTART:20190201T080000Z
DTEND:20190201T100000Z
DTSTAMP:20260421T184509Z
LOCATION:Seminarraum Nr. 2S17
END:VEVENT
BEGIN:VEVENT
UID:18W_705513_3225882@uibk.ac.at
ORGANIZER;CN="LFU:online Universität Innsbruck":MAILTO:Uni-Innsbruck-noreply@uibk.ac.at
SUMMARY:PS Theoretische Physik 3 (Elektrodynamik) (LV 705513-4 18W)
DESCRIPTION:Lehrveranstaltung 705513 18W, Gruppe 4\nTitel: PS Theoretische Physik 3 (Elektrodynamik)\nOrt: HS A (Technik)\n\nhttps://lfuonline.uibk.ac.at/public/lfuonline_lv.details?sem_id_in=18W&lvnr_id_in=705513\n
CLASS:PUBLIC
DTSTART:20190201T113000Z
DTEND:20190201T153000Z
DTSTAMP:20260421T184509Z
LOCATION:HS A (Technik)
COMMENT:2. Klausur für alle Gruppen
END:VEVENT
END:VCALENDAR