BEGIN:VCALENDAR
VERSION:2.0
PRODID:-//Universität Innsbruck//LFU:online//DE
METHOD:PUBLISH
BEGIN:VEVENT
UID:26S_712006_5063998@uibk.ac.at
ORGANIZER;CN="LFU:online Universität Innsbruck":MAILTO:Uni-Innsbruck-noreply@uibk.ac.at
SUMMARY:UE Biochemische Methoden (4 Gruppen) (LV 712006-4 26S)
DESCRIPTION:Lehrveranstaltung 712006 26S, Gruppe 4\nTitel: UE Biochemische Methoden (4 Gruppen)\nOrt: L.EG.220\n\nhttps://lfuonline.uibk.ac.at/public/lfuonline_lv.details?sem_id_in=26S&lvnr_id_in=712006\n
CLASS:PUBLIC
DTSTART:20260302T083000Z
DTEND:20260302T090000Z
DTSTAMP:20260422T053603Z
LOCATION:L.EG.220
COMMENT:Vorbesprechung
END:VEVENT
BEGIN:VEVENT
UID:26S_712006_5068030@uibk.ac.at
ORGANIZER;CN="LFU:online Universität Innsbruck":MAILTO:Uni-Innsbruck-noreply@uibk.ac.at
SUMMARY:UE Biochemische Methoden (4 Gruppen) (LV 712006-4 26S)
DESCRIPTION:Lehrveranstaltung 712006 26S, Gruppe 4\nTitel: UE Biochemische Methoden (4 Gruppen)\nOrt: L.01.125\n\nhttps://lfuonline.uibk.ac.at/public/lfuonline_lv.details?sem_id_in=26S&lvnr_id_in=712006\n
CLASS:PUBLIC
DTSTART:20260526T103000Z
DTEND:20260526T160000Z
DTSTAMP:20260422T053603Z
LOCATION:L.01.125
END:VEVENT
BEGIN:VEVENT
UID:26S_712006_5068032@uibk.ac.at
ORGANIZER;CN="LFU:online Universität Innsbruck":MAILTO:Uni-Innsbruck-noreply@uibk.ac.at
SUMMARY:UE Biochemische Methoden (4 Gruppen) (LV 712006-4 26S)
DESCRIPTION:Lehrveranstaltung 712006 26S, Gruppe 4\nTitel: UE Biochemische Methoden (4 Gruppen)\nOrt: L.01.125\n\nhttps://lfuonline.uibk.ac.at/public/lfuonline_lv.details?sem_id_in=26S&lvnr_id_in=712006\n
CLASS:PUBLIC
DTSTART:20260529T063000Z
DTEND:20260529T110000Z
DTSTAMP:20260422T053603Z
LOCATION:L.01.125
END:VEVENT
END:VCALENDAR