BEGIN:VCALENDAR
VERSION:2.0
PRODID:-//Universität Innsbruck//LFU:online//DE
METHOD:PUBLISH
BEGIN:VEVENT
UID:26S_740550_5045173@uibk.ac.at
ORGANIZER;CN="LFU:online Universität Innsbruck":MAILTO:Uni-Innsbruck-noreply@uibk.ac.at
SUMMARY:VU Biochemische und molekularbiologische Übungen (3 Gruppen) (LV 740550-4 26S)
DESCRIPTION:Lehrveranstaltung 740550 26S, Gruppe 4\nTitel: VU Biochemische und molekularbiologische Übungen (3 Gruppen)\nOrt: L.01.220\n\nhttps://lfuonline.uibk.ac.at/public/lfuonline_lv.details?sem_id_in=26S&lvnr_id_in=740550\n
CLASS:PUBLIC
DTSTART:20260302T083000Z
DTEND:20260302T090000Z
DTSTAMP:20260422T053730Z
LOCATION:L.01.220
COMMENT:Vorbesprechung
END:VEVENT
END:VCALENDAR