BEGIN:VCALENDAR
VERSION:2.0
PRODID:-//Universität Innsbruck//LFU:online//DE
METHOD:PUBLISH
BEGIN:VEVENT
UID:10W_703002_1432434@uibk.ac.at
ORGANIZER;CN="LFU:online Universität Innsbruck":MAILTO:Uni-Innsbruck-noreply@uibk.ac.at
SUMMARY:Einführung in die Informatik (LV 703002-5 10W)
DESCRIPTION:Lehrveranstaltung 703002 10W, Gruppe 5\nTitel: Einführung in die Informatik\nOrt: SR 12\n\nhttps://lfuonline.uibk.ac.at/public/lfuonline_lv.details?sem_id_in=10W&lvnr_id_in=703002\n
CLASS:PUBLIC
DTSTART:20101011T101500Z
DTEND:20101011T120000Z
DTSTAMP:20260423T080753Z
LOCATION:SR 12
END:VEVENT
BEGIN:VEVENT
UID:10W_703002_1432435@uibk.ac.at
ORGANIZER;CN="LFU:online Universität Innsbruck":MAILTO:Uni-Innsbruck-noreply@uibk.ac.at
SUMMARY:Einführung in die Informatik (LV 703002-5 10W)
DESCRIPTION:Lehrveranstaltung 703002 10W, Gruppe 5\nTitel: Einführung in die Informatik\nOrt: SR 12\n\nhttps://lfuonline.uibk.ac.at/public/lfuonline_lv.details?sem_id_in=10W&lvnr_id_in=703002\n
CLASS:PUBLIC
DTSTART:20101018T101500Z
DTEND:20101018T120000Z
DTSTAMP:20260423T080753Z
LOCATION:SR 12
END:VEVENT
BEGIN:VEVENT
UID:10W_703002_1432436@uibk.ac.at
ORGANIZER;CN="LFU:online Universität Innsbruck":MAILTO:Uni-Innsbruck-noreply@uibk.ac.at
SUMMARY:Einführung in die Informatik (LV 703002-5 10W)
DESCRIPTION:Lehrveranstaltung 703002 10W, Gruppe 5\nTitel: Einführung in die Informatik\nOrt: SR 12\n\nhttps://lfuonline.uibk.ac.at/public/lfuonline_lv.details?sem_id_in=10W&lvnr_id_in=703002\n
CLASS:PUBLIC
DTSTART:20101025T101500Z
DTEND:20101025T120000Z
DTSTAMP:20260423T080753Z
LOCATION:SR 12
END:VEVENT
BEGIN:VEVENT
UID:10W_703002_1432437@uibk.ac.at
ORGANIZER;CN="LFU:online Universität Innsbruck":MAILTO:Uni-Innsbruck-noreply@uibk.ac.at
SUMMARY:Einführung in die Informatik (LV 703002-5 10W)
DESCRIPTION:Lehrveranstaltung 703002 10W, Gruppe 5\nTitel: Einführung in die Informatik\nOrt: SR 12\n\nhttps://lfuonline.uibk.ac.at/public/lfuonline_lv.details?sem_id_in=10W&lvnr_id_in=703002\n
CLASS:PUBLIC
DTSTART:20101108T111500Z
DTEND:20101108T130000Z
DTSTAMP:20260423T080753Z
LOCATION:SR 12
END:VEVENT
BEGIN:VEVENT
UID:10W_703002_1432438@uibk.ac.at
ORGANIZER;CN="LFU:online Universität Innsbruck":MAILTO:Uni-Innsbruck-noreply@uibk.ac.at
SUMMARY:Einführung in die Informatik (LV 703002-5 10W)
DESCRIPTION:Lehrveranstaltung 703002 10W, Gruppe 5\nTitel: Einführung in die Informatik\nOrt: SR 12\n\nhttps://lfuonline.uibk.ac.at/public/lfuonline_lv.details?sem_id_in=10W&lvnr_id_in=703002\n
CLASS:PUBLIC
DTSTART:20101115T111500Z
DTEND:20101115T130000Z
DTSTAMP:20260423T080753Z
LOCATION:SR 12
END:VEVENT
BEGIN:VEVENT
UID:10W_703002_1432439@uibk.ac.at
ORGANIZER;CN="LFU:online Universität Innsbruck":MAILTO:Uni-Innsbruck-noreply@uibk.ac.at
SUMMARY:Einführung in die Informatik (LV 703002-5 10W)
DESCRIPTION:Lehrveranstaltung 703002 10W, Gruppe 5\nTitel: Einführung in die Informatik\nOrt: SR 12\n\nhttps://lfuonline.uibk.ac.at/public/lfuonline_lv.details?sem_id_in=10W&lvnr_id_in=703002\n
CLASS:PUBLIC
DTSTART:20101122T111500Z
DTEND:20101122T130000Z
DTSTAMP:20260423T080753Z
LOCATION:SR 12
END:VEVENT
BEGIN:VEVENT
UID:10W_703002_1432440@uibk.ac.at
ORGANIZER;CN="LFU:online Universität Innsbruck":MAILTO:Uni-Innsbruck-noreply@uibk.ac.at
SUMMARY:Einführung in die Informatik (LV 703002-5 10W)
DESCRIPTION:Lehrveranstaltung 703002 10W, Gruppe 5\nTitel: Einführung in die Informatik\nOrt: SR 12\n\nhttps://lfuonline.uibk.ac.at/public/lfuonline_lv.details?sem_id_in=10W&lvnr_id_in=703002\n
CLASS:PUBLIC
DTSTART:20101129T111500Z
DTEND:20101129T130000Z
DTSTAMP:20260423T080753Z
LOCATION:SR 12
END:VEVENT
BEGIN:VEVENT
UID:10W_703002_1432441@uibk.ac.at
ORGANIZER;CN="LFU:online Universität Innsbruck":MAILTO:Uni-Innsbruck-noreply@uibk.ac.at
SUMMARY:Einführung in die Informatik (LV 703002-5 10W)
DESCRIPTION:Lehrveranstaltung 703002 10W, Gruppe 5\nTitel: Einführung in die Informatik\nOrt: SR 12\n\nhttps://lfuonline.uibk.ac.at/public/lfuonline_lv.details?sem_id_in=10W&lvnr_id_in=703002\n
CLASS:PUBLIC
DTSTART:20101206T111500Z
DTEND:20101206T130000Z
DTSTAMP:20260423T080753Z
LOCATION:SR 12
END:VEVENT
BEGIN:VEVENT
UID:10W_703002_1432442@uibk.ac.at
ORGANIZER;CN="LFU:online Universität Innsbruck":MAILTO:Uni-Innsbruck-noreply@uibk.ac.at
SUMMARY:Einführung in die Informatik (LV 703002-5 10W)
DESCRIPTION:Lehrveranstaltung 703002 10W, Gruppe 5\nTitel: Einführung in die Informatik\nOrt: SR 12\n\nhttps://lfuonline.uibk.ac.at/public/lfuonline_lv.details?sem_id_in=10W&lvnr_id_in=703002\n
CLASS:PUBLIC
DTSTART:20101213T111500Z
DTEND:20101213T130000Z
DTSTAMP:20260423T080753Z
LOCATION:SR 12
END:VEVENT
BEGIN:VEVENT
UID:10W_703002_1432443@uibk.ac.at
ORGANIZER;CN="LFU:online Universität Innsbruck":MAILTO:Uni-Innsbruck-noreply@uibk.ac.at
SUMMARY:Einführung in die Informatik (LV 703002-5 10W)
DESCRIPTION:Lehrveranstaltung 703002 10W, Gruppe 5\nTitel: Einführung in die Informatik\nOrt: SR 12\n\nhttps://lfuonline.uibk.ac.at/public/lfuonline_lv.details?sem_id_in=10W&lvnr_id_in=703002\n
CLASS:PUBLIC
DTSTART:20110110T111500Z
DTEND:20110110T130000Z
DTSTAMP:20260423T080753Z
LOCATION:SR 12
END:VEVENT
BEGIN:VEVENT
UID:10W_703002_1432444@uibk.ac.at
ORGANIZER;CN="LFU:online Universität Innsbruck":MAILTO:Uni-Innsbruck-noreply@uibk.ac.at
SUMMARY:Einführung in die Informatik (LV 703002-5 10W)
DESCRIPTION:Lehrveranstaltung 703002 10W, Gruppe 5\nTitel: Einführung in die Informatik\nOrt: SR 12\n\nhttps://lfuonline.uibk.ac.at/public/lfuonline_lv.details?sem_id_in=10W&lvnr_id_in=703002\n
CLASS:PUBLIC
DTSTART:20110117T111500Z
DTEND:20110117T130000Z
DTSTAMP:20260423T080753Z
LOCATION:SR 12
END:VEVENT
BEGIN:VEVENT
UID:10W_703002_1432445@uibk.ac.at
ORGANIZER;CN="LFU:online Universität Innsbruck":MAILTO:Uni-Innsbruck-noreply@uibk.ac.at
SUMMARY:Einführung in die Informatik (LV 703002-5 10W)
DESCRIPTION:Lehrveranstaltung 703002 10W, Gruppe 5\nTitel: Einführung in die Informatik\nOrt: SR 12\n\nhttps://lfuonline.uibk.ac.at/public/lfuonline_lv.details?sem_id_in=10W&lvnr_id_in=703002\n
CLASS:PUBLIC
DTSTART:20110124T111500Z
DTEND:20110124T130000Z
DTSTAMP:20260423T080753Z
LOCATION:SR 12
END:VEVENT
BEGIN:VEVENT
UID:10W_703002_1432446@uibk.ac.at
ORGANIZER;CN="LFU:online Universität Innsbruck":MAILTO:Uni-Innsbruck-noreply@uibk.ac.at
SUMMARY:Einführung in die Informatik (LV 703002-5 10W)
DESCRIPTION:Lehrveranstaltung 703002 10W, Gruppe 5\nTitel: Einführung in die Informatik\nOrt: SR 12\n\nhttps://lfuonline.uibk.ac.at/public/lfuonline_lv.details?sem_id_in=10W&lvnr_id_in=703002\n
CLASS:PUBLIC
DTSTART:20110131T111500Z
DTEND:20110131T130000Z
DTSTAMP:20260423T080753Z
LOCATION:SR 12
END:VEVENT
END:VCALENDAR