BEGIN:VCALENDAR
VERSION:2.0
PRODID:-//Universität Innsbruck//LFU:online//DE
METHOD:PUBLISH
BEGIN:VEVENT
UID:18W_703025_3248050@uibk.ac.at
ORGANIZER;CN="LFU:online Universität Innsbruck":MAILTO:Uni-Innsbruck-noreply@uibk.ac.at
SUMMARY:PS Funktionale Programmierung (LV 703025-5 18W)
DESCRIPTION:Lehrveranstaltung 703025 18W, Gruppe 5\nTitel: PS Funktionale Programmierung\nOrt: HSB  7\n\nhttps://lfuonline.uibk.ac.at/public/lfuonline_lv.details?sem_id_in=18W&lvnr_id_in=703025\n
CLASS:PUBLIC
DTSTART:20181012T081500Z
DTEND:20181012T090000Z
DTSTAMP:20260419T121609Z
LOCATION:HSB  7
END:VEVENT
BEGIN:VEVENT
UID:18W_703025_3248051@uibk.ac.at
ORGANIZER;CN="LFU:online Universität Innsbruck":MAILTO:Uni-Innsbruck-noreply@uibk.ac.at
SUMMARY:PS Funktionale Programmierung (LV 703025-5 18W)
DESCRIPTION:Lehrveranstaltung 703025 18W, Gruppe 5\nTitel: PS Funktionale Programmierung\nOrt: HSB  7\n\nhttps://lfuonline.uibk.ac.at/public/lfuonline_lv.details?sem_id_in=18W&lvnr_id_in=703025\n
CLASS:PUBLIC
DTSTART:20181109T091500Z
DTEND:20181109T100000Z
DTSTAMP:20260419T121609Z
LOCATION:HSB  7
END:VEVENT
BEGIN:VEVENT
UID:18W_703025_3248052@uibk.ac.at
ORGANIZER;CN="LFU:online Universität Innsbruck":MAILTO:Uni-Innsbruck-noreply@uibk.ac.at
SUMMARY:PS Funktionale Programmierung (LV 703025-5 18W)
DESCRIPTION:Lehrveranstaltung 703025 18W, Gruppe 5\nTitel: PS Funktionale Programmierung\nOrt: HSB  7\n\nhttps://lfuonline.uibk.ac.at/public/lfuonline_lv.details?sem_id_in=18W&lvnr_id_in=703025\n
CLASS:PUBLIC
DTSTART:20181116T091500Z
DTEND:20181116T100000Z
DTSTAMP:20260419T121609Z
LOCATION:HSB  7
END:VEVENT
BEGIN:VEVENT
UID:18W_703025_3248053@uibk.ac.at
ORGANIZER;CN="LFU:online Universität Innsbruck":MAILTO:Uni-Innsbruck-noreply@uibk.ac.at
SUMMARY:PS Funktionale Programmierung (LV 703025-5 18W)
DESCRIPTION:Lehrveranstaltung 703025 18W, Gruppe 5\nTitel: PS Funktionale Programmierung\nOrt: HSB  6\n\nhttps://lfuonline.uibk.ac.at/public/lfuonline_lv.details?sem_id_in=18W&lvnr_id_in=703025\n
CLASS:PUBLIC
DTSTART:20181123T091500Z
DTEND:20181123T100000Z
DTSTAMP:20260419T121609Z
LOCATION:HSB  6
END:VEVENT
BEGIN:VEVENT
UID:18W_703025_3248054@uibk.ac.at
ORGANIZER;CN="LFU:online Universität Innsbruck":MAILTO:Uni-Innsbruck-noreply@uibk.ac.at
SUMMARY:PS Funktionale Programmierung (LV 703025-5 18W)
DESCRIPTION:Lehrveranstaltung 703025 18W, Gruppe 5\nTitel: PS Funktionale Programmierung\nOrt: HSB  7\n\nhttps://lfuonline.uibk.ac.at/public/lfuonline_lv.details?sem_id_in=18W&lvnr_id_in=703025\n
CLASS:PUBLIC
DTSTART:20181130T091500Z
DTEND:20181130T100000Z
DTSTAMP:20260419T121609Z
LOCATION:HSB  7
END:VEVENT
BEGIN:VEVENT
UID:18W_703025_3248055@uibk.ac.at
ORGANIZER;CN="LFU:online Universität Innsbruck":MAILTO:Uni-Innsbruck-noreply@uibk.ac.at
SUMMARY:PS Funktionale Programmierung (LV 703025-5 18W)
DESCRIPTION:Lehrveranstaltung 703025 18W, Gruppe 5\nTitel: PS Funktionale Programmierung\nOrt: HSB  7\n\nhttps://lfuonline.uibk.ac.at/public/lfuonline_lv.details?sem_id_in=18W&lvnr_id_in=703025\n
CLASS:PUBLIC
DTSTART:20181207T091500Z
DTEND:20181207T100000Z
DTSTAMP:20260419T121609Z
LOCATION:HSB  7
END:VEVENT
BEGIN:VEVENT
UID:18W_703025_3248056@uibk.ac.at
ORGANIZER;CN="LFU:online Universität Innsbruck":MAILTO:Uni-Innsbruck-noreply@uibk.ac.at
SUMMARY:PS Funktionale Programmierung (LV 703025-5 18W)
DESCRIPTION:Lehrveranstaltung 703025 18W, Gruppe 5\nTitel: PS Funktionale Programmierung\nOrt: HSB  7\n\nhttps://lfuonline.uibk.ac.at/public/lfuonline_lv.details?sem_id_in=18W&lvnr_id_in=703025\n
CLASS:PUBLIC
DTSTART:20181214T091500Z
DTEND:20181214T100000Z
DTSTAMP:20260419T121609Z
LOCATION:HSB  7
END:VEVENT
BEGIN:VEVENT
UID:18W_703025_3248057@uibk.ac.at
ORGANIZER;CN="LFU:online Universität Innsbruck":MAILTO:Uni-Innsbruck-noreply@uibk.ac.at
SUMMARY:PS Funktionale Programmierung (LV 703025-5 18W)
DESCRIPTION:Lehrveranstaltung 703025 18W, Gruppe 5\nTitel: PS Funktionale Programmierung\nOrt: HSB  7\n\nhttps://lfuonline.uibk.ac.at/public/lfuonline_lv.details?sem_id_in=18W&lvnr_id_in=703025\n
CLASS:PUBLIC
DTSTART:20190111T091500Z
DTEND:20190111T100000Z
DTSTAMP:20260419T121609Z
LOCATION:HSB  7
END:VEVENT
BEGIN:VEVENT
UID:18W_703025_3248058@uibk.ac.at
ORGANIZER;CN="LFU:online Universität Innsbruck":MAILTO:Uni-Innsbruck-noreply@uibk.ac.at
SUMMARY:PS Funktionale Programmierung (LV 703025-5 18W)
DESCRIPTION:Lehrveranstaltung 703025 18W, Gruppe 5\nTitel: PS Funktionale Programmierung\nOrt: HSB  7\n\nhttps://lfuonline.uibk.ac.at/public/lfuonline_lv.details?sem_id_in=18W&lvnr_id_in=703025\n
CLASS:PUBLIC
DTSTART:20190118T091500Z
DTEND:20190118T100000Z
DTSTAMP:20260419T121609Z
LOCATION:HSB  7
END:VEVENT
BEGIN:VEVENT
UID:18W_703025_3248059@uibk.ac.at
ORGANIZER;CN="LFU:online Universität Innsbruck":MAILTO:Uni-Innsbruck-noreply@uibk.ac.at
SUMMARY:PS Funktionale Programmierung (LV 703025-5 18W)
DESCRIPTION:Lehrveranstaltung 703025 18W, Gruppe 5\nTitel: PS Funktionale Programmierung\nOrt: HSB  7\n\nhttps://lfuonline.uibk.ac.at/public/lfuonline_lv.details?sem_id_in=18W&lvnr_id_in=703025\n
CLASS:PUBLIC
DTSTART:20190125T091500Z
DTEND:20190125T100000Z
DTSTAMP:20260419T121609Z
LOCATION:HSB  7
END:VEVENT
BEGIN:VEVENT
UID:18W_703025_3248060@uibk.ac.at
ORGANIZER;CN="LFU:online Universität Innsbruck":MAILTO:Uni-Innsbruck-noreply@uibk.ac.at
SUMMARY:PS Funktionale Programmierung (LV 703025-5 18W)
DESCRIPTION:Lehrveranstaltung 703025 18W, Gruppe 5\nTitel: PS Funktionale Programmierung\nOrt: HSB  7\n\nhttps://lfuonline.uibk.ac.at/public/lfuonline_lv.details?sem_id_in=18W&lvnr_id_in=703025\n
CLASS:PUBLIC
DTSTART:20190201T091500Z
DTEND:20190201T100000Z
DTSTAMP:20260419T121609Z
LOCATION:HSB  7
END:VEVENT
END:VCALENDAR