BEGIN:VCALENDAR
VERSION:2.0
PRODID:-//Universität Innsbruck//LFU:online//DE
METHOD:PUBLISH
BEGIN:VEVENT
UID:20S_703076_3510229@uibk.ac.at
ORGANIZER;CN="LFU:online Universität Innsbruck":MAILTO:Uni-Innsbruck-noreply@uibk.ac.at
SUMMARY:PS Maschinelles Lernen (LV 703076-5 20S)
DESCRIPTION:Lehrveranstaltung 703076 20S, Gruppe 5\nTitel: PS Maschinelles Lernen\nOrt: rr 22\n\nhttps://lfuonline.uibk.ac.at/public/lfuonline_lv.details?sem_id_in=20S&lvnr_id_in=703076\n
CLASS:PUBLIC
DTSTART:20200306T121500Z
DTEND:20200306T140000Z
DTSTAMP:20260419T123925Z
LOCATION:rr 22
END:VEVENT
BEGIN:VEVENT
UID:20S_703076_3510230@uibk.ac.at
ORGANIZER;CN="LFU:online Universität Innsbruck":MAILTO:Uni-Innsbruck-noreply@uibk.ac.at
SUMMARY:PS Maschinelles Lernen (LV 703076-5 20S)
DESCRIPTION:Lehrveranstaltung 703076 20S, Gruppe 5\nTitel: PS Maschinelles Lernen\nOrt: rr 22\n\nhttps://lfuonline.uibk.ac.at/public/lfuonline_lv.details?sem_id_in=20S&lvnr_id_in=703076\n
CLASS:PUBLIC
DTSTART:20200313T121500Z
DTEND:20200313T140000Z
DTSTAMP:20260419T123925Z
LOCATION:rr 22
END:VEVENT
BEGIN:VEVENT
UID:20S_703076_3510231@uibk.ac.at
ORGANIZER;CN="LFU:online Universität Innsbruck":MAILTO:Uni-Innsbruck-noreply@uibk.ac.at
SUMMARY:PS Maschinelles Lernen (LV 703076-5 20S)
DESCRIPTION:Lehrveranstaltung 703076 20S, Gruppe 5\nTitel: PS Maschinelles Lernen\nOrt: rr 22\n\nhttps://lfuonline.uibk.ac.at/public/lfuonline_lv.details?sem_id_in=20S&lvnr_id_in=703076\n
CLASS:PUBLIC
DTSTART:20200320T121500Z
DTEND:20200320T140000Z
DTSTAMP:20260419T123925Z
LOCATION:rr 22
END:VEVENT
BEGIN:VEVENT
UID:20S_703076_3510232@uibk.ac.at
ORGANIZER;CN="LFU:online Universität Innsbruck":MAILTO:Uni-Innsbruck-noreply@uibk.ac.at
SUMMARY:PS Maschinelles Lernen (LV 703076-5 20S)
DESCRIPTION:Lehrveranstaltung 703076 20S, Gruppe 5\nTitel: PS Maschinelles Lernen\nOrt: rr 22\n\nhttps://lfuonline.uibk.ac.at/public/lfuonline_lv.details?sem_id_in=20S&lvnr_id_in=703076\n
CLASS:PUBLIC
DTSTART:20200327T121500Z
DTEND:20200327T140000Z
DTSTAMP:20260419T123925Z
LOCATION:rr 22
END:VEVENT
BEGIN:VEVENT
UID:20S_703076_3510233@uibk.ac.at
ORGANIZER;CN="LFU:online Universität Innsbruck":MAILTO:Uni-Innsbruck-noreply@uibk.ac.at
SUMMARY:PS Maschinelles Lernen (LV 703076-5 20S)
DESCRIPTION:Lehrveranstaltung 703076 20S, Gruppe 5\nTitel: PS Maschinelles Lernen\nOrt: rr 22\n\nhttps://lfuonline.uibk.ac.at/public/lfuonline_lv.details?sem_id_in=20S&lvnr_id_in=703076\n
CLASS:PUBLIC
DTSTART:20200403T111500Z
DTEND:20200403T130000Z
DTSTAMP:20260419T123925Z
LOCATION:rr 22
END:VEVENT
BEGIN:VEVENT
UID:20S_703076_3510234@uibk.ac.at
ORGANIZER;CN="LFU:online Universität Innsbruck":MAILTO:Uni-Innsbruck-noreply@uibk.ac.at
SUMMARY:PS Maschinelles Lernen (LV 703076-5 20S)
DESCRIPTION:Lehrveranstaltung 703076 20S, Gruppe 5\nTitel: PS Maschinelles Lernen\nOrt: rr 22\n\nhttps://lfuonline.uibk.ac.at/public/lfuonline_lv.details?sem_id_in=20S&lvnr_id_in=703076\n
CLASS:PUBLIC
DTSTART:20200424T111500Z
DTEND:20200424T130000Z
DTSTAMP:20260419T123925Z
LOCATION:rr 22
END:VEVENT
BEGIN:VEVENT
UID:20S_703076_3510235@uibk.ac.at
ORGANIZER;CN="LFU:online Universität Innsbruck":MAILTO:Uni-Innsbruck-noreply@uibk.ac.at
SUMMARY:PS Maschinelles Lernen (LV 703076-5 20S)
DESCRIPTION:Lehrveranstaltung 703076 20S, Gruppe 5\nTitel: PS Maschinelles Lernen\nOrt: rr 22\n\nhttps://lfuonline.uibk.ac.at/public/lfuonline_lv.details?sem_id_in=20S&lvnr_id_in=703076\n
CLASS:PUBLIC
DTSTART:20200508T111500Z
DTEND:20200508T130000Z
DTSTAMP:20260419T123925Z
LOCATION:rr 22
END:VEVENT
BEGIN:VEVENT
UID:20S_703076_3510236@uibk.ac.at
ORGANIZER;CN="LFU:online Universität Innsbruck":MAILTO:Uni-Innsbruck-noreply@uibk.ac.at
SUMMARY:PS Maschinelles Lernen (LV 703076-5 20S)
DESCRIPTION:Lehrveranstaltung 703076 20S, Gruppe 5\nTitel: PS Maschinelles Lernen\nOrt: rr 22\n\nhttps://lfuonline.uibk.ac.at/public/lfuonline_lv.details?sem_id_in=20S&lvnr_id_in=703076\n
CLASS:PUBLIC
DTSTART:20200515T111500Z
DTEND:20200515T130000Z
DTSTAMP:20260419T123925Z
LOCATION:rr 22
END:VEVENT
BEGIN:VEVENT
UID:20S_703076_3510237@uibk.ac.at
ORGANIZER;CN="LFU:online Universität Innsbruck":MAILTO:Uni-Innsbruck-noreply@uibk.ac.at
SUMMARY:PS Maschinelles Lernen (LV 703076-5 20S)
DESCRIPTION:Lehrveranstaltung 703076 20S, Gruppe 5\nTitel: PS Maschinelles Lernen\nOrt: rr 22\n\nhttps://lfuonline.uibk.ac.at/public/lfuonline_lv.details?sem_id_in=20S&lvnr_id_in=703076\n
CLASS:PUBLIC
DTSTART:20200522T111500Z
DTEND:20200522T130000Z
DTSTAMP:20260419T123925Z
LOCATION:rr 22
END:VEVENT
BEGIN:VEVENT
UID:20S_703076_3510238@uibk.ac.at
ORGANIZER;CN="LFU:online Universität Innsbruck":MAILTO:Uni-Innsbruck-noreply@uibk.ac.at
SUMMARY:PS Maschinelles Lernen (LV 703076-5 20S)
DESCRIPTION:Lehrveranstaltung 703076 20S, Gruppe 5\nTitel: PS Maschinelles Lernen\nOrt: rr 22\n\nhttps://lfuonline.uibk.ac.at/public/lfuonline_lv.details?sem_id_in=20S&lvnr_id_in=703076\n
CLASS:PUBLIC
DTSTART:20200529T111500Z
DTEND:20200529T130000Z
DTSTAMP:20260419T123925Z
LOCATION:rr 22
END:VEVENT
BEGIN:VEVENT
UID:20S_703076_3510239@uibk.ac.at
ORGANIZER;CN="LFU:online Universität Innsbruck":MAILTO:Uni-Innsbruck-noreply@uibk.ac.at
SUMMARY:PS Maschinelles Lernen (LV 703076-5 20S)
DESCRIPTION:Lehrveranstaltung 703076 20S, Gruppe 5\nTitel: PS Maschinelles Lernen\nOrt: rr 22\n\nhttps://lfuonline.uibk.ac.at/public/lfuonline_lv.details?sem_id_in=20S&lvnr_id_in=703076\n
CLASS:PUBLIC
DTSTART:20200605T111500Z
DTEND:20200605T130000Z
DTSTAMP:20260419T123925Z
LOCATION:rr 22
END:VEVENT
BEGIN:VEVENT
UID:20S_703076_3510240@uibk.ac.at
ORGANIZER;CN="LFU:online Universität Innsbruck":MAILTO:Uni-Innsbruck-noreply@uibk.ac.at
SUMMARY:PS Maschinelles Lernen (LV 703076-5 20S)
DESCRIPTION:Lehrveranstaltung 703076 20S, Gruppe 5\nTitel: PS Maschinelles Lernen\nOrt: rr 22\n\nhttps://lfuonline.uibk.ac.at/public/lfuonline_lv.details?sem_id_in=20S&lvnr_id_in=703076\n
CLASS:PUBLIC
DTSTART:20200612T111500Z
DTEND:20200612T130000Z
DTSTAMP:20260419T123925Z
LOCATION:rr 22
END:VEVENT
BEGIN:VEVENT
UID:20S_703076_3510241@uibk.ac.at
ORGANIZER;CN="LFU:online Universität Innsbruck":MAILTO:Uni-Innsbruck-noreply@uibk.ac.at
SUMMARY:PS Maschinelles Lernen (LV 703076-5 20S)
DESCRIPTION:Lehrveranstaltung 703076 20S, Gruppe 5\nTitel: PS Maschinelles Lernen\nOrt: rr 22\n\nhttps://lfuonline.uibk.ac.at/public/lfuonline_lv.details?sem_id_in=20S&lvnr_id_in=703076\n
CLASS:PUBLIC
DTSTART:20200619T111500Z
DTEND:20200619T130000Z
DTSTAMP:20260419T123925Z
LOCATION:rr 22
END:VEVENT
BEGIN:VEVENT
UID:20S_703076_3510242@uibk.ac.at
ORGANIZER;CN="LFU:online Universität Innsbruck":MAILTO:Uni-Innsbruck-noreply@uibk.ac.at
SUMMARY:PS Maschinelles Lernen (LV 703076-5 20S)
DESCRIPTION:Lehrveranstaltung 703076 20S, Gruppe 5\nTitel: PS Maschinelles Lernen\nOrt: rr 22\n\nhttps://lfuonline.uibk.ac.at/public/lfuonline_lv.details?sem_id_in=20S&lvnr_id_in=703076\n
CLASS:PUBLIC
DTSTART:20200626T111500Z
DTEND:20200626T130000Z
DTSTAMP:20260419T123925Z
LOCATION:rr 22
END:VEVENT
END:VCALENDAR