BEGIN:VCALENDAR
VERSION:2.0
PRODID:-//Universität Innsbruck//LFU:online//DE
METHOD:PUBLISH
BEGIN:VEVENT
UID:10W_703002_1432449@uibk.ac.at
ORGANIZER;CN="LFU:online Universität Innsbruck":MAILTO:Uni-Innsbruck-noreply@uibk.ac.at
SUMMARY:Einführung in die Informatik (LV 703002-6 10W)
DESCRIPTION:Lehrveranstaltung 703002 10W, Gruppe 6\nTitel: Einführung in die Informatik\nOrt: SR 13\n\nhttps://lfuonline.uibk.ac.at/public/lfuonline_lv.details?sem_id_in=10W&lvnr_id_in=703002\n
CLASS:PUBLIC
DTSTART:20101011T101500Z
DTEND:20101011T120000Z
DTSTAMP:20260423T080911Z
LOCATION:SR 13
END:VEVENT
BEGIN:VEVENT
UID:10W_703002_1432450@uibk.ac.at
ORGANIZER;CN="LFU:online Universität Innsbruck":MAILTO:Uni-Innsbruck-noreply@uibk.ac.at
SUMMARY:Einführung in die Informatik (LV 703002-6 10W)
DESCRIPTION:Lehrveranstaltung 703002 10W, Gruppe 6\nTitel: Einführung in die Informatik\nOrt: SR 13\n\nhttps://lfuonline.uibk.ac.at/public/lfuonline_lv.details?sem_id_in=10W&lvnr_id_in=703002\n
CLASS:PUBLIC
DTSTART:20101018T101500Z
DTEND:20101018T120000Z
DTSTAMP:20260423T080911Z
LOCATION:SR 13
END:VEVENT
BEGIN:VEVENT
UID:10W_703002_1432451@uibk.ac.at
ORGANIZER;CN="LFU:online Universität Innsbruck":MAILTO:Uni-Innsbruck-noreply@uibk.ac.at
SUMMARY:Einführung in die Informatik (LV 703002-6 10W)
DESCRIPTION:Lehrveranstaltung 703002 10W, Gruppe 6\nTitel: Einführung in die Informatik\nOrt: SR 13\n\nhttps://lfuonline.uibk.ac.at/public/lfuonline_lv.details?sem_id_in=10W&lvnr_id_in=703002\n
CLASS:PUBLIC
DTSTART:20101025T101500Z
DTEND:20101025T120000Z
DTSTAMP:20260423T080911Z
LOCATION:SR 13
END:VEVENT
BEGIN:VEVENT
UID:10W_703002_1432452@uibk.ac.at
ORGANIZER;CN="LFU:online Universität Innsbruck":MAILTO:Uni-Innsbruck-noreply@uibk.ac.at
SUMMARY:Einführung in die Informatik (LV 703002-6 10W)
DESCRIPTION:Lehrveranstaltung 703002 10W, Gruppe 6\nTitel: Einführung in die Informatik\nOrt: SR 13\n\nhttps://lfuonline.uibk.ac.at/public/lfuonline_lv.details?sem_id_in=10W&lvnr_id_in=703002\n
CLASS:PUBLIC
DTSTART:20101108T111500Z
DTEND:20101108T130000Z
DTSTAMP:20260423T080911Z
LOCATION:SR 13
END:VEVENT
BEGIN:VEVENT
UID:10W_703002_1432453@uibk.ac.at
ORGANIZER;CN="LFU:online Universität Innsbruck":MAILTO:Uni-Innsbruck-noreply@uibk.ac.at
SUMMARY:Einführung in die Informatik (LV 703002-6 10W)
DESCRIPTION:Lehrveranstaltung 703002 10W, Gruppe 6\nTitel: Einführung in die Informatik\nOrt: SR 13\n\nhttps://lfuonline.uibk.ac.at/public/lfuonline_lv.details?sem_id_in=10W&lvnr_id_in=703002\n
CLASS:PUBLIC
DTSTART:20101115T111500Z
DTEND:20101115T130000Z
DTSTAMP:20260423T080911Z
LOCATION:SR 13
END:VEVENT
BEGIN:VEVENT
UID:10W_703002_1432454@uibk.ac.at
ORGANIZER;CN="LFU:online Universität Innsbruck":MAILTO:Uni-Innsbruck-noreply@uibk.ac.at
SUMMARY:Einführung in die Informatik (LV 703002-6 10W)
DESCRIPTION:Lehrveranstaltung 703002 10W, Gruppe 6\nTitel: Einführung in die Informatik\nOrt: SR 13\n\nhttps://lfuonline.uibk.ac.at/public/lfuonline_lv.details?sem_id_in=10W&lvnr_id_in=703002\n
CLASS:PUBLIC
DTSTART:20101122T111500Z
DTEND:20101122T130000Z
DTSTAMP:20260423T080911Z
LOCATION:SR 13
END:VEVENT
BEGIN:VEVENT
UID:10W_703002_1432455@uibk.ac.at
ORGANIZER;CN="LFU:online Universität Innsbruck":MAILTO:Uni-Innsbruck-noreply@uibk.ac.at
SUMMARY:Einführung in die Informatik (LV 703002-6 10W)
DESCRIPTION:Lehrveranstaltung 703002 10W, Gruppe 6\nTitel: Einführung in die Informatik\nOrt: SR 13\n\nhttps://lfuonline.uibk.ac.at/public/lfuonline_lv.details?sem_id_in=10W&lvnr_id_in=703002\n
CLASS:PUBLIC
DTSTART:20101129T111500Z
DTEND:20101129T130000Z
DTSTAMP:20260423T080911Z
LOCATION:SR 13
END:VEVENT
BEGIN:VEVENT
UID:10W_703002_1432456@uibk.ac.at
ORGANIZER;CN="LFU:online Universität Innsbruck":MAILTO:Uni-Innsbruck-noreply@uibk.ac.at
SUMMARY:Einführung in die Informatik (LV 703002-6 10W)
DESCRIPTION:Lehrveranstaltung 703002 10W, Gruppe 6\nTitel: Einführung in die Informatik\nOrt: SR 13\n\nhttps://lfuonline.uibk.ac.at/public/lfuonline_lv.details?sem_id_in=10W&lvnr_id_in=703002\n
CLASS:PUBLIC
DTSTART:20101206T111500Z
DTEND:20101206T130000Z
DTSTAMP:20260423T080911Z
LOCATION:SR 13
END:VEVENT
BEGIN:VEVENT
UID:10W_703002_1432457@uibk.ac.at
ORGANIZER;CN="LFU:online Universität Innsbruck":MAILTO:Uni-Innsbruck-noreply@uibk.ac.at
SUMMARY:Einführung in die Informatik (LV 703002-6 10W)
DESCRIPTION:Lehrveranstaltung 703002 10W, Gruppe 6\nTitel: Einführung in die Informatik\nOrt: SR 13\n\nhttps://lfuonline.uibk.ac.at/public/lfuonline_lv.details?sem_id_in=10W&lvnr_id_in=703002\n
CLASS:PUBLIC
DTSTART:20101213T111500Z
DTEND:20101213T130000Z
DTSTAMP:20260423T080911Z
LOCATION:SR 13
END:VEVENT
BEGIN:VEVENT
UID:10W_703002_1432458@uibk.ac.at
ORGANIZER;CN="LFU:online Universität Innsbruck":MAILTO:Uni-Innsbruck-noreply@uibk.ac.at
SUMMARY:Einführung in die Informatik (LV 703002-6 10W)
DESCRIPTION:Lehrveranstaltung 703002 10W, Gruppe 6\nTitel: Einführung in die Informatik\nOrt: SR 13\n\nhttps://lfuonline.uibk.ac.at/public/lfuonline_lv.details?sem_id_in=10W&lvnr_id_in=703002\n
CLASS:PUBLIC
DTSTART:20110110T111500Z
DTEND:20110110T130000Z
DTSTAMP:20260423T080911Z
LOCATION:SR 13
END:VEVENT
BEGIN:VEVENT
UID:10W_703002_1432459@uibk.ac.at
ORGANIZER;CN="LFU:online Universität Innsbruck":MAILTO:Uni-Innsbruck-noreply@uibk.ac.at
SUMMARY:Einführung in die Informatik (LV 703002-6 10W)
DESCRIPTION:Lehrveranstaltung 703002 10W, Gruppe 6\nTitel: Einführung in die Informatik\nOrt: SR 13\n\nhttps://lfuonline.uibk.ac.at/public/lfuonline_lv.details?sem_id_in=10W&lvnr_id_in=703002\n
CLASS:PUBLIC
DTSTART:20110117T111500Z
DTEND:20110117T130000Z
DTSTAMP:20260423T080911Z
LOCATION:SR 13
END:VEVENT
BEGIN:VEVENT
UID:10W_703002_1432460@uibk.ac.at
ORGANIZER;CN="LFU:online Universität Innsbruck":MAILTO:Uni-Innsbruck-noreply@uibk.ac.at
SUMMARY:Einführung in die Informatik (LV 703002-6 10W)
DESCRIPTION:Lehrveranstaltung 703002 10W, Gruppe 6\nTitel: Einführung in die Informatik\nOrt: SR 13\n\nhttps://lfuonline.uibk.ac.at/public/lfuonline_lv.details?sem_id_in=10W&lvnr_id_in=703002\n
CLASS:PUBLIC
DTSTART:20110124T111500Z
DTEND:20110124T130000Z
DTSTAMP:20260423T080911Z
LOCATION:SR 13
END:VEVENT
BEGIN:VEVENT
UID:10W_703002_1432461@uibk.ac.at
ORGANIZER;CN="LFU:online Universität Innsbruck":MAILTO:Uni-Innsbruck-noreply@uibk.ac.at
SUMMARY:Einführung in die Informatik (LV 703002-6 10W)
DESCRIPTION:Lehrveranstaltung 703002 10W, Gruppe 6\nTitel: Einführung in die Informatik\nOrt: SR 13\n\nhttps://lfuonline.uibk.ac.at/public/lfuonline_lv.details?sem_id_in=10W&lvnr_id_in=703002\n
CLASS:PUBLIC
DTSTART:20110131T111500Z
DTEND:20110131T130000Z
DTSTAMP:20260423T080911Z
LOCATION:SR 13
END:VEVENT
END:VCALENDAR