BEGIN:VCALENDAR
VERSION:2.0
PRODID:-//Universität Innsbruck//LFU:online//DE
METHOD:PUBLISH
BEGIN:VEVENT
UID:20S_703076_3510244@uibk.ac.at
ORGANIZER;CN="LFU:online Universität Innsbruck":MAILTO:Uni-Innsbruck-noreply@uibk.ac.at
SUMMARY:PS Maschinelles Lernen (LV 703076-6 20S)
DESCRIPTION:Lehrveranstaltung 703076 20S, Gruppe 6\nTitel: PS Maschinelles Lernen\nOrt: rr 22\n\nhttps://lfuonline.uibk.ac.at/public/lfuonline_lv.details?sem_id_in=20S&lvnr_id_in=703076\n
CLASS:PUBLIC
DTSTART:20200306T091500Z
DTEND:20200306T110000Z
DTSTAMP:20260419T123858Z
LOCATION:rr 22
END:VEVENT
BEGIN:VEVENT
UID:20S_703076_3510245@uibk.ac.at
ORGANIZER;CN="LFU:online Universität Innsbruck":MAILTO:Uni-Innsbruck-noreply@uibk.ac.at
SUMMARY:PS Maschinelles Lernen (LV 703076-6 20S)
DESCRIPTION:Lehrveranstaltung 703076 20S, Gruppe 6\nTitel: PS Maschinelles Lernen\nOrt: rr 21\n\nhttps://lfuonline.uibk.ac.at/public/lfuonline_lv.details?sem_id_in=20S&lvnr_id_in=703076\n
CLASS:PUBLIC
DTSTART:20200313T091500Z
DTEND:20200313T110000Z
DTSTAMP:20260419T123858Z
LOCATION:rr 21
END:VEVENT
BEGIN:VEVENT
UID:20S_703076_3510246@uibk.ac.at
ORGANIZER;CN="LFU:online Universität Innsbruck":MAILTO:Uni-Innsbruck-noreply@uibk.ac.at
SUMMARY:PS Maschinelles Lernen (LV 703076-6 20S)
DESCRIPTION:Lehrveranstaltung 703076 20S, Gruppe 6\nTitel: PS Maschinelles Lernen\nOrt: rr 21\n\nhttps://lfuonline.uibk.ac.at/public/lfuonline_lv.details?sem_id_in=20S&lvnr_id_in=703076\n
CLASS:PUBLIC
DTSTART:20200320T091500Z
DTEND:20200320T110000Z
DTSTAMP:20260419T123858Z
LOCATION:rr 21
END:VEVENT
BEGIN:VEVENT
UID:20S_703076_3510247@uibk.ac.at
ORGANIZER;CN="LFU:online Universität Innsbruck":MAILTO:Uni-Innsbruck-noreply@uibk.ac.at
SUMMARY:PS Maschinelles Lernen (LV 703076-6 20S)
DESCRIPTION:Lehrveranstaltung 703076 20S, Gruppe 6\nTitel: PS Maschinelles Lernen\nOrt: rr 21\n\nhttps://lfuonline.uibk.ac.at/public/lfuonline_lv.details?sem_id_in=20S&lvnr_id_in=703076\n
CLASS:PUBLIC
DTSTART:20200327T091500Z
DTEND:20200327T110000Z
DTSTAMP:20260419T123858Z
LOCATION:rr 21
END:VEVENT
BEGIN:VEVENT
UID:20S_703076_3510248@uibk.ac.at
ORGANIZER;CN="LFU:online Universität Innsbruck":MAILTO:Uni-Innsbruck-noreply@uibk.ac.at
SUMMARY:PS Maschinelles Lernen (LV 703076-6 20S)
DESCRIPTION:Lehrveranstaltung 703076 20S, Gruppe 6\nTitel: PS Maschinelles Lernen\nOrt: rr 21\n\nhttps://lfuonline.uibk.ac.at/public/lfuonline_lv.details?sem_id_in=20S&lvnr_id_in=703076\n
CLASS:PUBLIC
DTSTART:20200403T081500Z
DTEND:20200403T100000Z
DTSTAMP:20260419T123858Z
LOCATION:rr 21
END:VEVENT
BEGIN:VEVENT
UID:20S_703076_3510249@uibk.ac.at
ORGANIZER;CN="LFU:online Universität Innsbruck":MAILTO:Uni-Innsbruck-noreply@uibk.ac.at
SUMMARY:PS Maschinelles Lernen (LV 703076-6 20S)
DESCRIPTION:Lehrveranstaltung 703076 20S, Gruppe 6\nTitel: PS Maschinelles Lernen\nOrt: rr 21\n\nhttps://lfuonline.uibk.ac.at/public/lfuonline_lv.details?sem_id_in=20S&lvnr_id_in=703076\n
CLASS:PUBLIC
DTSTART:20200424T081500Z
DTEND:20200424T100000Z
DTSTAMP:20260419T123858Z
LOCATION:rr 21
END:VEVENT
BEGIN:VEVENT
UID:20S_703076_3510250@uibk.ac.at
ORGANIZER;CN="LFU:online Universität Innsbruck":MAILTO:Uni-Innsbruck-noreply@uibk.ac.at
SUMMARY:PS Maschinelles Lernen (LV 703076-6 20S)
DESCRIPTION:Lehrveranstaltung 703076 20S, Gruppe 6\nTitel: PS Maschinelles Lernen\nOrt: rr 21\n\nhttps://lfuonline.uibk.ac.at/public/lfuonline_lv.details?sem_id_in=20S&lvnr_id_in=703076\n
CLASS:PUBLIC
DTSTART:20200508T081500Z
DTEND:20200508T100000Z
DTSTAMP:20260419T123858Z
LOCATION:rr 21
END:VEVENT
BEGIN:VEVENT
UID:20S_703076_3510251@uibk.ac.at
ORGANIZER;CN="LFU:online Universität Innsbruck":MAILTO:Uni-Innsbruck-noreply@uibk.ac.at
SUMMARY:PS Maschinelles Lernen (LV 703076-6 20S)
DESCRIPTION:Lehrveranstaltung 703076 20S, Gruppe 6\nTitel: PS Maschinelles Lernen\nOrt: rr 21\n\nhttps://lfuonline.uibk.ac.at/public/lfuonline_lv.details?sem_id_in=20S&lvnr_id_in=703076\n
CLASS:PUBLIC
DTSTART:20200515T081500Z
DTEND:20200515T100000Z
DTSTAMP:20260419T123858Z
LOCATION:rr 21
END:VEVENT
BEGIN:VEVENT
UID:20S_703076_3510252@uibk.ac.at
ORGANIZER;CN="LFU:online Universität Innsbruck":MAILTO:Uni-Innsbruck-noreply@uibk.ac.at
SUMMARY:PS Maschinelles Lernen (LV 703076-6 20S)
DESCRIPTION:Lehrveranstaltung 703076 20S, Gruppe 6\nTitel: PS Maschinelles Lernen\nOrt: rr 21\n\nhttps://lfuonline.uibk.ac.at/public/lfuonline_lv.details?sem_id_in=20S&lvnr_id_in=703076\n
CLASS:PUBLIC
DTSTART:20200522T081500Z
DTEND:20200522T100000Z
DTSTAMP:20260419T123858Z
LOCATION:rr 21
END:VEVENT
BEGIN:VEVENT
UID:20S_703076_3510253@uibk.ac.at
ORGANIZER;CN="LFU:online Universität Innsbruck":MAILTO:Uni-Innsbruck-noreply@uibk.ac.at
SUMMARY:PS Maschinelles Lernen (LV 703076-6 20S)
DESCRIPTION:Lehrveranstaltung 703076 20S, Gruppe 6\nTitel: PS Maschinelles Lernen\nOrt: rr 21\n\nhttps://lfuonline.uibk.ac.at/public/lfuonline_lv.details?sem_id_in=20S&lvnr_id_in=703076\n
CLASS:PUBLIC
DTSTART:20200529T081500Z
DTEND:20200529T100000Z
DTSTAMP:20260419T123858Z
LOCATION:rr 21
END:VEVENT
BEGIN:VEVENT
UID:20S_703076_3510254@uibk.ac.at
ORGANIZER;CN="LFU:online Universität Innsbruck":MAILTO:Uni-Innsbruck-noreply@uibk.ac.at
SUMMARY:PS Maschinelles Lernen (LV 703076-6 20S)
DESCRIPTION:Lehrveranstaltung 703076 20S, Gruppe 6\nTitel: PS Maschinelles Lernen\nOrt: rr 21\n\nhttps://lfuonline.uibk.ac.at/public/lfuonline_lv.details?sem_id_in=20S&lvnr_id_in=703076\n
CLASS:PUBLIC
DTSTART:20200605T081500Z
DTEND:20200605T100000Z
DTSTAMP:20260419T123858Z
LOCATION:rr 21
END:VEVENT
BEGIN:VEVENT
UID:20S_703076_3510255@uibk.ac.at
ORGANIZER;CN="LFU:online Universität Innsbruck":MAILTO:Uni-Innsbruck-noreply@uibk.ac.at
SUMMARY:PS Maschinelles Lernen (LV 703076-6 20S)
DESCRIPTION:Lehrveranstaltung 703076 20S, Gruppe 6\nTitel: PS Maschinelles Lernen\nOrt: rr 21\n\nhttps://lfuonline.uibk.ac.at/public/lfuonline_lv.details?sem_id_in=20S&lvnr_id_in=703076\n
CLASS:PUBLIC
DTSTART:20200612T081500Z
DTEND:20200612T100000Z
DTSTAMP:20260419T123858Z
LOCATION:rr 21
END:VEVENT
BEGIN:VEVENT
UID:20S_703076_3510256@uibk.ac.at
ORGANIZER;CN="LFU:online Universität Innsbruck":MAILTO:Uni-Innsbruck-noreply@uibk.ac.at
SUMMARY:PS Maschinelles Lernen (LV 703076-6 20S)
DESCRIPTION:Lehrveranstaltung 703076 20S, Gruppe 6\nTitel: PS Maschinelles Lernen\nOrt: rr 21\n\nhttps://lfuonline.uibk.ac.at/public/lfuonline_lv.details?sem_id_in=20S&lvnr_id_in=703076\n
CLASS:PUBLIC
DTSTART:20200619T081500Z
DTEND:20200619T100000Z
DTSTAMP:20260419T123858Z
LOCATION:rr 21
END:VEVENT
BEGIN:VEVENT
UID:20S_703076_3510257@uibk.ac.at
ORGANIZER;CN="LFU:online Universität Innsbruck":MAILTO:Uni-Innsbruck-noreply@uibk.ac.at
SUMMARY:PS Maschinelles Lernen (LV 703076-6 20S)
DESCRIPTION:Lehrveranstaltung 703076 20S, Gruppe 6\nTitel: PS Maschinelles Lernen\nOrt: rr 21\n\nhttps://lfuonline.uibk.ac.at/public/lfuonline_lv.details?sem_id_in=20S&lvnr_id_in=703076\n
CLASS:PUBLIC
DTSTART:20200626T081500Z
DTEND:20200626T100000Z
DTSTAMP:20260419T123858Z
LOCATION:rr 21
END:VEVENT
END:VCALENDAR