BEGIN:VCALENDAR
VERSION:2.0
PRODID:-//Universität Innsbruck//LFU:online//DE
METHOD:PUBLISH
BEGIN:VEVENT
UID:10W_703002_1432462@uibk.ac.at
ORGANIZER;CN="LFU:online Universität Innsbruck":MAILTO:Uni-Innsbruck-noreply@uibk.ac.at
SUMMARY:Einführung in die Informatik (LV 703002-7 10W)
DESCRIPTION:Lehrveranstaltung 703002 10W, Gruppe 7\nTitel: Einführung in die Informatik\nOrt: SR 12\n\nhttps://lfuonline.uibk.ac.at/public/lfuonline_lv.details?sem_id_in=10W&lvnr_id_in=703002\n
CLASS:PUBLIC
DTSTART:20101011T121500Z
DTEND:20101011T140000Z
DTSTAMP:20260423T080753Z
LOCATION:SR 12
END:VEVENT
BEGIN:VEVENT
UID:10W_703002_1432463@uibk.ac.at
ORGANIZER;CN="LFU:online Universität Innsbruck":MAILTO:Uni-Innsbruck-noreply@uibk.ac.at
SUMMARY:Einführung in die Informatik (LV 703002-7 10W)
DESCRIPTION:Lehrveranstaltung 703002 10W, Gruppe 7\nTitel: Einführung in die Informatik\nOrt: SR 12\n\nhttps://lfuonline.uibk.ac.at/public/lfuonline_lv.details?sem_id_in=10W&lvnr_id_in=703002\n
CLASS:PUBLIC
DTSTART:20101018T121500Z
DTEND:20101018T140000Z
DTSTAMP:20260423T080753Z
LOCATION:SR 12
END:VEVENT
BEGIN:VEVENT
UID:10W_703002_1432464@uibk.ac.at
ORGANIZER;CN="LFU:online Universität Innsbruck":MAILTO:Uni-Innsbruck-noreply@uibk.ac.at
SUMMARY:Einführung in die Informatik (LV 703002-7 10W)
DESCRIPTION:Lehrveranstaltung 703002 10W, Gruppe 7\nTitel: Einführung in die Informatik\nOrt: SR 12\n\nhttps://lfuonline.uibk.ac.at/public/lfuonline_lv.details?sem_id_in=10W&lvnr_id_in=703002\n
CLASS:PUBLIC
DTSTART:20101025T121500Z
DTEND:20101025T140000Z
DTSTAMP:20260423T080753Z
LOCATION:SR 12
END:VEVENT
BEGIN:VEVENT
UID:10W_703002_1432465@uibk.ac.at
ORGANIZER;CN="LFU:online Universität Innsbruck":MAILTO:Uni-Innsbruck-noreply@uibk.ac.at
SUMMARY:Einführung in die Informatik (LV 703002-7 10W)
DESCRIPTION:Lehrveranstaltung 703002 10W, Gruppe 7\nTitel: Einführung in die Informatik\nOrt: SR 12\n\nhttps://lfuonline.uibk.ac.at/public/lfuonline_lv.details?sem_id_in=10W&lvnr_id_in=703002\n
CLASS:PUBLIC
DTSTART:20101108T131500Z
DTEND:20101108T150000Z
DTSTAMP:20260423T080753Z
LOCATION:SR 12
END:VEVENT
BEGIN:VEVENT
UID:10W_703002_1432466@uibk.ac.at
ORGANIZER;CN="LFU:online Universität Innsbruck":MAILTO:Uni-Innsbruck-noreply@uibk.ac.at
SUMMARY:Einführung in die Informatik (LV 703002-7 10W)
DESCRIPTION:Lehrveranstaltung 703002 10W, Gruppe 7\nTitel: Einführung in die Informatik\nOrt: SR 12\n\nhttps://lfuonline.uibk.ac.at/public/lfuonline_lv.details?sem_id_in=10W&lvnr_id_in=703002\n
CLASS:PUBLIC
DTSTART:20101115T131500Z
DTEND:20101115T150000Z
DTSTAMP:20260423T080753Z
LOCATION:SR 12
END:VEVENT
BEGIN:VEVENT
UID:10W_703002_1432467@uibk.ac.at
ORGANIZER;CN="LFU:online Universität Innsbruck":MAILTO:Uni-Innsbruck-noreply@uibk.ac.at
SUMMARY:Einführung in die Informatik (LV 703002-7 10W)
DESCRIPTION:Lehrveranstaltung 703002 10W, Gruppe 7\nTitel: Einführung in die Informatik\nOrt: SR 12\n\nhttps://lfuonline.uibk.ac.at/public/lfuonline_lv.details?sem_id_in=10W&lvnr_id_in=703002\n
CLASS:PUBLIC
DTSTART:20101122T131500Z
DTEND:20101122T150000Z
DTSTAMP:20260423T080753Z
LOCATION:SR 12
END:VEVENT
BEGIN:VEVENT
UID:10W_703002_1432468@uibk.ac.at
ORGANIZER;CN="LFU:online Universität Innsbruck":MAILTO:Uni-Innsbruck-noreply@uibk.ac.at
SUMMARY:Einführung in die Informatik (LV 703002-7 10W)
DESCRIPTION:Lehrveranstaltung 703002 10W, Gruppe 7\nTitel: Einführung in die Informatik\nOrt: SR 12\n\nhttps://lfuonline.uibk.ac.at/public/lfuonline_lv.details?sem_id_in=10W&lvnr_id_in=703002\n
CLASS:PUBLIC
DTSTART:20101129T131500Z
DTEND:20101129T150000Z
DTSTAMP:20260423T080753Z
LOCATION:SR 12
END:VEVENT
BEGIN:VEVENT
UID:10W_703002_1432469@uibk.ac.at
ORGANIZER;CN="LFU:online Universität Innsbruck":MAILTO:Uni-Innsbruck-noreply@uibk.ac.at
SUMMARY:Einführung in die Informatik (LV 703002-7 10W)
DESCRIPTION:Lehrveranstaltung 703002 10W, Gruppe 7\nTitel: Einführung in die Informatik\nOrt: SR 12\n\nhttps://lfuonline.uibk.ac.at/public/lfuonline_lv.details?sem_id_in=10W&lvnr_id_in=703002\n
CLASS:PUBLIC
DTSTART:20101206T131500Z
DTEND:20101206T150000Z
DTSTAMP:20260423T080753Z
LOCATION:SR 12
END:VEVENT
BEGIN:VEVENT
UID:10W_703002_1432470@uibk.ac.at
ORGANIZER;CN="LFU:online Universität Innsbruck":MAILTO:Uni-Innsbruck-noreply@uibk.ac.at
SUMMARY:Einführung in die Informatik (LV 703002-7 10W)
DESCRIPTION:Lehrveranstaltung 703002 10W, Gruppe 7\nTitel: Einführung in die Informatik\nOrt: SR 12\n\nhttps://lfuonline.uibk.ac.at/public/lfuonline_lv.details?sem_id_in=10W&lvnr_id_in=703002\n
CLASS:PUBLIC
DTSTART:20101213T131500Z
DTEND:20101213T150000Z
DTSTAMP:20260423T080753Z
LOCATION:SR 12
END:VEVENT
BEGIN:VEVENT
UID:10W_703002_1432471@uibk.ac.at
ORGANIZER;CN="LFU:online Universität Innsbruck":MAILTO:Uni-Innsbruck-noreply@uibk.ac.at
SUMMARY:Einführung in die Informatik (LV 703002-7 10W)
DESCRIPTION:Lehrveranstaltung 703002 10W, Gruppe 7\nTitel: Einführung in die Informatik\nOrt: SR 12\n\nhttps://lfuonline.uibk.ac.at/public/lfuonline_lv.details?sem_id_in=10W&lvnr_id_in=703002\n
CLASS:PUBLIC
DTSTART:20110110T131500Z
DTEND:20110110T150000Z
DTSTAMP:20260423T080753Z
LOCATION:SR 12
END:VEVENT
BEGIN:VEVENT
UID:10W_703002_1432472@uibk.ac.at
ORGANIZER;CN="LFU:online Universität Innsbruck":MAILTO:Uni-Innsbruck-noreply@uibk.ac.at
SUMMARY:Einführung in die Informatik (LV 703002-7 10W)
DESCRIPTION:Lehrveranstaltung 703002 10W, Gruppe 7\nTitel: Einführung in die Informatik\nOrt: SR 12\n\nhttps://lfuonline.uibk.ac.at/public/lfuonline_lv.details?sem_id_in=10W&lvnr_id_in=703002\n
CLASS:PUBLIC
DTSTART:20110117T131500Z
DTEND:20110117T150000Z
DTSTAMP:20260423T080753Z
LOCATION:SR 12
END:VEVENT
BEGIN:VEVENT
UID:10W_703002_1432473@uibk.ac.at
ORGANIZER;CN="LFU:online Universität Innsbruck":MAILTO:Uni-Innsbruck-noreply@uibk.ac.at
SUMMARY:Einführung in die Informatik (LV 703002-7 10W)
DESCRIPTION:Lehrveranstaltung 703002 10W, Gruppe 7\nTitel: Einführung in die Informatik\nOrt: SR 12\n\nhttps://lfuonline.uibk.ac.at/public/lfuonline_lv.details?sem_id_in=10W&lvnr_id_in=703002\n
CLASS:PUBLIC
DTSTART:20110124T131500Z
DTEND:20110124T150000Z
DTSTAMP:20260423T080753Z
LOCATION:SR 12
END:VEVENT
BEGIN:VEVENT
UID:10W_703002_1432474@uibk.ac.at
ORGANIZER;CN="LFU:online Universität Innsbruck":MAILTO:Uni-Innsbruck-noreply@uibk.ac.at
SUMMARY:Einführung in die Informatik (LV 703002-7 10W)
DESCRIPTION:Lehrveranstaltung 703002 10W, Gruppe 7\nTitel: Einführung in die Informatik\nOrt: SR 12\n\nhttps://lfuonline.uibk.ac.at/public/lfuonline_lv.details?sem_id_in=10W&lvnr_id_in=703002\n
CLASS:PUBLIC
DTSTART:20110131T131500Z
DTEND:20110131T150000Z
DTSTAMP:20260423T080753Z
LOCATION:SR 12
END:VEVENT
END:VCALENDAR