BEGIN:VCALENDAR
VERSION:2.0
PRODID:-//Universität Innsbruck//LFU:online//DE
METHOD:PUBLISH
BEGIN:VEVENT
UID:10W_703002_1432477@uibk.ac.at
ORGANIZER;CN="LFU:online Universität Innsbruck":MAILTO:Uni-Innsbruck-noreply@uibk.ac.at
SUMMARY:Einführung in die Informatik (LV 703002-8 10W)
DESCRIPTION:Lehrveranstaltung 703002 10W, Gruppe 8\nTitel: Einführung in die Informatik\nOrt: SR 13\n\nhttps://lfuonline.uibk.ac.at/public/lfuonline_lv.details?sem_id_in=10W&lvnr_id_in=703002\n
CLASS:PUBLIC
DTSTART:20101011T121500Z
DTEND:20101011T140000Z
DTSTAMP:20260423T080912Z
LOCATION:SR 13
END:VEVENT
BEGIN:VEVENT
UID:10W_703002_1432478@uibk.ac.at
ORGANIZER;CN="LFU:online Universität Innsbruck":MAILTO:Uni-Innsbruck-noreply@uibk.ac.at
SUMMARY:Einführung in die Informatik (LV 703002-8 10W)
DESCRIPTION:Lehrveranstaltung 703002 10W, Gruppe 8\nTitel: Einführung in die Informatik\nOrt: SR 13\n\nhttps://lfuonline.uibk.ac.at/public/lfuonline_lv.details?sem_id_in=10W&lvnr_id_in=703002\n
CLASS:PUBLIC
DTSTART:20101018T121500Z
DTEND:20101018T140000Z
DTSTAMP:20260423T080912Z
LOCATION:SR 13
END:VEVENT
BEGIN:VEVENT
UID:10W_703002_1432479@uibk.ac.at
ORGANIZER;CN="LFU:online Universität Innsbruck":MAILTO:Uni-Innsbruck-noreply@uibk.ac.at
SUMMARY:Einführung in die Informatik (LV 703002-8 10W)
DESCRIPTION:Lehrveranstaltung 703002 10W, Gruppe 8\nTitel: Einführung in die Informatik\nOrt: SR 13\n\nhttps://lfuonline.uibk.ac.at/public/lfuonline_lv.details?sem_id_in=10W&lvnr_id_in=703002\n
CLASS:PUBLIC
DTSTART:20101025T121500Z
DTEND:20101025T140000Z
DTSTAMP:20260423T080912Z
LOCATION:SR 13
END:VEVENT
BEGIN:VEVENT
UID:10W_703002_1432480@uibk.ac.at
ORGANIZER;CN="LFU:online Universität Innsbruck":MAILTO:Uni-Innsbruck-noreply@uibk.ac.at
SUMMARY:Einführung in die Informatik (LV 703002-8 10W)
DESCRIPTION:Lehrveranstaltung 703002 10W, Gruppe 8\nTitel: Einführung in die Informatik\nOrt: SR 13\n\nhttps://lfuonline.uibk.ac.at/public/lfuonline_lv.details?sem_id_in=10W&lvnr_id_in=703002\n
CLASS:PUBLIC
DTSTART:20101108T131500Z
DTEND:20101108T150000Z
DTSTAMP:20260423T080912Z
LOCATION:SR 13
END:VEVENT
BEGIN:VEVENT
UID:10W_703002_1432481@uibk.ac.at
ORGANIZER;CN="LFU:online Universität Innsbruck":MAILTO:Uni-Innsbruck-noreply@uibk.ac.at
SUMMARY:Einführung in die Informatik (LV 703002-8 10W)
DESCRIPTION:Lehrveranstaltung 703002 10W, Gruppe 8\nTitel: Einführung in die Informatik\nOrt: SR 13\n\nhttps://lfuonline.uibk.ac.at/public/lfuonline_lv.details?sem_id_in=10W&lvnr_id_in=703002\n
CLASS:PUBLIC
DTSTART:20101115T131500Z
DTEND:20101115T150000Z
DTSTAMP:20260423T080912Z
LOCATION:SR 13
END:VEVENT
BEGIN:VEVENT
UID:10W_703002_1432482@uibk.ac.at
ORGANIZER;CN="LFU:online Universität Innsbruck":MAILTO:Uni-Innsbruck-noreply@uibk.ac.at
SUMMARY:Einführung in die Informatik (LV 703002-8 10W)
DESCRIPTION:Lehrveranstaltung 703002 10W, Gruppe 8\nTitel: Einführung in die Informatik\nOrt: SR 13\n\nhttps://lfuonline.uibk.ac.at/public/lfuonline_lv.details?sem_id_in=10W&lvnr_id_in=703002\n
CLASS:PUBLIC
DTSTART:20101122T131500Z
DTEND:20101122T150000Z
DTSTAMP:20260423T080912Z
LOCATION:SR 13
END:VEVENT
BEGIN:VEVENT
UID:10W_703002_1432483@uibk.ac.at
ORGANIZER;CN="LFU:online Universität Innsbruck":MAILTO:Uni-Innsbruck-noreply@uibk.ac.at
SUMMARY:Einführung in die Informatik (LV 703002-8 10W)
DESCRIPTION:Lehrveranstaltung 703002 10W, Gruppe 8\nTitel: Einführung in die Informatik\nOrt: SR 13\n\nhttps://lfuonline.uibk.ac.at/public/lfuonline_lv.details?sem_id_in=10W&lvnr_id_in=703002\n
CLASS:PUBLIC
DTSTART:20101129T131500Z
DTEND:20101129T150000Z
DTSTAMP:20260423T080912Z
LOCATION:SR 13
END:VEVENT
BEGIN:VEVENT
UID:10W_703002_1432484@uibk.ac.at
ORGANIZER;CN="LFU:online Universität Innsbruck":MAILTO:Uni-Innsbruck-noreply@uibk.ac.at
SUMMARY:Einführung in die Informatik (LV 703002-8 10W)
DESCRIPTION:Lehrveranstaltung 703002 10W, Gruppe 8\nTitel: Einführung in die Informatik\nOrt: SR 13\n\nhttps://lfuonline.uibk.ac.at/public/lfuonline_lv.details?sem_id_in=10W&lvnr_id_in=703002\n
CLASS:PUBLIC
DTSTART:20101206T131500Z
DTEND:20101206T150000Z
DTSTAMP:20260423T080912Z
LOCATION:SR 13
END:VEVENT
BEGIN:VEVENT
UID:10W_703002_1432485@uibk.ac.at
ORGANIZER;CN="LFU:online Universität Innsbruck":MAILTO:Uni-Innsbruck-noreply@uibk.ac.at
SUMMARY:Einführung in die Informatik (LV 703002-8 10W)
DESCRIPTION:Lehrveranstaltung 703002 10W, Gruppe 8\nTitel: Einführung in die Informatik\nOrt: SR 13\n\nhttps://lfuonline.uibk.ac.at/public/lfuonline_lv.details?sem_id_in=10W&lvnr_id_in=703002\n
CLASS:PUBLIC
DTSTART:20101213T131500Z
DTEND:20101213T150000Z
DTSTAMP:20260423T080912Z
LOCATION:SR 13
END:VEVENT
BEGIN:VEVENT
UID:10W_703002_1432486@uibk.ac.at
ORGANIZER;CN="LFU:online Universität Innsbruck":MAILTO:Uni-Innsbruck-noreply@uibk.ac.at
SUMMARY:Einführung in die Informatik (LV 703002-8 10W)
DESCRIPTION:Lehrveranstaltung 703002 10W, Gruppe 8\nTitel: Einführung in die Informatik\nOrt: SR 13\n\nhttps://lfuonline.uibk.ac.at/public/lfuonline_lv.details?sem_id_in=10W&lvnr_id_in=703002\n
CLASS:PUBLIC
DTSTART:20110110T131500Z
DTEND:20110110T150000Z
DTSTAMP:20260423T080912Z
LOCATION:SR 13
END:VEVENT
BEGIN:VEVENT
UID:10W_703002_1432487@uibk.ac.at
ORGANIZER;CN="LFU:online Universität Innsbruck":MAILTO:Uni-Innsbruck-noreply@uibk.ac.at
SUMMARY:Einführung in die Informatik (LV 703002-8 10W)
DESCRIPTION:Lehrveranstaltung 703002 10W, Gruppe 8\nTitel: Einführung in die Informatik\nOrt: SR 13\n\nhttps://lfuonline.uibk.ac.at/public/lfuonline_lv.details?sem_id_in=10W&lvnr_id_in=703002\n
CLASS:PUBLIC
DTSTART:20110117T131500Z
DTEND:20110117T150000Z
DTSTAMP:20260423T080912Z
LOCATION:SR 13
END:VEVENT
BEGIN:VEVENT
UID:10W_703002_1432488@uibk.ac.at
ORGANIZER;CN="LFU:online Universität Innsbruck":MAILTO:Uni-Innsbruck-noreply@uibk.ac.at
SUMMARY:Einführung in die Informatik (LV 703002-8 10W)
DESCRIPTION:Lehrveranstaltung 703002 10W, Gruppe 8\nTitel: Einführung in die Informatik\nOrt: SR 13\n\nhttps://lfuonline.uibk.ac.at/public/lfuonline_lv.details?sem_id_in=10W&lvnr_id_in=703002\n
CLASS:PUBLIC
DTSTART:20110124T131500Z
DTEND:20110124T150000Z
DTSTAMP:20260423T080912Z
LOCATION:SR 13
END:VEVENT
BEGIN:VEVENT
UID:10W_703002_1432489@uibk.ac.at
ORGANIZER;CN="LFU:online Universität Innsbruck":MAILTO:Uni-Innsbruck-noreply@uibk.ac.at
SUMMARY:Einführung in die Informatik (LV 703002-8 10W)
DESCRIPTION:Lehrveranstaltung 703002 10W, Gruppe 8\nTitel: Einführung in die Informatik\nOrt: SR 13\n\nhttps://lfuonline.uibk.ac.at/public/lfuonline_lv.details?sem_id_in=10W&lvnr_id_in=703002\n
CLASS:PUBLIC
DTSTART:20110131T131500Z
DTEND:20110131T150000Z
DTSTAMP:20260423T080912Z
LOCATION:SR 13
END:VEVENT
END:VCALENDAR